BEGIN:VCALENDAR
VERSION:2.0
PRODID:-//Farm School on Los Rios Street | San Juan Capistrano, CA - ECPv6.15.20//NONSGML v1.0//EN
CALSCALE:GREGORIAN
METHOD:PUBLISH
X-ORIGINAL-URL:https://farmschoolonlosrios.com
X-WR-CALDESC:Events for Farm School on Los Rios Street | San Juan Capistrano, CA
REFRESH-INTERVAL;VALUE=DURATION:PT1H
X-Robots-Tag:noindex
X-PUBLISHED-TTL:PT1H
BEGIN:VTIMEZONE
TZID:America/Los_Angeles
BEGIN:DAYLIGHT
TZOFFSETFROM:-0800
TZOFFSETTO:-0700
TZNAME:PDT
DTSTART:20170312T100000
END:DAYLIGHT
BEGIN:STANDARD
TZOFFSETFROM:-0700
TZOFFSETTO:-0800
TZNAME:PST
DTSTART:20171105T090000
END:STANDARD
BEGIN:DAYLIGHT
TZOFFSETFROM:-0800
TZOFFSETTO:-0700
TZNAME:PDT
DTSTART:20180311T100000
END:DAYLIGHT
BEGIN:STANDARD
TZOFFSETFROM:-0700
TZOFFSETTO:-0800
TZNAME:PST
DTSTART:20181104T090000
END:STANDARD
BEGIN:DAYLIGHT
TZOFFSETFROM:-0800
TZOFFSETTO:-0700
TZNAME:PDT
DTSTART:20190310T100000
END:DAYLIGHT
BEGIN:STANDARD
TZOFFSETFROM:-0700
TZOFFSETTO:-0800
TZNAME:PST
DTSTART:20191103T090000
END:STANDARD
BEGIN:DAYLIGHT
TZOFFSETFROM:-0800
TZOFFSETTO:-0700
TZNAME:PDT
DTSTART:20200308T100000
END:DAYLIGHT
BEGIN:STANDARD
TZOFFSETFROM:-0700
TZOFFSETTO:-0800
TZNAME:PST
DTSTART:20201101T090000
END:STANDARD
END:VTIMEZONE
BEGIN:VEVENT
DTSTART;TZID=America/Los_Angeles:20190614T183000
DTEND;TZID=America/Los_Angeles:20190614T203000
DTSTAMP:20260419T163336
CREATED:20190605T204101Z
LAST-MODIFIED:20190605T204101Z
UID:1247-1560537000-1560544200@farmschoolonlosrios.com
SUMMARY:Private Event
DESCRIPTION:
URL:https://farmschoolonlosrios.com/event/private-event-17/
CATEGORIES:Private Gathering
END:VEVENT
BEGIN:VEVENT
DTSTART;TZID=America/Los_Angeles:20190613T183000
DTEND;TZID=America/Los_Angeles:20190613T203000
DTSTAMP:20260419T163336
CREATED:20190605T204014Z
LAST-MODIFIED:20190605T204014Z
UID:1245-1560450600-1560457800@farmschoolonlosrios.com
SUMMARY:Private Event
DESCRIPTION:
URL:https://farmschoolonlosrios.com/event/private-event-16/
CATEGORIES:Private Gathering
END:VEVENT
BEGIN:VEVENT
DTSTART;TZID=America/Los_Angeles:20190530T183000
DTEND;TZID=America/Los_Angeles:20190530T203000
DTSTAMP:20260419T163336
CREATED:20190430T210624Z
LAST-MODIFIED:20190430T210624Z
UID:1242-1559241000-1559248200@farmschoolonlosrios.com
SUMMARY:Bursting with Flavor
DESCRIPTION:Today’s menu includes Prosciutto & Phyllo Wrapped Asparagus\, Strawberry & Spring Greens Salad with Balsamic Vinaigrette\, Burst Tomato Penne with Salmon & Mascarpone\, and a seasonal fruit cobbler.
URL:https://farmschoolonlosrios.com/event/bursting-with-flavor/
CATEGORIES:Classes
END:VEVENT
BEGIN:VEVENT
DTSTART;TZID=America/Los_Angeles:20190517T183000
DTEND;TZID=America/Los_Angeles:20190517T213000
DTSTAMP:20260419T163336
CREATED:20190417T231311Z
LAST-MODIFIED:20190417T231311Z
UID:1237-1558117800-1558128600@farmschoolonlosrios.com
SUMMARY:Some Enchanted Evening - Date Night
DESCRIPTION:Join us with your special someone as we create a lovely menu of Oyster Scallion Watercress Soup\, Chilled Asparagus Vinaigrette\, Orzo with Lemon and Herbs\, Salmon Steaks in Orange-Lime Marinade\, and Strawberry Rhubarb Sundaes. \nPrice Per Couple
URL:https://farmschoolonlosrios.com/event/some-enchanted-evening-date-night/
CATEGORIES:Date Night
END:VEVENT
BEGIN:VEVENT
DTSTART;TZID=America/Los_Angeles:20190516T183000
DTEND;TZID=America/Los_Angeles:20190516T203000
DTSTAMP:20260419T163336
CREATED:20190417T225949Z
LAST-MODIFIED:20190417T225949Z
UID:1235-1558031400-1558038600@farmschoolonlosrios.com
SUMMARY:Warm Spring Evening
DESCRIPTION:Tonight join us as we learn to make Warm Greens and Chickpea Crostini\, Tomato & Watermelon Gazpacho with Croutons\, Linguine with Fresh Asparagus and Peas\, and a Lentil Salad with Broccoli and Feta.
URL:https://farmschoolonlosrios.com/event/warm-spring-evening/
CATEGORIES:Classes
END:VEVENT
BEGIN:VEVENT
DTSTART;TZID=America/Los_Angeles:20190511T180000
DTEND;TZID=America/Los_Angeles:20190511T210000
DTSTAMP:20260419T163336
CREATED:20190417T225438Z
LAST-MODIFIED:20190417T225438Z
UID:1233-1557597600-1557608400@farmschoolonlosrios.com
SUMMARY:Private
DESCRIPTION:
URL:https://farmschoolonlosrios.com/event/private-19/
CATEGORIES:Private Gathering
END:VEVENT
BEGIN:VEVENT
DTSTART;TZID=America/Los_Angeles:20190509T183000
DTEND;TZID=America/Los_Angeles:20190509T203000
DTSTAMP:20260419T163336
CREATED:20190417T225402Z
LAST-MODIFIED:20190417T231507Z
UID:1231-1557426600-1557433800@farmschoolonlosrios.com
SUMMARY:St. Margaret's Private
DESCRIPTION:
URL:https://farmschoolonlosrios.com/event/st-margarets/
CATEGORIES:Private Gathering
END:VEVENT
BEGIN:VEVENT
DTSTART;TZID=America/Los_Angeles:20190503T183000
DTEND;TZID=America/Los_Angeles:20190503T213000
DTSTAMP:20260419T163336
CREATED:20190417T225207Z
LAST-MODIFIED:20190417T231403Z
UID:1228-1556908200-1556919000@farmschoolonlosrios.com
SUMMARY:Cinco de Mayo - Supper Club
DESCRIPTION:Tonight we are making Mango Salsa\, Baja Fish Tacos\, Mexican Corn Salad\, Authentic Red Rice\, and  Mexican Hot Fudge Sundaes.  Ole! \nPrice Per Couple
URL:https://farmschoolonlosrios.com/event/cinco-de-mayo/
CATEGORIES:Date Night
END:VEVENT
BEGIN:VEVENT
DTSTART;TZID=America/Los_Angeles:20190502T183000
DTEND;TZID=America/Los_Angeles:20190502T203000
DTSTAMP:20260419T163336
CREATED:20190220T222927Z
LAST-MODIFIED:20190410T222535Z
UID:1211-1556821800-1556829000@farmschoolonlosrios.com
SUMMARY:Spring has Sprung
DESCRIPTION:Join us tonight as we make some of our Spring Favorites!  Crostini of Smoked Salmon\, Lemon Ricotta & Fried Capers\, Garden Pea Soup with Mushroom Creme\, Spring Lamb Chops with Garlic\, Lemon & Parsley\, and  The Farm School Orange Pound Cake with Thyme Syrup.
URL:https://farmschoolonlosrios.com/event/spring-has-sprung/
CATEGORIES:Classes
END:VEVENT
BEGIN:VEVENT
DTSTART;TZID=America/Los_Angeles:20190411T183000
DTEND;TZID=America/Los_Angeles:20190411T203000
DTSTAMP:20260419T163336
CREATED:20190314T185328Z
LAST-MODIFIED:20190314T185328Z
UID:1224-1555007400-1555014600@farmschoolonlosrios.com
SUMMARY:Private
DESCRIPTION:
URL:https://farmschoolonlosrios.com/event/private-18/
CATEGORIES:Private Gathering
END:VEVENT
BEGIN:VEVENT
DTSTART;TZID=America/Los_Angeles:20190410T183000
DTEND;TZID=America/Los_Angeles:20190410T203000
DTSTAMP:20260419T163336
CREATED:20190314T185250Z
LAST-MODIFIED:20190314T185250Z
UID:1222-1554921000-1554928200@farmschoolonlosrios.com
SUMMARY:Private
DESCRIPTION:
URL:https://farmschoolonlosrios.com/event/private-17/
CATEGORIES:Private Gathering
END:VEVENT
BEGIN:VEVENT
DTSTART;TZID=America/Los_Angeles:20190405T183000
DTEND;TZID=America/Los_Angeles:20190405T213000
DTSTAMP:20260419T163336
CREATED:20190220T224053Z
LAST-MODIFIED:20190315T165752Z
UID:1214-1554489000-1554499800@farmschoolonlosrios.com
SUMMARY:New Orleans Style - Supper Club
DESCRIPTION:Help us celebrate Mardi Gras with a menu that includes all our NOLA favorites!  Tonight’s menu includes Pimiento Cheese\, Cajun Stuffed Mushrooms\, Jambalaya\, Bayou Slaw and Bourbon Peaches with ice cream. \nPrice Per Couple
URL:https://farmschoolonlosrios.com/event/sophisticated-spring-supper-club/
CATEGORIES:Date Night
END:VEVENT
BEGIN:VEVENT
DTSTART;TZID=America/Los_Angeles:20190328T183000
DTEND;TZID=America/Los_Angeles:20190328T203000
DTSTAMP:20260419T163336
CREATED:20190220T224217Z
LAST-MODIFIED:20190220T224217Z
UID:1217-1553797800-1553805000@farmschoolonlosrios.com
SUMMARY:Private
DESCRIPTION:St. Margaret’s Part 2
URL:https://farmschoolonlosrios.com/event/private-16/
CATEGORIES:Private Gathering
END:VEVENT
BEGIN:VEVENT
DTSTART;TZID=America/Los_Angeles:20190314T183000
DTEND;TZID=America/Los_Angeles:20190314T203000
DTSTAMP:20260419T163336
CREATED:20190220T222457Z
LAST-MODIFIED:20190220T222457Z
UID:1208-1552588200-1552595400@farmschoolonlosrios.com
SUMMARY:Private
DESCRIPTION:St. Margaret’s
URL:https://farmschoolonlosrios.com/event/private-15/
CATEGORIES:Private Gathering
END:VEVENT
BEGIN:VEVENT
DTSTART;TZID=America/Los_Angeles:20190307T183000
DTEND;TZID=America/Los_Angeles:20190307T203000
DTSTAMP:20260419T163336
CREATED:20190220T222236Z
LAST-MODIFIED:20190220T222236Z
UID:1206-1551983400-1551990600@farmschoolonlosrios.com
SUMMARY:Private
DESCRIPTION:Healthy & Fit
URL:https://farmschoolonlosrios.com/event/private-14/
CATEGORIES:Private Gathering
END:VEVENT
BEGIN:VEVENT
DTSTART;TZID=America/Los_Angeles:20190301T183000
DTEND;TZID=America/Los_Angeles:20190301T213000
DTSTAMP:20260419T163336
CREATED:20190213T215857Z
LAST-MODIFIED:20190213T215857Z
UID:1195-1551465000-1551475800@farmschoolonlosrios.com
SUMMARY:Private Gathering - Mardi Gras
DESCRIPTION:
URL:https://farmschoolonlosrios.com/event/private-gathering-mardi-gras/
CATEGORIES:Private Gathering
END:VEVENT
BEGIN:VEVENT
DTSTART;TZID=America/Los_Angeles:20190228T183000
DTEND;TZID=America/Los_Angeles:20190228T203000
DTSTAMP:20260419T163336
CREATED:20181229T175124Z
LAST-MODIFIED:20181229T175124Z
UID:1192-1551378600-1551385800@farmschoolonlosrios.com
SUMMARY:Quick & Delicious
DESCRIPTION:Tonight our menu includes a Savory Dutch Baby with Herbed Ricotta & Lemon Dressed Arugula\, Sautéed Shrimp with Lemon-Basil-Caper Relish\, Swiss Chard & Chickpea Soup with Italian Sausage & Rosemary\, and Romaine with Apples\, Shaved Parmesan\, & Lemon Vinaigrette. \n 
URL:https://farmschoolonlosrios.com/event/quick-delicious-2/
CATEGORIES:Classes
END:VEVENT
BEGIN:VEVENT
DTSTART;TZID=America/Los_Angeles:20190224T153000
DTEND;TZID=America/Los_Angeles:20190224T193000
DTSTAMP:20260419T163336
CREATED:20190220T221929Z
LAST-MODIFIED:20190220T221929Z
UID:1201-1551022200-1551036600@farmschoolonlosrios.com
SUMMARY:Private
DESCRIPTION:
URL:https://farmschoolonlosrios.com/event/private-13/
CATEGORIES:Private Gathering
END:VEVENT
BEGIN:VEVENT
DTSTART;TZID=America/Los_Angeles:20190223T110000
DTEND;TZID=America/Los_Angeles:20190223T130000
DTSTAMP:20260419T163336
CREATED:20190220T221538Z
LAST-MODIFIED:20190220T221739Z
UID:1197-1550919600-1550926800@farmschoolonlosrios.com
SUMMARY:Private
DESCRIPTION:
URL:https://farmschoolonlosrios.com/event/birthday-brunch-2/
CATEGORIES:Private Gathering
END:VEVENT
BEGIN:VEVENT
DTSTART;TZID=America/Los_Angeles:20190201T183000
DTEND;TZID=America/Los_Angeles:20190201T213000
DTSTAMP:20260419T163336
CREATED:20181229T174448Z
LAST-MODIFIED:20181229T174817Z
UID:1187-1549045800-1549056600@farmschoolonlosrios.com
SUMMARY:Steak House Classics - Supper Club
DESCRIPTION:Join us this evening for a romantic dinner of Roasted Shrimp Cocktail with Spicy Dipping Sauce\, Spinach Salad with Warm Bacon Vinaigrette\, Oven Roasted Tri Tip with Red Wine & Shallot Sauce\, Garlic Mashed Potatoes and an Apple Crisp with Cinnamon Ice Cream. \nPrice per couple
URL:https://farmschoolonlosrios.com/event/steak-house-classics-supper-club/
CATEGORIES:Date Night
END:VEVENT
BEGIN:VEVENT
DTSTART;TZID=America/Los_Angeles:20190131T183000
DTEND;TZID=America/Los_Angeles:20190131T203000
DTSTAMP:20260419T163336
CREATED:20181229T173828Z
LAST-MODIFIED:20181229T173828Z
UID:1185-1548959400-1548966600@farmschoolonlosrios.com
SUMMARY:Tapas Night
DESCRIPTION:Our very Spanish menu includes our original Tortilla Española\, Gambas al Ajillo con Limon\, Montadito of Smoked Salmon & Apple Cucumber Caper Relish\, and Bacon Wrapped Dates with Manchego Cheese.  Olé!
URL:https://farmschoolonlosrios.com/event/tapas-night/
CATEGORIES:Classes
END:VEVENT
BEGIN:VEVENT
DTSTART;TZID=America/Los_Angeles:20190111T183000
DTEND;TZID=America/Los_Angeles:20190111T213000
DTSTAMP:20260419T163336
CREATED:20181229T173359Z
LAST-MODIFIED:20181229T173359Z
UID:1183-1547231400-1547242200@farmschoolonlosrios.com
SUMMARY:Farm School Classics - Supper Club
DESCRIPTION:Join us with your special someone to create those classics we all love.  Tonight’s menu includes Italian Stuffed Mushrooms\, Best Caesar Salad with Homemade Croutons\, Chicken Piccata\, a Baked Rice Pilaf and the Simplest Apple Tart! \nPrice per couple
URL:https://farmschoolonlosrios.com/event/farm-school-classics-supper-club/
CATEGORIES:Date Night
END:VEVENT
BEGIN:VEVENT
DTSTART;TZID=America/Los_Angeles:20190110T183000
DTEND;TZID=America/Los_Angeles:20190110T203000
DTSTAMP:20260419T163336
CREATED:20181229T173101Z
LAST-MODIFIED:20181229T173101Z
UID:1181-1547145000-1547152200@farmschoolonlosrios.com
SUMMARY:Winner Winner Sheet Pan Dinner
DESCRIPTION:Perfect for those wintry Southern California nights!  Our menu includes Sheet Pan Chicken with Sourdough & Bacon\, Sheet Pan Roasted Shrimp & Broccoli with Piccata Butter\, Sheet Pan Garlic & Parsley Mushrooms\, and an Arugula & Apple Salad with Shaved Parmesan.
URL:https://farmschoolonlosrios.com/event/winner-winner-sheet-pan-dinner-4/
CATEGORIES:Classes
END:VEVENT
BEGIN:VEVENT
DTSTART;TZID=America/Los_Angeles:20181220T183000
DTEND;TZID=America/Los_Angeles:20181220T203000
DTSTAMP:20260419T163336
CREATED:20180919T023639Z
LAST-MODIFIED:20181008T235823Z
UID:1146-1545330600-1545337800@farmschoolonlosrios.com
SUMMARY:Cooking Class
DESCRIPTION:Available for a private party
URL:https://farmschoolonlosrios.com/event/cooking-class-7/
CATEGORIES:Classes
END:VEVENT
BEGIN:VEVENT
DTSTART;TZID=America/Los_Angeles:20181214T183000
DTEND;TZID=America/Los_Angeles:20181214T213000
DTSTAMP:20260419T163336
CREATED:20180919T023545Z
LAST-MODIFIED:20181008T235838Z
UID:1144-1544812200-1544823000@farmschoolonlosrios.com
SUMMARY:Romantic Winter Dinner - Supper Club
DESCRIPTION:Join us with your special someone as we create a romantic winter dinner.  Our menu includes Crab & Brie stuffed Mushrooms\, Pan seared Filet Mignon with Cabernet Pan Sauce\, Roasted Brussels Sprouts with Bacon\, Cauliflower Puree\, and Molten Chocolate Baby Cakes! \nPrice Per Couple
URL:https://farmschoolonlosrios.com/event/supper-club-6/
CATEGORIES:Date Night
END:VEVENT
BEGIN:VEVENT
DTSTART;TZID=America/Los_Angeles:20181213T183000
DTEND;TZID=America/Los_Angeles:20181213T203000
DTSTAMP:20260419T163336
CREATED:20180919T023509Z
LAST-MODIFIED:20181008T235531Z
UID:1142-1544725800-1544733000@farmschoolonlosrios.com
SUMMARY:Make Ahead Christmas Brunch
DESCRIPTION:You’ll be ready for anything!  Our menu includes a Spinach\, Bacon & Gruyere Tater Tot & Egg Casserole.  Cranberry Apple French Toast Casserole.  Fruit Compote.  and Glazed Pumpkin Crumble Muffins.
URL:https://farmschoolonlosrios.com/event/cooking-class-6/
CATEGORIES:Classes
END:VEVENT
BEGIN:VEVENT
DTSTART;TZID=America/Los_Angeles:20181207T183000
DTEND;TZID=America/Los_Angeles:20181207T213000
DTSTAMP:20260419T163336
CREATED:20180919T023410Z
LAST-MODIFIED:20181008T235853Z
UID:1140-1544207400-1544218200@farmschoolonlosrios.com
SUMMARY:A Taste of Basque - Supper Club
DESCRIPTION:To celebrate the rich Basque history in San Juan Capistrano\, join us tonight as we make Toasts with P’tit Basque Cheese\, caramelized onions & Spanish Chorizo.  Also a Salad of Grilled Endive with Sun-dried Tomato Vinaigrette.  Perfectly seared Lamb Chops with a pan sauce of garlic\, lemon\, parsley & wine.  Vegetable Rice\, a classic Basque dish of medium grain rice\, bell peppers\, zucchini\, onions & tomatoes simmered with garlic\, thyme & paprika.  Finally\, La Vina de San Sebastian Baked Cheesecake. \nPrice per couple
URL:https://farmschoolonlosrios.com/event/supper-club-5/
CATEGORIES:Date Night
END:VEVENT
BEGIN:VEVENT
DTSTART;TZID=America/Los_Angeles:20181206T183000
DTEND;TZID=America/Los_Angeles:20181206T203000
DTSTAMP:20260419T163336
CREATED:20180919T023324Z
LAST-MODIFIED:20181008T234659Z
UID:1138-1544121000-1544128200@farmschoolonlosrios.com
SUMMARY:Show Stopping Desserts
DESCRIPTION:These desserts are designed to WOW at the table and are impressively easy to make!  Cranberry Pithivier\, a filling of fresh and dried cranberries with orange zest\, bourbon & vanilla encased in a gorgeous puff pastry crust.  Chocolate Gingerbread Bundt Cake with Cream Cheese Frosting\, a rich chocolate cake scented with ginger\, cinnamon & cloves.  Mile High Apple Shortbread Pie\, thinly sliced apples tossed with sugar\, brandy & cream\, nestled into a short crust and topped with a layer of sweet\, buttery crumbles.  Panettone Bread Pudding with Whipped Cream\, a classic made with Italian Christmas Bread and a sweet custard with rum & nutmeg.
URL:https://farmschoolonlosrios.com/event/cooking-class-5/
CATEGORIES:Classes
END:VEVENT
BEGIN:VEVENT
DTSTART;TZID=America/Los_Angeles:20181129T183000
DTEND;TZID=America/Los_Angeles:20181129T203000
DTSTAMP:20260419T163336
CREATED:20180928T193340Z
LAST-MODIFIED:20180928T193340Z
UID:1159-1543516200-1543523400@farmschoolonlosrios.com
SUMMARY:Holiday Hors d'oeuvers
DESCRIPTION:The holiday season is here!  Our menu tonight includes Baked Brie with Dried Blueberry-Almond-Bacon Crumble\, Smoked Salmon Croque Monsieur Tea Sandwiches\, Roasted Baby Potatoes with Creme Fraiche & Caviar\, and Tuscan Riblets.
URL:https://farmschoolonlosrios.com/event/holiday-hors-doeuvers/
CATEGORIES:Classes
END:VEVENT
BEGIN:VEVENT
DTSTART;TZID=America/Los_Angeles:20181116T183000
DTEND;TZID=America/Los_Angeles:20181116T213000
DTSTAMP:20260419T163336
CREATED:20180928T193642Z
LAST-MODIFIED:20180928T193642Z
UID:1161-1542393000-1542403800@farmschoolonlosrios.com
SUMMARY:Autumn Supper Club
DESCRIPTION:Tonight our Autumn menu includes Flatbread with Caramelized Pears\, Prosciutto & Brie\, Butternut Squash Bisque Shooters with Orange-Ginger Creme Fraiche\, Maple Mustard Pork Tenderloin\, Thyme & Lemon Roasted Brussels Sprouts with Pecans\, and a Pumpkin Pound Cake with Browned Butter Glaze. \nPrice Per Couple
URL:https://farmschoolonlosrios.com/event/autumn-supper-club/
CATEGORIES:Date Night
END:VEVENT
END:VCALENDAR