BEGIN:VCALENDAR
VERSION:2.0
PRODID:-//Farm School on Los Rios Street | San Juan Capistrano, CA - ECPv6.15.20//NONSGML v1.0//EN
CALSCALE:GREGORIAN
METHOD:PUBLISH
X-WR-CALNAME:Farm School on Los Rios Street | San Juan Capistrano, CA
X-ORIGINAL-URL:https://farmschoolonlosrios.com
X-WR-CALDESC:Events for Farm School on Los Rios Street | San Juan Capistrano, CA
REFRESH-INTERVAL;VALUE=DURATION:PT1H
X-Robots-Tag:noindex
X-PUBLISHED-TTL:PT1H
BEGIN:VTIMEZONE
TZID:America/Los_Angeles
BEGIN:DAYLIGHT
TZOFFSETFROM:-0800
TZOFFSETTO:-0700
TZNAME:PDT
DTSTART:20180311T100000
END:DAYLIGHT
BEGIN:STANDARD
TZOFFSETFROM:-0700
TZOFFSETTO:-0800
TZNAME:PST
DTSTART:20181104T090000
END:STANDARD
BEGIN:DAYLIGHT
TZOFFSETFROM:-0800
TZOFFSETTO:-0700
TZNAME:PDT
DTSTART:20190310T100000
END:DAYLIGHT
BEGIN:STANDARD
TZOFFSETFROM:-0700
TZOFFSETTO:-0800
TZNAME:PST
DTSTART:20191103T090000
END:STANDARD
BEGIN:DAYLIGHT
TZOFFSETFROM:-0800
TZOFFSETTO:-0700
TZNAME:PDT
DTSTART:20200308T100000
END:DAYLIGHT
BEGIN:STANDARD
TZOFFSETFROM:-0700
TZOFFSETTO:-0800
TZNAME:PST
DTSTART:20201101T090000
END:STANDARD
END:VTIMEZONE
BEGIN:VEVENT
DTSTART;TZID=America/Los_Angeles:20191026T150000
DTEND;TZID=America/Los_Angeles:20191026T180000
DTSTAMP:20260419T130524
CREATED:20190927T224321Z
LAST-MODIFIED:20190927T224321Z
UID:1306-1572102000-1572112800@farmschoolonlosrios.com
SUMMARY:Private Gathering
DESCRIPTION:75th Birthday
URL:https://farmschoolonlosrios.com/event/private-gathering-34/
CATEGORIES:Private Gathering
END:VEVENT
BEGIN:VEVENT
DTSTART;TZID=America/Los_Angeles:20191024T183000
DTEND;TZID=America/Los_Angeles:20191024T203000
DTSTAMP:20260419T130524
CREATED:20190927T224229Z
LAST-MODIFIED:20190927T224229Z
UID:1304-1571941800-1571949000@farmschoolonlosrios.com
SUMMARY:Private Gathering
DESCRIPTION:St. John’s Moms
URL:https://farmschoolonlosrios.com/event/private-gathering-33/
CATEGORIES:Private Gathering
END:VEVENT
BEGIN:VEVENT
DTSTART;TZID=America/Los_Angeles:20191018T183000
DTEND;TZID=America/Los_Angeles:20191018T213000
DTSTAMP:20260419T130524
CREATED:20190927T224152Z
LAST-MODIFIED:20190927T224152Z
UID:1302-1571423400-1571434200@farmschoolonlosrios.com
SUMMARY:Private Gathering
DESCRIPTION:
URL:https://farmschoolonlosrios.com/event/private-gathering-32/
CATEGORIES:Private Gathering
END:VEVENT
BEGIN:VEVENT
DTSTART;TZID=America/Los_Angeles:20191016T183000
DTEND;TZID=America/Los_Angeles:20191016T203000
DTSTAMP:20260419T130524
CREATED:20190927T224040Z
LAST-MODIFIED:20190927T224040Z
UID:1300-1571250600-1571257800@farmschoolonlosrios.com
SUMMARY:Private Gathering
DESCRIPTION:Lady Lions
URL:https://farmschoolonlosrios.com/event/private-gathering-31/
CATEGORIES:Private Gathering
END:VEVENT
BEGIN:VEVENT
DTSTART;TZID=America/Los_Angeles:20191015T183000
DTEND;TZID=America/Los_Angeles:20191015T203000
DTSTAMP:20260419T130524
CREATED:20190927T224003Z
LAST-MODIFIED:20190927T224003Z
UID:1298-1571164200-1571171400@farmschoolonlosrios.com
SUMMARY:Private Gathering
DESCRIPTION:Lady Lions
URL:https://farmschoolonlosrios.com/event/private-gathering-30/
CATEGORIES:Private Gathering
END:VEVENT
BEGIN:VEVENT
DTSTART;TZID=America/Los_Angeles:20191005T180000
DTEND;TZID=America/Los_Angeles:20191005T210000
DTSTAMP:20260419T130524
CREATED:20190927T223922Z
LAST-MODIFIED:20190927T223922Z
UID:1296-1570298400-1570309200@farmschoolonlosrios.com
SUMMARY:Vintage Food & Wine
DESCRIPTION:Join us at the San Juan Capistrano Mission
URL:https://farmschoolonlosrios.com/event/vintage-food-wine/
CATEGORIES:Special Event
END:VEVENT
BEGIN:VEVENT
DTSTART;TZID=America/Los_Angeles:20190928T180000
DTEND;TZID=America/Los_Angeles:20190928T210000
DTSTAMP:20260419T130524
CREATED:20190927T223802Z
LAST-MODIFIED:20190927T223802Z
UID:1294-1569693600-1569704400@farmschoolonlosrios.com
SUMMARY:Private Gathering
DESCRIPTION:
URL:https://farmschoolonlosrios.com/event/private-gathering-26/
CATEGORIES:Private Gathering
END:VEVENT
BEGIN:VEVENT
DTSTART;TZID=America/Los_Angeles:20190822T183000
DTEND;TZID=America/Los_Angeles:20190822T203000
DTSTAMP:20260419T130524
CREATED:20190614T210732Z
LAST-MODIFIED:20190614T210841Z
UID:1277-1566498600-1566505800@farmschoolonlosrios.com
SUMMARY:Hot Summer Nights
DESCRIPTION:This evening our menu includes Broccoli & Chive stuffed Mini Peppers\, Smokey Roasted Chicken Thighs with Honey Glaze\, Israeli Couscous Salad with Spinach & Roasted Bell Peppers\, and Corn Muffins with Fresh Corn and Honey whipped Mascarpone.
URL:https://farmschoolonlosrios.com/event/hot-summer-nights/
CATEGORIES:Classes
END:VEVENT
BEGIN:VEVENT
DTSTART;TZID=America/Los_Angeles:20190816T183000
DTEND;TZID=America/Los_Angeles:20190816T213000
DTSTAMP:20260419T130524
CREATED:20190614T212001Z
LAST-MODIFIED:20190716T000217Z
UID:1279-1565980200-1565991000@farmschoolonlosrios.com
SUMMARY:Grilling Goodness - Supper Club
DESCRIPTION:Bring a friend and join us for some grilling goodness!  We start with Avocados filled with Grilled Salsa & Crumbled Cotija\, Grilled Romaine Halves with Creamy Italian Dressing\, Herb Rubbed & Grilled Tri Tip\, Roasted Potatoes with Lemon Oil\, and Honey & Balsamic Caramelized Peaches with Vanilla Ice Cream. \nPrice Per Couple
URL:https://farmschoolonlosrios.com/event/grilling-goodness-supper-club/
CATEGORIES:Date Night
END:VEVENT
BEGIN:VEVENT
DTSTART;TZID=America/Los_Angeles:20190815T183000
DTEND;TZID=America/Los_Angeles:20190815T203000
DTSTAMP:20260419T130524
CREATED:20190618T183051Z
LAST-MODIFIED:20190618T183051Z
UID:1286-1565893800-1565901000@farmschoolonlosrios.com
SUMMARY:Southern Summertime Classics
DESCRIPTION:
URL:https://farmschoolonlosrios.com/event/southern-summertime-classics/
CATEGORIES:Classes
END:VEVENT
BEGIN:VEVENT
DTSTART;TZID=America/Los_Angeles:20190809T183000
DTEND;TZID=America/Los_Angeles:20190809T213000
DTSTAMP:20260419T130524
CREATED:20190618T182928Z
LAST-MODIFIED:20190716T224943Z
UID:1284-1565375400-1565386200@farmschoolonlosrios.com
SUMMARY:South of the Border - Supper Club
DESCRIPTION:Our Colorful South of the Border menu includes many of Frida Kahlo’s Favorites!  Chipotle Shrimp Cocktail\, Grilled Fish Tacos\, Mango Salsa\, Frida Kahlo’s Zucchini Salad and Mexican Hot Fudge Sundaes.
URL:https://farmschoolonlosrios.com/event/frida-kahlos-fiesta-supper-club/
CATEGORIES:Date Night
END:VEVENT
BEGIN:VEVENT
DTSTART;TZID=America/Los_Angeles:20190808T183000
DTEND;TZID=America/Los_Angeles:20190808T203000
DTSTAMP:20260419T130524
CREATED:20190613T205117Z
LAST-MODIFIED:20190613T205117Z
UID:1273-1565289000-1565296200@farmschoolonlosrios.com
SUMMARY:Summer Small Plates
DESCRIPTION:Tonight our menu includes Chilled Gazpacho Shooters\, Old-fashioned Chicken Salad stuffed Cherry Tomatoes\, Zucchini Fritters with Herbed Yogurt\, Watermelon Caprese Skewers with Balsamic Glaze\, and Miniature chocolate Chip Cannoli Cups.
URL:https://farmschoolonlosrios.com/event/summer-small-plates-3/
CATEGORIES:Classes
END:VEVENT
BEGIN:VEVENT
DTSTART;TZID=America/Los_Angeles:20190719T183000
DTEND;TZID=America/Los_Angeles:20190719T213000
DTSTAMP:20260419T130524
CREATED:20190605T211458Z
LAST-MODIFIED:20190605T211458Z
UID:1266-1563561000-1563571800@farmschoolonlosrios.com
SUMMARY:Summer Grilling Fun
DESCRIPTION:Join us under the lights for some summer grilling fun. Our menu includes a Grilled Tomato & Avocado Crostini\, a Lemon Garlic Marinated Flank Steak\, Smashed Cucumbers with Smoked Paprika & Chilies\, a 3-Cheese Grilled Baked Potato with Spinach & artichokes\, and a Plum Galette with Cinnamon & Honey whipped Ricotta.
URL:https://farmschoolonlosrios.com/event/summer-grilling-fun/
CATEGORIES:Date Night
END:VEVENT
BEGIN:VEVENT
DTSTART;TZID=America/Los_Angeles:20190712T170000
DTEND;TZID=America/Los_Angeles:20190712T200000
DTSTAMP:20260419T130524
CREATED:20190605T210620Z
LAST-MODIFIED:20190605T210620Z
UID:1261-1562950800-1562961600@farmschoolonlosrios.com
SUMMARY:Private Event
DESCRIPTION:
URL:https://farmschoolonlosrios.com/event/private-event-22/
CATEGORIES:Private Gathering
END:VEVENT
BEGIN:VEVENT
DTSTART;TZID=America/Los_Angeles:20190711T183000
DTEND;TZID=America/Los_Angeles:20190711T203000
DTSTAMP:20260419T130524
CREATED:20190618T182515Z
LAST-MODIFIED:20190618T182515Z
UID:1282-1562869800-1562877000@farmschoolonlosrios.com
SUMMARY:Celebrating the Tomato
DESCRIPTION:Tonight for our menu we have Burrata with Grilled Grapes & Basil\, Nectarine & Tomato Salad with Feta & Herbs\, Fettuccine & Spiced Cherry Tomato Sauce\, Chicken Cacciatore.
URL:https://farmschoolonlosrios.com/event/celebrating-the-tomato-2/
CATEGORIES:Classes
END:VEVENT
BEGIN:VEVENT
DTSTART;TZID=America/Los_Angeles:20190629T180000
DTEND;TZID=America/Los_Angeles:20190629T210000
DTSTAMP:20260419T130524
CREATED:20190605T210159Z
LAST-MODIFIED:20190605T210159Z
UID:1256-1561831200-1561842000@farmschoolonlosrios.com
SUMMARY:Private Event
DESCRIPTION:
URL:https://farmschoolonlosrios.com/event/private-event-21/
CATEGORIES:Private Gathering
END:VEVENT
BEGIN:VEVENT
DTSTART;TZID=America/Los_Angeles:20190628T183000
DTEND;TZID=America/Los_Angeles:20190628T213000
DTSTAMP:20260419T130524
CREATED:20190605T204312Z
LAST-MODIFIED:20190605T210046Z
UID:1253-1561746600-1561757400@farmschoolonlosrios.com
SUMMARY:Private Event
DESCRIPTION:
URL:https://farmschoolonlosrios.com/event/private-event-20/
CATEGORIES:Private Gathering
END:VEVENT
BEGIN:VEVENT
DTSTART;TZID=America/Los_Angeles:20190621T183000
DTEND;TZID=America/Los_Angeles:20190621T203000
DTSTAMP:20260419T130524
CREATED:20190605T204210Z
LAST-MODIFIED:20190605T204210Z
UID:1251-1561141800-1561149000@farmschoolonlosrios.com
SUMMARY:Private Event
DESCRIPTION:
URL:https://farmschoolonlosrios.com/event/private-event-19/
CATEGORIES:Private Gathering
END:VEVENT
BEGIN:VEVENT
DTSTART;TZID=America/Los_Angeles:20190620T183000
DTEND;TZID=America/Los_Angeles:20190620T203000
DTSTAMP:20260419T130524
CREATED:20190605T210535Z
LAST-MODIFIED:20190605T210535Z
UID:1259-1561055400-1561062600@farmschoolonlosrios.com
SUMMARY:Easy Breezy Summer Supper
DESCRIPTION:Tonight our menu includes Make Ahead Antipasto Skewers\, Chicken & Sausages with Sweet Cherry Peppers\, Summer Green Bean Salad and a Fresh Peach Upside Down Cake.
URL:https://farmschoolonlosrios.com/event/easy-breezy-summer-supper/
CATEGORIES:Classes
END:VEVENT
BEGIN:VEVENT
DTSTART;TZID=America/Los_Angeles:20190617T183000
DTEND;TZID=America/Los_Angeles:20190617T203000
DTSTAMP:20260419T130524
CREATED:20190605T204143Z
LAST-MODIFIED:20190605T204143Z
UID:1249-1560796200-1560803400@farmschoolonlosrios.com
SUMMARY:Private Event
DESCRIPTION:
URL:https://farmschoolonlosrios.com/event/private-event-18/
CATEGORIES:Private Gathering
END:VEVENT
BEGIN:VEVENT
DTSTART;TZID=America/Los_Angeles:20190614T183000
DTEND;TZID=America/Los_Angeles:20190614T203000
DTSTAMP:20260419T130524
CREATED:20190605T204101Z
LAST-MODIFIED:20190605T204101Z
UID:1247-1560537000-1560544200@farmschoolonlosrios.com
SUMMARY:Private Event
DESCRIPTION:
URL:https://farmschoolonlosrios.com/event/private-event-17/
CATEGORIES:Private Gathering
END:VEVENT
BEGIN:VEVENT
DTSTART;TZID=America/Los_Angeles:20190613T183000
DTEND;TZID=America/Los_Angeles:20190613T203000
DTSTAMP:20260419T130524
CREATED:20190605T204014Z
LAST-MODIFIED:20190605T204014Z
UID:1245-1560450600-1560457800@farmschoolonlosrios.com
SUMMARY:Private Event
DESCRIPTION:
URL:https://farmschoolonlosrios.com/event/private-event-16/
CATEGORIES:Private Gathering
END:VEVENT
BEGIN:VEVENT
DTSTART;TZID=America/Los_Angeles:20190530T183000
DTEND;TZID=America/Los_Angeles:20190530T203000
DTSTAMP:20260419T130524
CREATED:20190430T210624Z
LAST-MODIFIED:20190430T210624Z
UID:1242-1559241000-1559248200@farmschoolonlosrios.com
SUMMARY:Bursting with Flavor
DESCRIPTION:Today’s menu includes Prosciutto & Phyllo Wrapped Asparagus\, Strawberry & Spring Greens Salad with Balsamic Vinaigrette\, Burst Tomato Penne with Salmon & Mascarpone\, and a seasonal fruit cobbler.
URL:https://farmschoolonlosrios.com/event/bursting-with-flavor/
CATEGORIES:Classes
END:VEVENT
BEGIN:VEVENT
DTSTART;TZID=America/Los_Angeles:20190517T183000
DTEND;TZID=America/Los_Angeles:20190517T213000
DTSTAMP:20260419T130524
CREATED:20190417T231311Z
LAST-MODIFIED:20190417T231311Z
UID:1237-1558117800-1558128600@farmschoolonlosrios.com
SUMMARY:Some Enchanted Evening - Date Night
DESCRIPTION:Join us with your special someone as we create a lovely menu of Oyster Scallion Watercress Soup\, Chilled Asparagus Vinaigrette\, Orzo with Lemon and Herbs\, Salmon Steaks in Orange-Lime Marinade\, and Strawberry Rhubarb Sundaes. \nPrice Per Couple
URL:https://farmschoolonlosrios.com/event/some-enchanted-evening-date-night/
CATEGORIES:Date Night
END:VEVENT
BEGIN:VEVENT
DTSTART;TZID=America/Los_Angeles:20190516T183000
DTEND;TZID=America/Los_Angeles:20190516T203000
DTSTAMP:20260419T130524
CREATED:20190417T225949Z
LAST-MODIFIED:20190417T225949Z
UID:1235-1558031400-1558038600@farmschoolonlosrios.com
SUMMARY:Warm Spring Evening
DESCRIPTION:Tonight join us as we learn to make Warm Greens and Chickpea Crostini\, Tomato & Watermelon Gazpacho with Croutons\, Linguine with Fresh Asparagus and Peas\, and a Lentil Salad with Broccoli and Feta.
URL:https://farmschoolonlosrios.com/event/warm-spring-evening/
CATEGORIES:Classes
END:VEVENT
BEGIN:VEVENT
DTSTART;TZID=America/Los_Angeles:20190511T180000
DTEND;TZID=America/Los_Angeles:20190511T210000
DTSTAMP:20260419T130524
CREATED:20190417T225438Z
LAST-MODIFIED:20190417T225438Z
UID:1233-1557597600-1557608400@farmschoolonlosrios.com
SUMMARY:Private
DESCRIPTION:
URL:https://farmschoolonlosrios.com/event/private-19/
CATEGORIES:Private Gathering
END:VEVENT
BEGIN:VEVENT
DTSTART;TZID=America/Los_Angeles:20190509T183000
DTEND;TZID=America/Los_Angeles:20190509T203000
DTSTAMP:20260419T130524
CREATED:20190417T225402Z
LAST-MODIFIED:20190417T231507Z
UID:1231-1557426600-1557433800@farmschoolonlosrios.com
SUMMARY:St. Margaret's Private
DESCRIPTION:
URL:https://farmschoolonlosrios.com/event/st-margarets/
CATEGORIES:Private Gathering
END:VEVENT
BEGIN:VEVENT
DTSTART;TZID=America/Los_Angeles:20190503T183000
DTEND;TZID=America/Los_Angeles:20190503T213000
DTSTAMP:20260419T130524
CREATED:20190417T225207Z
LAST-MODIFIED:20190417T231403Z
UID:1228-1556908200-1556919000@farmschoolonlosrios.com
SUMMARY:Cinco de Mayo - Supper Club
DESCRIPTION:Tonight we are making Mango Salsa\, Baja Fish Tacos\, Mexican Corn Salad\, Authentic Red Rice\, and  Mexican Hot Fudge Sundaes.  Ole! \nPrice Per Couple
URL:https://farmschoolonlosrios.com/event/cinco-de-mayo/
CATEGORIES:Date Night
END:VEVENT
BEGIN:VEVENT
DTSTART;TZID=America/Los_Angeles:20190502T183000
DTEND;TZID=America/Los_Angeles:20190502T203000
DTSTAMP:20260419T130524
CREATED:20190220T222927Z
LAST-MODIFIED:20190410T222535Z
UID:1211-1556821800-1556829000@farmschoolonlosrios.com
SUMMARY:Spring has Sprung
DESCRIPTION:Join us tonight as we make some of our Spring Favorites!  Crostini of Smoked Salmon\, Lemon Ricotta & Fried Capers\, Garden Pea Soup with Mushroom Creme\, Spring Lamb Chops with Garlic\, Lemon & Parsley\, and  The Farm School Orange Pound Cake with Thyme Syrup.
URL:https://farmschoolonlosrios.com/event/spring-has-sprung/
CATEGORIES:Classes
END:VEVENT
BEGIN:VEVENT
DTSTART;TZID=America/Los_Angeles:20190411T183000
DTEND;TZID=America/Los_Angeles:20190411T203000
DTSTAMP:20260419T130524
CREATED:20190314T185328Z
LAST-MODIFIED:20190314T185328Z
UID:1224-1555007400-1555014600@farmschoolonlosrios.com
SUMMARY:Private
DESCRIPTION:
URL:https://farmschoolonlosrios.com/event/private-18/
CATEGORIES:Private Gathering
END:VEVENT
END:VCALENDAR