BEGIN:VCALENDAR
VERSION:2.0
PRODID:-//Farm School on Los Rios Street | San Juan Capistrano, CA - ECPv6.15.20//NONSGML v1.0//EN
CALSCALE:GREGORIAN
METHOD:PUBLISH
X-WR-CALNAME:Farm School on Los Rios Street | San Juan Capistrano, CA
X-ORIGINAL-URL:https://farmschoolonlosrios.com
X-WR-CALDESC:Events for Farm School on Los Rios Street | San Juan Capistrano, CA
REFRESH-INTERVAL;VALUE=DURATION:PT1H
X-Robots-Tag:noindex
X-PUBLISHED-TTL:PT1H
BEGIN:VTIMEZONE
TZID:America/Los_Angeles
BEGIN:DAYLIGHT
TZOFFSETFROM:-0800
TZOFFSETTO:-0700
TZNAME:PDT
DTSTART:20120311T100000
END:DAYLIGHT
BEGIN:STANDARD
TZOFFSETFROM:-0700
TZOFFSETTO:-0800
TZNAME:PST
DTSTART:20121104T090000
END:STANDARD
BEGIN:DAYLIGHT
TZOFFSETFROM:-0800
TZOFFSETTO:-0700
TZNAME:PDT
DTSTART:20130310T100000
END:DAYLIGHT
BEGIN:STANDARD
TZOFFSETFROM:-0700
TZOFFSETTO:-0800
TZNAME:PST
DTSTART:20131103T090000
END:STANDARD
BEGIN:DAYLIGHT
TZOFFSETFROM:-0800
TZOFFSETTO:-0700
TZNAME:PDT
DTSTART:20140309T100000
END:DAYLIGHT
BEGIN:STANDARD
TZOFFSETFROM:-0700
TZOFFSETTO:-0800
TZNAME:PST
DTSTART:20141102T090000
END:STANDARD
BEGIN:DAYLIGHT
TZOFFSETFROM:-0800
TZOFFSETTO:-0700
TZNAME:PDT
DTSTART:20150308T100000
END:DAYLIGHT
BEGIN:STANDARD
TZOFFSETFROM:-0700
TZOFFSETTO:-0800
TZNAME:PST
DTSTART:20151101T090000
END:STANDARD
END:VTIMEZONE
BEGIN:VEVENT
DTSTART;TZID=America/Los_Angeles:20140410T183000
DTEND;TZID=America/Los_Angeles:20140410T203000
DTSTAMP:20260425T191638
CREATED:20140306T022527Z
LAST-MODIFIED:20140306T022527Z
UID:373-1397154600-1397161800@farmschoolonlosrios.com
SUMMARY:Spring Bounty
DESCRIPTION:Our menu this evening includes Roasted Whole Artichokes with Lemon and Garlic\, Broiled Asparagus Sub Sandwiches with Smoky French Dressing\, Fresh Pea Soup and a Strawberry Rhubarb Crisp.
URL:https://farmschoolonlosrios.com/event/spring-bounty/
CATEGORIES:Classes
END:VEVENT
BEGIN:VEVENT
DTSTART;TZID=America/Los_Angeles:20140408T180000
DTEND;TZID=America/Los_Angeles:20140408T203000
DTSTAMP:20260425T191638
CREATED:20140406T195144Z
LAST-MODIFIED:20140406T195144Z
UID:393-1396980000-1396989000@farmschoolonlosrios.com
SUMMARY:Private Party
DESCRIPTION:
URL:https://farmschoolonlosrios.com/event/private-party-3/
CATEGORIES:Private Gathering
END:VEVENT
BEGIN:VEVENT
DTSTART;TZID=America/Los_Angeles:20140406T100000
DTEND;TZID=America/Los_Angeles:20140406T120000
DTSTAMP:20260425T191638
CREATED:20140314T012303Z
LAST-MODIFIED:20140314T012303Z
UID:381-1396778400-1396785600@farmschoolonlosrios.com
SUMMARY:Children's Cooking Class
DESCRIPTION:Join guest chef Miss Iumi for a children’s cooking class.  Our menu includes \nLemon Parmesan Pasta\, Panzanella Salad and Mixed Berry Crostata.  Space is limited.
URL:https://farmschoolonlosrios.com/event/childrens-cooking-class-5/
CATEGORIES:Classes
END:VEVENT
BEGIN:VEVENT
DTSTART;TZID=America/Los_Angeles:20140404T183000
DTEND;TZID=America/Los_Angeles:20140404T213000
DTSTAMP:20260425T191638
CREATED:20140306T022227Z
LAST-MODIFIED:20140306T022227Z
UID:372-1396636200-1396647000@farmschoolonlosrios.com
SUMMARY:Herb Garden Cooking
DESCRIPTION:Fresh herbs from the Farm School’s own kitchen garden are featured tonight.  Our menu includes Fresh Tomato Basil Tart\, Thyme Roasted Chicken\, Glazed Carrots with Tarragon\, Parsley Roasted Fingerling Potatoes and Strawberries with Mint Whipped Cream.  Priced per couple.
URL:https://farmschoolonlosrios.com/event/herb-garden-cooking/
CATEGORIES:Date Night
END:VEVENT
BEGIN:VEVENT
DTSTART;TZID=America/Los_Angeles:20140403T183000
DTEND;TZID=America/Los_Angeles:20140403T203000
DTSTAMP:20260425T191638
CREATED:20140306T021443Z
LAST-MODIFIED:20140306T021443Z
UID:371-1396549800-1396557000@farmschoolonlosrios.com
SUMMARY:Spring Pastas
DESCRIPTION:Fresh and lively!  Join us this evening and learn to create Pasta with Spring Herbs\, Penne with Shrimp\, Feta and Spring Vegetables\, a classic Primavera and a Pappardelle with Arugula & Prosciutto.
URL:https://farmschoolonlosrios.com/event/spring-pastas/
CATEGORIES:Classes
END:VEVENT
BEGIN:VEVENT
DTSTART;TZID=America/Los_Angeles:20140327T183000
DTEND;TZID=America/Los_Angeles:20140327T203000
DTSTAMP:20260425T191638
CREATED:20140122T094931Z
LAST-MODIFIED:20140305T015732Z
UID:353-1395945000-1395952200@farmschoolonlosrios.com
SUMMARY:Flavors of Mexico - Class full
DESCRIPTION:Tonight’s menu includes Strawberry Pico de Gallo\, Avocado\, Orange and Jicama Salad\, White Chicken Enchiladas and Mexican Hot Fudge Sundaes.
URL:https://farmschoolonlosrios.com/event/flavors-mexico/
LOCATION:Farm School on Los Rios
CATEGORIES:Classes
END:VEVENT
BEGIN:VEVENT
DTSTART;TZID=America/Los_Angeles:20140321T183000
DTEND;TZID=America/Los_Angeles:20140321T213000
DTSTAMP:20260425T191638
CREATED:20140122T095345Z
LAST-MODIFIED:20140204T093719Z
UID:355-1395426600-1395437400@farmschoolonlosrios.com
SUMMARY:Great American Steakhouse
DESCRIPTION:The menu includes Sausage Stuffed Mushrooms\, Charred Green Beans with Lemon and Pine Nuts\, Prosciutto & Wild Mushroom Stuffed Flank Steak\, Roasted Garlic Mashed Potatoes and Chocolate Chess Pie.
URL:https://farmschoolonlosrios.com/event/great-american-steakhouse/
LOCATION:Farm School on Los Rios
CATEGORIES:Date Night
END:VEVENT
BEGIN:VEVENT
DTSTART;TZID=America/Los_Angeles:20140320T183000
DTEND;TZID=America/Los_Angeles:20140320T203000
DTSTAMP:20260425T191638
CREATED:20140122T094836Z
LAST-MODIFIED:20140204T094712Z
UID:352-1395340200-1395347400@farmschoolonlosrios.com
SUMMARY:Hors d'oeuvres
DESCRIPTION:Tonight we create Sea Scallop BLTs\, Baked Brie with Fig Preserves\, Roasted Prosciutto Wrapped Asparagus and Endive with Honey Roasted Walnuts\, Oranges and Crumbled Goat Cheese.
URL:https://farmschoolonlosrios.com/event/hors-doeuvres-2/
LOCATION:Farm School on Los Rios
CATEGORIES:Classes
END:VEVENT
BEGIN:VEVENT
DTSTART;TZID=America/Los_Angeles:20140313T183000
DTEND;TZID=America/Los_Angeles:20140313T203000
DTSTAMP:20260425T191638
CREATED:20140122T094624Z
LAST-MODIFIED:20140204T094833Z
UID:351-1394735400-1394742600@farmschoolonlosrios.com
SUMMARY:Luck of the Irish
DESCRIPTION:A Quick Irish Soda Bread\, Corned Beef and Cabbage Rolls\, Grated Carrot Salad and Guinness Chocolate Cupcakes with Chocolate Ganache & Bailey’s Buttercream.
URL:https://farmschoolonlosrios.com/event/luck-irish/
LOCATION:Farm School on Los Rios
CATEGORIES:Classes
END:VEVENT
BEGIN:VEVENT
DTSTART;TZID=America/Los_Angeles:20140307T183000
DTEND;TZID=America/Los_Angeles:20140307T213000
DTSTAMP:20260425T191638
CREATED:20140122T095136Z
LAST-MODIFIED:20140204T095126Z
UID:354-1394217000-1394227800@farmschoolonlosrios.com
SUMMARY:Destination: Spain
DESCRIPTION:Enjoy Spicy Warmed Olives\, Tortilla Espanola\, Ensalada Mista\, Seafood Paella and a Classic Flan.
URL:https://farmschoolonlosrios.com/event/destination-spain/
LOCATION:Farm School on Los Rios
CATEGORIES:Date Night
END:VEVENT
BEGIN:VEVENT
DTSTART;TZID=America/Los_Angeles:20140306T183000
DTEND;TZID=America/Los_Angeles:20140306T203000
DTSTAMP:20260425T191638
CREATED:20140122T094459Z
LAST-MODIFIED:20140204T094540Z
UID:350-1394130600-1394137800@farmschoolonlosrios.com
SUMMARY:Spring Cuisine
DESCRIPTION:Our menu includes Balsamic Strawberry & Goat Cheese Crostini\, Pasta with Burst Tomatoes\, Mascarpone & Salmon\, Roasted Asparagus with Lemon Shallot Vinaigrette and Lemon Coconut Bars.
URL:https://farmschoolonlosrios.com/event/spring-cuisine/
LOCATION:Farm School on Los Rios
CATEGORIES:Classes
END:VEVENT
BEGIN:VEVENT
DTSTART;TZID=America/Los_Angeles:20140227T063000
DTEND;TZID=America/Los_Angeles:20140227T203000
DTSTAMP:20260425T191638
CREATED:20140114T084249Z
LAST-MODIFIED:20140114T084249Z
UID:348-1393482600-1393533000@farmschoolonlosrios.com
SUMMARY:Chicken Three Ways
DESCRIPTION:Join us and learn how to cook three classic chicken dishes\, Marsala\, Parmesan\, and Picatta with surprising ease.  Also\, the World’s Best Cesar Salad
URL:https://farmschoolonlosrios.com/event/chicken-three-ways/
LOCATION:Farm School on Los Rios
CATEGORIES:Classes
END:VEVENT
BEGIN:VEVENT
DTSTART;TZID=America/Los_Angeles:20140221T183000
DTEND;TZID=America/Los_Angeles:20140221T213000
DTSTAMP:20260425T191638
CREATED:20140111T085946Z
LAST-MODIFIED:20140111T085946Z
UID:342-1393007400-1393018200@farmschoolonlosrios.com
SUMMARY:Love Italian Style
DESCRIPTION:Come share a romantic evening of cooking and Amore.  Italian Sausage Stuffed Mushrooms\, Spinach Salad with Citrus and Roasted Beets\, Chicken Saltimbocca\, Angel Hair Pasta and Chocolate Mousse.  Price per couple.
URL:https://farmschoolonlosrios.com/event/love-italian-style/
LOCATION:Farm School on Los Rios
CATEGORIES:Date Night
END:VEVENT
BEGIN:VEVENT
DTSTART;TZID=America/Los_Angeles:20140220T183000
DTEND;TZID=America/Los_Angeles:20140220T203000
DTSTAMP:20260425T191638
CREATED:20140111T090358Z
LAST-MODIFIED:20140204T071309Z
UID:344-1392921000-1392928200@farmschoolonlosrios.com
SUMMARY:Warm Winter Favorites
DESCRIPTION:Join us in our warm and cozy kitchen as we learn to cook Ginger Ale Braised Pork Chops\, Warm Artichoke and Roasted Garlic Dip\, Wild and Brown Rice Casserole and Julienned Vegetable Bundles. \nClass Full 🙂
URL:https://farmschoolonlosrios.com/event/warm-winter-favorites/
LOCATION:Farm School on Los Rios
END:VEVENT
BEGIN:VEVENT
DTSTART;TZID=America/Los_Angeles:20140214T183000
DTEND;TZID=America/Los_Angeles:20140214T213000
DTSTAMP:20260425T191638
CREATED:20140111T090032Z
LAST-MODIFIED:20140111T090032Z
UID:343-1392402600-1392413400@farmschoolonlosrios.com
SUMMARY:Private Valentine's Party
DESCRIPTION:
URL:https://farmschoolonlosrios.com/event/private-valentines-party/
LOCATION:Farm School on Los Rios
CATEGORIES:Private Gathering
END:VEVENT
BEGIN:VEVENT
DTSTART;TZID=America/Los_Angeles:20140213T183000
DTEND;TZID=America/Los_Angeles:20140213T203000
DTSTAMP:20260425T191638
CREATED:20140114T083906Z
LAST-MODIFIED:20140114T083906Z
UID:346-1392316200-1392323400@farmschoolonlosrios.com
SUMMARY:Smokin' Hot Valentine's Eve
DESCRIPTION:Well\, this is one for the grown ups.  The menu includes Bacon Wrapped Jalapeno Poppers\, Smoky Shrimp & Grits\, Classic Layered Salad and Knock you Naked Brownies.  Hmmm!
URL:https://farmschoolonlosrios.com/event/smokin-hot-valentines-eve/
LOCATION:Farm School on Los Rios
CATEGORIES:Classes
END:VEVENT
BEGIN:VEVENT
DTSTART;TZID=America/Los_Angeles:20140208T183000
DTEND;TZID=America/Los_Angeles:20140208T213000
DTSTAMP:20260425T191638
CREATED:20140111T090756Z
LAST-MODIFIED:20140128T034047Z
UID:345-1391884200-1391895000@farmschoolonlosrios.com
SUMMARY:Private Party
DESCRIPTION:
URL:https://farmschoolonlosrios.com/event/second-saturday-truffle-workshop/
LOCATION:Farm School on Los Rios
CATEGORIES:Private Gathering
END:VEVENT
BEGIN:VEVENT
DTSTART;TZID=America/Los_Angeles:20140207T183000
DTEND;TZID=America/Los_Angeles:20140207T213000
DTSTAMP:20260425T191638
CREATED:20140111T085357Z
LAST-MODIFIED:20140204T071120Z
UID:341-1391797800-1391808600@farmschoolonlosrios.com
SUMMARY:For Love and Chocolate
DESCRIPTION:Class Full.  Lots of love 🙂
URL:https://farmschoolonlosrios.com/event/love-chocolate/
LOCATION:Farm School on Los Rios
CATEGORIES:Date Night
END:VEVENT
BEGIN:VEVENT
DTSTART;TZID=America/Los_Angeles:20140206T183000
DTEND;TZID=America/Los_Angeles:20140206T203000
DTSTAMP:20260425T191638
CREATED:20140111T084406Z
LAST-MODIFIED:20140111T084406Z
UID:340-1391711400-1391718600@farmschoolonlosrios.com
SUMMARY:The Art of Saute
DESCRIPTION:Come learn to saute – main courses\, side dishes\, even dessert!  The menu includes Chicken Picatta\, Orzo Risotto\, Green Beans and Apples with Ice Cream.  One technique – endless possibilities!
URL:https://farmschoolonlosrios.com/event/art-saute-2/
LOCATION:Farm School on Los Rios
CATEGORIES:Classes
END:VEVENT
BEGIN:VEVENT
DTSTART;TZID=America/Los_Angeles:20140126T110000
DTEND;TZID=America/Los_Angeles:20140126T130000
DTSTAMP:20260425T191638
CREATED:20131205T053840Z
LAST-MODIFIED:20140104T014648Z
UID:301-1390734000-1390741200@farmschoolonlosrios.com
SUMMARY:Birthday Party
DESCRIPTION:A private children’s cooking class.
URL:https://farmschoolonlosrios.com/event/birthday-party/
CATEGORIES:Private Gathering
END:VEVENT
BEGIN:VEVENT
DTSTART;TZID=America/Los_Angeles:20140123T183000
DTEND;TZID=America/Los_Angeles:20140123T203000
DTSTAMP:20260425T191638
CREATED:20131205T054949Z
LAST-MODIFIED:20131212T063222Z
UID:305-1390501800-1390509000@farmschoolonlosrios.com
SUMMARY:Flavors of the Mediterranean
DESCRIPTION:Stuffed chicken roulades\, creamy saffron orzo\, roasted green beans\, apple and golden raisin tart.
URL:https://farmschoolonlosrios.com/event/flavors-mediterranean/
LOCATION:Farm School on Los Rios
CATEGORIES:Classes
END:VEVENT
BEGIN:VEVENT
DTSTART;TZID=America/Los_Angeles:20140117T063000
DTEND;TZID=America/Los_Angeles:20140117T213000
DTSTAMP:20260425T191638
CREATED:20131205T055538Z
LAST-MODIFIED:20131212T063413Z
UID:306-1389940200-1389994200@farmschoolonlosrios.com
SUMMARY:French Countryside
DESCRIPTION:Pissaladiere\, winter greens salad with white wine vinaigrette\, coq au vin\, parlsey potatoes\, chocolate pots de creme.  That’s French!
URL:https://farmschoolonlosrios.com/event/french-countryside-2/
LOCATION:Farm School on Los Rios
CATEGORIES:Date Night
END:VEVENT
BEGIN:VEVENT
DTSTART;TZID=America/Los_Angeles:20140116T183000
DTEND;TZID=America/Los_Angeles:20140116T203000
DTSTAMP:20260425T191638
CREATED:20131205T054707Z
LAST-MODIFIED:20131212T063442Z
UID:303-1389897000-1389904200@farmschoolonlosrios.com
SUMMARY:One Dish Wonders - Slightly Southern
DESCRIPTION:Warm up the winter evenings with homemade Pimiento Cheese and crackers\, Chicken and Dumplings\, a Shrimp Boil with Corn and Potatoes and Clementine & Pomegranate Salad with Avocado.
URL:https://farmschoolonlosrios.com/event/one-dish-wonders/
LOCATION:Farm School on Los Rios
CATEGORIES:Classes
END:VEVENT
BEGIN:VEVENT
DTSTART;TZID=America/Los_Angeles:20140111T100000
DTEND;TZID=America/Los_Angeles:20140111T120000
DTSTAMP:20260425T191638
CREATED:20131217T013902Z
LAST-MODIFIED:20131217T013902Z
UID:332-1389434400-1389441600@farmschoolonlosrios.com
SUMMARY:Second Saturday Baking
DESCRIPTION:Second Saturday is special on Los Rios Street.  Join us from 10 til noon and learn how to make Blackberry Grunt\, Apple Brown Betty and Blueberry Buckle.  These old fashioned charmers celebrate simpler times – and still taste amazing!
URL:https://farmschoolonlosrios.com/event/second-saturday-baking/
LOCATION:Farm School on Los Rios
CATEGORIES:Classes
END:VEVENT
BEGIN:VEVENT
DTSTART;TZID=America/Los_Angeles:20140109T183000
DTEND;TZID=America/Los_Angeles:20140109T203000
DTSTAMP:20260425T191638
CREATED:20131205T054014Z
LAST-MODIFIED:20131227T231406Z
UID:302-1389292200-1389299400@farmschoolonlosrios.com
SUMMARY:New Year's Resolution - Eat Well!
DESCRIPTION:After a rich and indulgent holiday\, it’s time to eat well!  Endive Spears with Walnuts and Goat Cheese\, Whole Wheat Penne with Spicy Braised Salmon\, Oven Roasted Brussels Sprouts with Mustard and Bacon\, Individual Lemon Pudding Cakes.
URL:https://farmschoolonlosrios.com/event/new-years-resolution/
LOCATION:Farm School on Los Rios
CATEGORIES:Classes
END:VEVENT
BEGIN:VEVENT
DTSTART;TZID=America/Los_Angeles:20131222T180000
DTEND;TZID=America/Los_Angeles:20131222T210000
DTSTAMP:20260425T191638
CREATED:20131205T053559Z
LAST-MODIFIED:20131205T053559Z
UID:300-1387735200-1387746000@farmschoolonlosrios.com
SUMMARY:Dinner Party
DESCRIPTION:A private dinner party event.
URL:https://farmschoolonlosrios.com/event/dinner-party/
CATEGORIES:Private Gathering
END:VEVENT
BEGIN:VEVENT
DTSTART;TZID=America/Los_Angeles:20131220T183000
DTEND;TZID=America/Los_Angeles:20131220T203000
DTSTAMP:20260425T191638
CREATED:20131004T032035Z
LAST-MODIFIED:20131004T032035Z
UID:279-1387564200-1387571400@farmschoolonlosrios.com
SUMMARY:Rancho Viejo Montessori Christmas Party
DESCRIPTION:
URL:https://farmschoolonlosrios.com/event/rancho-viejo-montessori-christmas-party/
CATEGORIES:Private Gathering
END:VEVENT
BEGIN:VEVENT
DTSTART;TZID=America/Los_Angeles:20131219T183000
DTEND;TZID=America/Los_Angeles:20131219T203000
DTSTAMP:20260425T191638
CREATED:20131031T091843Z
LAST-MODIFIED:20131212T073709Z
UID:293-1387477800-1387485000@farmschoolonlosrios.com
SUMMARY:Classic Christmas Sides
DESCRIPTION:The menu this evening includes Steam Sautéed Green Beans\, Sweet Potato Bisque\, Wild Rice with Apples and Chestnuts\, and Maple Walnut Cranberry Tart.
URL:https://farmschoolonlosrios.com/event/classic-christmas-sides/
LOCATION:Farm School on Los Rios
CATEGORIES:Classes
END:VEVENT
BEGIN:VEVENT
DTSTART;TZID=America/Los_Angeles:20131215T110000
DTEND;TZID=America/Los_Angeles:20131215T130000
DTSTAMP:20260425T191638
CREATED:20131004T031938Z
LAST-MODIFIED:20131212T073641Z
UID:278-1387105200-1387112400@farmschoolonlosrios.com
SUMMARY:Holiday Baking
DESCRIPTION:Children’s Cooking Class.  Sugar Cookies\, delicious Apricot Orange Cranberry Bread\, and decorating Gingerbread Cookies.
URL:https://farmschoolonlosrios.com/event/childrens-cooking-class-4/
LOCATION:Farm School on Los Rios
CATEGORIES:Classes
END:VEVENT
BEGIN:VEVENT
DTSTART;TZID=America/Los_Angeles:20131212T183000
DTEND;TZID=America/Los_Angeles:20131212T203000
DTSTAMP:20260425T191638
CREATED:20131031T091604Z
LAST-MODIFIED:20131122T031654Z
UID:292-1386873000-1386880200@farmschoolonlosrios.com
SUMMARY:Everything but the Turkey
DESCRIPTION:Tis the Season to celebrate in style with holiday Appetizers\, Side and Pie. \nRoasted Shrimp Cocktail\, The Farm School Salted Caramel Brie\, Scalloped Potato Gratin and Pumpkin Pecan Pie.
URL:https://farmschoolonlosrios.com/event/holiday-hors-doeuvres/
CATEGORIES:Classes
END:VEVENT
END:VCALENDAR