BEGIN:VCALENDAR
VERSION:2.0
PRODID:-//Farm School on Los Rios Street | San Juan Capistrano, CA - ECPv6.15.20//NONSGML v1.0//EN
CALSCALE:GREGORIAN
METHOD:PUBLISH
X-WR-CALNAME:Farm School on Los Rios Street | San Juan Capistrano, CA
X-ORIGINAL-URL:https://farmschoolonlosrios.com
X-WR-CALDESC:Events for Farm School on Los Rios Street | San Juan Capistrano, CA
REFRESH-INTERVAL;VALUE=DURATION:PT1H
X-Robots-Tag:noindex
X-PUBLISHED-TTL:PT1H
BEGIN:VTIMEZONE
TZID:America/Los_Angeles
BEGIN:DAYLIGHT
TZOFFSETFROM:-0800
TZOFFSETTO:-0700
TZNAME:PDT
DTSTART:20130310T100000
END:DAYLIGHT
BEGIN:STANDARD
TZOFFSETFROM:-0700
TZOFFSETTO:-0800
TZNAME:PST
DTSTART:20131103T090000
END:STANDARD
BEGIN:DAYLIGHT
TZOFFSETFROM:-0800
TZOFFSETTO:-0700
TZNAME:PDT
DTSTART:20140309T100000
END:DAYLIGHT
BEGIN:STANDARD
TZOFFSETFROM:-0700
TZOFFSETTO:-0800
TZNAME:PST
DTSTART:20141102T090000
END:STANDARD
BEGIN:DAYLIGHT
TZOFFSETFROM:-0800
TZOFFSETTO:-0700
TZNAME:PDT
DTSTART:20150308T100000
END:DAYLIGHT
BEGIN:STANDARD
TZOFFSETFROM:-0700
TZOFFSETTO:-0800
TZNAME:PST
DTSTART:20151101T090000
END:STANDARD
END:VTIMEZONE
BEGIN:VEVENT
DTSTART;TZID=America/Los_Angeles:20140921T103000
DTEND;TZID=America/Los_Angeles:20140921T130000
DTSTAMP:20260425T132552
CREATED:20140914T054515Z
LAST-MODIFIED:20140915T050351Z
UID:481-1411295400-1411304400@farmschoolonlosrios.com
SUMMARY:SSgt Ferguson Farewell
DESCRIPTION:Join us as we bid farewell to Staff Sargent Stephen Ferguson (and celebrate his birthday).
URL:https://farmschoolonlosrios.com/event/ssgt-ferguson-farewell/
CATEGORIES:Private Gathering
END:VEVENT
BEGIN:VEVENT
DTSTART;TZID=America/Los_Angeles:20140919T183000
DTEND;TZID=America/Los_Angeles:20140919T213000
DTSTAMP:20260425T132552
CREATED:20140815T203815Z
LAST-MODIFIED:20140915T045722Z
UID:455-1411151400-1411162200@farmschoolonlosrios.com
SUMMARY:So Cal Grilling
DESCRIPTION:Grilled Avocado\, Blistered Tomato & Cotija Flatbreads\, Honey Butter Grilled Chicken with Parsley Sauce\, Quinoa with Toasted Pine Nuts\, Grilled Pear & Hazelnut Packets with Vanilla Ice Cream.
URL:https://farmschoolonlosrios.com/event/cal-grilling/
CATEGORIES:Date Night
END:VEVENT
BEGIN:VEVENT
DTSTART;TZID=America/Los_Angeles:20140918T183000
DTEND;TZID=America/Los_Angeles:20140918T203000
DTSTAMP:20260425T132552
CREATED:20140815T203428Z
LAST-MODIFIED:20140903T085032Z
UID:454-1411065000-1411072200@farmschoolonlosrios.com
SUMMARY:Pizza Party Preview
DESCRIPTION:Due to the popularity of our Pizza Night\, a second class has been added! \nJoin us and learn to Master Pizza Dough\, then create Palermo Style Stuffed Pizza with Prosciutto & Salami\, French Style Pissaladiere and New York Style Thin Crust with The Works!
URL:https://farmschoolonlosrios.com/event/6-ingredient-challenge/
CATEGORIES:Classes
END:VEVENT
BEGIN:VEVENT
DTSTART;TZID=America/Los_Angeles:20140911T183000
DTEND;TZID=America/Los_Angeles:20140911T203000
DTSTAMP:20260425T132552
CREATED:20140608T230336Z
LAST-MODIFIED:20140815T202012Z
UID:430-1410460200-1410467400@farmschoolonlosrios.com
SUMMARY:Quick Weeknight Dinners - Apple Festival
DESCRIPTION:On the menu tonight – Spiced Pork Chops with Apple Chutney\, Smoked Turkey\, Apple & Brie Monte Cristo\, Waldorf Salad\, Farm School Apple & Golden Raisin Tart.
URL:https://farmschoolonlosrios.com/event/quick-weeknight-dinners/
CATEGORIES:Classes
END:VEVENT
BEGIN:VEVENT
DTSTART;TZID=America/Los_Angeles:20140905T183000
DTEND;TZID=America/Los_Angeles:20140905T213000
DTSTAMP:20260425T132552
CREATED:20140815T203047Z
LAST-MODIFIED:20140825T021023Z
UID:453-1409941800-1409952600@farmschoolonlosrios.com
SUMMARY:Private Party
DESCRIPTION:Join us as you and your special someone learn to create a Grilled Halloumi Cheese & Watermelon Sandwich with Parsley Cilantro Pesto\, Bacon Wrapped Prawns with Bourbon BBQ Sauce\, Grilled Zucchini & Leeks with Walnuts & Herbs\, Herbed Couscous and Spicy Grilled Pineapple.
URL:https://farmschoolonlosrios.com/event/grillin-chillin/
LOCATION:Farm School on Los Rios
CATEGORIES:Private Gathering
END:VEVENT
BEGIN:VEVENT
DTSTART;TZID=America/Los_Angeles:20140904T183000
DTEND;TZID=America/Los_Angeles:20140904T203000
DTSTAMP:20260425T132552
CREATED:20140608T230141Z
LAST-MODIFIED:20140720T084953Z
UID:429-1409855400-1409862600@farmschoolonlosrios.com
SUMMARY:Tapas!
DESCRIPTION:Tonight we create Chorizo stuffed Dates wrapped in Bacon\, Prawns in Garlic Butter\, Tortilla Espanola\, and Gazpacho Shooters.
URL:https://farmschoolonlosrios.com/event/tapas/
CATEGORIES:Classes
END:VEVENT
BEGIN:VEVENT
DTSTART;TZID=America/Los_Angeles:20140821T183000
DTEND;TZID=America/Los_Angeles:20140821T203000
DTSTAMP:20260425T132552
CREATED:20140720T085203Z
LAST-MODIFIED:20140720T085759Z
UID:442-1408645800-1408653000@farmschoolonlosrios.com
SUMMARY:Private Dinner Party
DESCRIPTION:
URL:https://farmschoolonlosrios.com/event/private-dinner-party-2/
CATEGORIES:Private Gathering
END:VEVENT
BEGIN:VEVENT
DTSTART;TZID=America/Los_Angeles:20140820T183000
DTEND;TZID=America/Los_Angeles:20140820T203000
DTSTAMP:20260425T132552
CREATED:20140720T090145Z
LAST-MODIFIED:20140720T090145Z
UID:448-1408559400-1408566600@farmschoolonlosrios.com
SUMMARY:Private Tailgate Party
DESCRIPTION:
URL:https://farmschoolonlosrios.com/event/private-tailgate-party/
CATEGORIES:Private Gathering
END:VEVENT
BEGIN:VEVENT
DTSTART;TZID=America/Los_Angeles:20140816T180000
DTEND;TZID=America/Los_Angeles:20140816T210000
DTSTAMP:20260425T132552
CREATED:20140720T090049Z
LAST-MODIFIED:20140720T090049Z
UID:445-1408212000-1408222800@farmschoolonlosrios.com
SUMMARY:Private Dinner Party
DESCRIPTION:
URL:https://farmschoolonlosrios.com/event/private-dinner-party-3/
CATEGORIES:Private Gathering
END:VEVENT
BEGIN:VEVENT
DTSTART;TZID=America/Los_Angeles:20140815T183000
DTEND;TZID=America/Los_Angeles:20140815T213000
DTSTAMP:20260425T132552
CREATED:20140608T221057Z
LAST-MODIFIED:20140608T221057Z
UID:425-1408127400-1408138200@farmschoolonlosrios.com
SUMMARY:Late Summer Grilling
DESCRIPTION:Join us in the garden as we learn to grill a Camembert with Figs Baguette\, Chicken and Vegetable Kabobs with White BBQ Sauce\, Corn grilled in the husk with Chili Lime Butter\, a Melon & Crispy Prosciutto Salad and a Double Chocolate Zucchini Pound Cake.  Price per couple.
URL:https://farmschoolonlosrios.com/event/late-summer-grilling/
CATEGORIES:Date Night
END:VEVENT
BEGIN:VEVENT
DTSTART;TZID=America/Los_Angeles:20140814T183000
DTEND;TZID=America/Los_Angeles:20140814T203000
DTSTAMP:20260425T132552
CREATED:20140608T224203Z
LAST-MODIFIED:20140608T224203Z
UID:427-1408041000-1408048200@farmschoolonlosrios.com
SUMMARY:Basta Pasta
DESCRIPTION:Tonight we create Spaghetti with Shrimp & Broccoli\, a Pappardelle with Fresh Corn and Cherry Tomatoes\, Diced Vegetable Salad\, and a Raspberry Tart.
URL:https://farmschoolonlosrios.com/event/basta-pasta-2/
CATEGORIES:Classes
END:VEVENT
BEGIN:VEVENT
DTSTART;TZID=America/Los_Angeles:20140807T183000
DTEND;TZID=America/Los_Angeles:20140807T203000
DTSTAMP:20260425T132552
CREATED:20140608T223916Z
LAST-MODIFIED:20140608T223928Z
UID:426-1407436200-1407443400@farmschoolonlosrios.com
SUMMARY:South of the Border Favorites
DESCRIPTION:On the menu – Avocado\, Orange & Jicama Salad\, Chile Spiced Skirt Steak Tacos\, World’s Best Mexican Rice\, and Baked Bunuelo Chips with Ice Cream & Dulce de Leche.
URL:https://farmschoolonlosrios.com/event/south-border-favorites/
CATEGORIES:Classes
END:VEVENT
BEGIN:VEVENT
DTSTART;TZID=America/Los_Angeles:20140803T180000
DTEND;TZID=America/Los_Angeles:20140803T210000
DTSTAMP:20260425T132552
CREATED:20140720T085622Z
LAST-MODIFIED:20140720T085622Z
UID:444-1407088800-1407099600@farmschoolonlosrios.com
SUMMARY:Birthday Party
DESCRIPTION:
URL:https://farmschoolonlosrios.com/event/birthday-party-2/
CATEGORIES:Private Gathering
END:VEVENT
BEGIN:VEVENT
DTSTART;TZID=America/Los_Angeles:20140801T183000
DTEND;TZID=America/Los_Angeles:20140801T213000
DTSTAMP:20260425T132552
CREATED:20140608T230550Z
LAST-MODIFIED:20140720T210845Z
UID:431-1406917800-1406928600@farmschoolonlosrios.com
SUMMARY:Hot (& Spicy) August Nights
DESCRIPTION:Explore our Louisiana  Heritage with the World’s Best Jambalaya\, Cajun Stuffed Mushrooms\, Bayou Slaw and Bourbon Peaches.  Romantic Cooking with a kick!
URL:https://farmschoolonlosrios.com/event/hot-august-nights/
CATEGORIES:Date Night
END:VEVENT
BEGIN:VEVENT
DTSTART;TZID=America/Los_Angeles:20140731T183000
DTEND;TZID=America/Los_Angeles:20140731T203000
DTSTAMP:20260425T132552
CREATED:20140606T043247Z
LAST-MODIFIED:20140708T202046Z
UID:418-1406831400-1406838600@farmschoolonlosrios.com
SUMMARY:Summertime Hors D'Oeuvres
DESCRIPTION:A visit to the garden will help us create Summer Veggies & dip in Baguette Cups\, Caprese Salad on a stick with Balsamic Reduction\, our Signature Sea Scallop BLT\, and Cheesy Garlic Bread.
URL:https://farmschoolonlosrios.com/event/summertime-hors-doeuvres/
CATEGORIES:Classes
END:VEVENT
BEGIN:VEVENT
DTSTART;TZID=America/Los_Angeles:20140724T183000
DTEND;TZID=America/Los_Angeles:20140724T203000
DTSTAMP:20260425T132552
CREATED:20140608T213338Z
LAST-MODIFIED:20140708T200213Z
UID:423-1406226600-1406233800@farmschoolonlosrios.com
SUMMARY:Pizza Palooza Part Two
DESCRIPTION:Back by popular demand!  Join us as we learn to make homemade pizza dough and then create a Pesto Pizza with Fontina & Pine Nuts\, a Smoked Salmon & Brie Pizza\, and a Pizza with Caramelized Onion\, Gruyere & Bacon.
URL:https://farmschoolonlosrios.com/event/private-gathering-3/
CATEGORIES:Classes
END:VEVENT
BEGIN:VEVENT
DTSTART;TZID=America/Los_Angeles:20140721T183000
DTEND;TZID=America/Los_Angeles:20140721T203000
DTSTAMP:20260425T132552
CREATED:20140720T085111Z
LAST-MODIFIED:20140720T085111Z
UID:441-1405967400-1405974600@farmschoolonlosrios.com
SUMMARY:Private Dinner Party
DESCRIPTION:
URL:https://farmschoolonlosrios.com/event/private-dinner-party/
CATEGORIES:Private Gathering
END:VEVENT
BEGIN:VEVENT
DTSTART;TZID=America/Los_Angeles:20140718T183000
DTEND;TZID=America/Los_Angeles:20140718T213000
DTSTAMP:20260425T132552
CREATED:20140608T213903Z
LAST-MODIFIED:20140608T221124Z
UID:424-1405708200-1405719000@farmschoolonlosrios.com
SUMMARY:Oh\, the things you can Grill
DESCRIPTION:Join us with your special someone and learn about surprise grilling.  The ultimate Grilled Cheese Sandwich with Peach Chutney\, Honey Grilled Watermelon Caprese\, a salad of Grilled Romaine\, Grilled Low Country Boil with Bloody Mary Cocktail Sauce and Old Bay Dipping Sauce\, and Grilled Bananas with Maple Butter Sauce.  Whoa!  Price per couple.
URL:https://farmschoolonlosrios.com/event/oh-things-can-grill/
CATEGORIES:Date Night
END:VEVENT
BEGIN:VEVENT
DTSTART;TZID=America/Los_Angeles:20140717T183000
DTEND;TZID=America/Los_Angeles:20140717T203000
DTSTAMP:20260425T132552
CREATED:20140608T213025Z
LAST-MODIFIED:20140608T213025Z
UID:422-1405621800-1405629000@farmschoolonlosrios.com
SUMMARY:Cooking with Summer Bounty
DESCRIPTION:Farm to Table at it’s finest.  Join us as we learn to cook with summer fruits and vegetables.  Shrimp filled Zucchini with Corn\, Spinach & Salsa Verde\, Roasted Tomato Caprese\, Kale Salad with Citrus & Avocado Dressing\, and Strawberry Wonton Cups.
URL:https://farmschoolonlosrios.com/event/cooking-summer-bounty/
CATEGORIES:Classes
END:VEVENT
BEGIN:VEVENT
DTSTART;TZID=America/Los_Angeles:20140710T183000
DTEND;TZID=America/Los_Angeles:20140710T203000
DTSTAMP:20260425T132552
CREATED:20140606T042012Z
LAST-MODIFIED:20140608T203807Z
UID:416-1405017000-1405024200@farmschoolonlosrios.com
SUMMARY:Pizza Palooza
DESCRIPTION:Join us as we learn to make homemade pizza dough and then create a Pesto Pizza with Fontina & Pine Nuts\, a Smoked Salmon & Brie Pizza\, and a Pizza with Caramelized Onion\, Gruyere & Bacon.
URL:https://farmschoolonlosrios.com/event/pizza-palooza/
CATEGORIES:Classes
END:VEVENT
BEGIN:VEVENT
DTSTART;TZID=America/Los_Angeles:20140703T183000
DTEND;TZID=America/Los_Angeles:20140703T203000
DTSTAMP:20260425T132552
CREATED:20140606T041916Z
LAST-MODIFIED:20140608T204215Z
UID:415-1404412200-1404419400@farmschoolonlosrios.com
SUMMARY:Easy Summer Entertaining
DESCRIPTION:It’s Summertime\, and the living’s easy.  So is Entertaining!  Tonight we will make a Salad Bar in a Jar\, Corncakes with Avocado & Crema\, our Farm School signature Burst Tomato Pasta with Roasted Shrimp & Mascarpone\, and a Peach and Apricot Pie.
URL:https://farmschoolonlosrios.com/event/easy-summer-entertaining/
CATEGORIES:Classes
END:VEVENT
BEGIN:VEVENT
DTSTART;TZID=America/Los_Angeles:20140626T183000
DTEND;TZID=America/Los_Angeles:20140626T203000
DTSTAMP:20260425T132552
CREATED:20140606T041524Z
LAST-MODIFIED:20140612T235653Z
UID:414-1403807400-1403814600@farmschoolonlosrios.com
SUMMARY:All American Grill
DESCRIPTION:Join us to learn the secret to making the World’s Best Burger and how to grill a variety of vegetables.  We will also make flame-licked Fingerling Potatoes and Spicy Grilled Pineapple.
URL:https://farmschoolonlosrios.com/event/american-grill/
CATEGORIES:Classes
END:VEVENT
BEGIN:VEVENT
DTSTART;TZID=America/Los_Angeles:20140619T183000
DTEND;TZID=America/Los_Angeles:20140619T203000
DTSTAMP:20260425T132552
CREATED:20140517T063731Z
LAST-MODIFIED:20140517T063731Z
UID:411-1403202600-1403209800@farmschoolonlosrios.com
SUMMARY:Summer Desserts
DESCRIPTION:How sweet it is!  Homemade Vanilla Ice Cream\, Fresh Strawberry Pie\, Double Dark Chocolate Shortbread Cookies and an Upside Down Banana Skillet Cake.
URL:https://farmschoolonlosrios.com/event/summer-desserts/
CATEGORIES:Classes
END:VEVENT
BEGIN:VEVENT
DTSTART;TZID=America/Los_Angeles:20140614T100000
DTEND;TZID=America/Los_Angeles:20140614T130000
DTSTAMP:20260425T132552
CREATED:20140406T203255Z
LAST-MODIFIED:20140415T000911Z
UID:398-1402740000-1402750800@farmschoolonlosrios.com
SUMMARY:Private Party
DESCRIPTION:Shower
URL:https://farmschoolonlosrios.com/event/private-party-5/
CATEGORIES:Private Gathering
END:VEVENT
BEGIN:VEVENT
DTSTART;TZID=America/Los_Angeles:20140606T183000
DTEND;TZID=America/Los_Angeles:20140606T213000
DTSTAMP:20260425T132552
CREATED:20140517T064517Z
LAST-MODIFIED:20140517T064517Z
UID:412-1402079400-1402090200@farmschoolonlosrios.com
SUMMARY:Date Night - Great Summer Grilling
DESCRIPTION:Gather around the grill with your special someone as we learn to make grilled Avocados with blistered Tomato Salsa\, Quick Marinated Flank Steak\, Grilled Corn & Asparagus Salad\, Grilled Halloumi Cheese & Quinoa Pilaf\, and Caramelized Pineapple with Honey-Lime Glaze over Vanilla Ice Cream!  $130 per couple.
URL:https://farmschoolonlosrios.com/event/date-night-great-summer-grilling/
CATEGORIES:Date Night
END:VEVENT
BEGIN:VEVENT
DTSTART;TZID=America/Los_Angeles:20140605T183000
DTEND;TZID=America/Los_Angeles:20140605T203000
DTSTAMP:20260425T132552
CREATED:20140606T043003Z
LAST-MODIFIED:20140606T043003Z
UID:417-1401993000-1402000200@farmschoolonlosrios.com
SUMMARY:Summer Bounty
DESCRIPTION:
URL:https://farmschoolonlosrios.com/event/summer-bounty/
CATEGORIES:Classes
END:VEVENT
BEGIN:VEVENT
DTSTART;TZID=America/Los_Angeles:20140529T183000
DTEND;TZID=America/Los_Angeles:20140529T203000
DTSTAMP:20260425T132552
CREATED:20140406T194701Z
LAST-MODIFIED:20140406T194701Z
UID:389-1401388200-1401395400@farmschoolonlosrios.com
SUMMARY:Classic Hors d'Oeuvres
DESCRIPTION:Either Cocktail Party or a Pot Luck\, these Hors D’Oeuvres are sure to please.  Nectarine\, Prosciutto & Ricotta Crostini\, Greek Layered Dip with Lentil Chips\, Teriyaki Beef Skewers\, Bacon Wrapped Jalapeño Poppers and Lemon Quick Bread.
URL:https://farmschoolonlosrios.com/event/classic-hors-doeuvres/
CATEGORIES:Classes
END:VEVENT
BEGIN:VEVENT
DTSTART;TZID=America/Los_Angeles:20140525T170000
DTEND;TZID=America/Los_Angeles:20140525T210000
DTSTAMP:20260425T132552
CREATED:20140406T195630Z
LAST-MODIFIED:20140406T195630Z
UID:394-1401037200-1401051600@farmschoolonlosrios.com
SUMMARY:Private Party
DESCRIPTION:Mr. Rick’s 50th Birthday
URL:https://farmschoolonlosrios.com/event/private-party-4/
CATEGORIES:Private Gathering
END:VEVENT
BEGIN:VEVENT
DTSTART;TZID=America/Los_Angeles:20140524T183000
DTEND;TZID=America/Los_Angeles:20140524T213000
DTSTAMP:20260425T132552
CREATED:20140406T194954Z
LAST-MODIFIED:20140406T194954Z
UID:391-1400956200-1400967000@farmschoolonlosrios.com
SUMMARY:Private Party
DESCRIPTION:
URL:https://farmschoolonlosrios.com/event/private-party/
CATEGORIES:Private Gathering
END:VEVENT
BEGIN:VEVENT
DTSTART;TZID=America/Los_Angeles:20140522T183000
DTEND;TZID=America/Los_Angeles:20140522T203000
DTSTAMP:20260425T132552
CREATED:20140406T195042Z
LAST-MODIFIED:20140406T195042Z
UID:392-1400783400-1400790600@farmschoolonlosrios.com
SUMMARY:Private Party
DESCRIPTION:
URL:https://farmschoolonlosrios.com/event/private-party-2/
CATEGORIES:Private Gathering
END:VEVENT
END:VCALENDAR