BEGIN:VCALENDAR
VERSION:2.0
PRODID:-//Farm School on Los Rios Street | San Juan Capistrano, CA - ECPv6.15.20//NONSGML v1.0//EN
CALSCALE:GREGORIAN
METHOD:PUBLISH
X-WR-CALNAME:Farm School on Los Rios Street | San Juan Capistrano, CA
X-ORIGINAL-URL:https://farmschoolonlosrios.com
X-WR-CALDESC:Events for Farm School on Los Rios Street | San Juan Capistrano, CA
REFRESH-INTERVAL;VALUE=DURATION:PT1H
X-Robots-Tag:noindex
X-PUBLISHED-TTL:PT1H
BEGIN:VTIMEZONE
TZID:America/Los_Angeles
BEGIN:DAYLIGHT
TZOFFSETFROM:-0800
TZOFFSETTO:-0700
TZNAME:PDT
DTSTART:20130310T100000
END:DAYLIGHT
BEGIN:STANDARD
TZOFFSETFROM:-0700
TZOFFSETTO:-0800
TZNAME:PST
DTSTART:20131103T090000
END:STANDARD
BEGIN:DAYLIGHT
TZOFFSETFROM:-0800
TZOFFSETTO:-0700
TZNAME:PDT
DTSTART:20140309T100000
END:DAYLIGHT
BEGIN:STANDARD
TZOFFSETFROM:-0700
TZOFFSETTO:-0800
TZNAME:PST
DTSTART:20141102T090000
END:STANDARD
BEGIN:DAYLIGHT
TZOFFSETFROM:-0800
TZOFFSETTO:-0700
TZNAME:PDT
DTSTART:20150308T100000
END:DAYLIGHT
BEGIN:STANDARD
TZOFFSETFROM:-0700
TZOFFSETTO:-0800
TZNAME:PST
DTSTART:20151101T090000
END:STANDARD
BEGIN:DAYLIGHT
TZOFFSETFROM:-0800
TZOFFSETTO:-0700
TZNAME:PDT
DTSTART:20160313T100000
END:DAYLIGHT
BEGIN:STANDARD
TZOFFSETFROM:-0700
TZOFFSETTO:-0800
TZNAME:PST
DTSTART:20161106T090000
END:STANDARD
END:VTIMEZONE
BEGIN:VEVENT
DTSTART;TZID=America/Los_Angeles:20150403T183000
DTEND;TZID=America/Los_Angeles:20150403T213000
DTSTAMP:20260425T073732
CREATED:20150205T055236Z
LAST-MODIFIED:20150205T061132Z
UID:533-1428085800-1428096600@farmschoolonlosrios.com
SUMMARY:Date Night - Romance of France
DESCRIPTION:Join us with your special someone as we celebrate the romance of France.  Crab and Brie Stuffed Mushrooms\, Greens with Warm Goat Cheese & Hazelnuts\, Roasted Salmon with Mustard and Tarragon\, Glazed Vegetables and Chocolate Pots de Creme. \nPrice per couple.
URL:https://farmschoolonlosrios.com/event/romance-france-2/
CATEGORIES:Date Night
END:VEVENT
BEGIN:VEVENT
DTSTART;TZID=America/Los_Angeles:20150402T183000
DTEND;TZID=America/Los_Angeles:20150402T203000
DTSTAMP:20260425T073732
CREATED:20141224T013926Z
LAST-MODIFIED:20150205T061210Z
UID:505-1427999400-1428006600@farmschoolonlosrios.com
SUMMARY:A Fresh Spring Dinner
DESCRIPTION:Welcome Spring as we learn to make a fresh Vegetable Soup\, Chicken and Brie Tart\, Spring Salad with Fresh Herb Vinaigrette\, and Fresh Orange Pound Cake.
URL:https://farmschoolonlosrios.com/event/heartwarming-winter-dinner/
CATEGORIES:Classes
END:VEVENT
BEGIN:VEVENT
DTSTART;TZID=America/Los_Angeles:20150319T183000
DTEND;TZID=America/Los_Angeles:20150319T203000
DTSTAMP:20260425T073732
CREATED:20141224T055344Z
LAST-MODIFIED:20150205T054555Z
UID:516-1426789800-1426797000@farmschoolonlosrios.com
SUMMARY:Private Party
DESCRIPTION:Taco Fiesta \nCLASS FULL
URL:https://farmschoolonlosrios.com/event/taco-fiesta/
CATEGORIES:Private Gathering
END:VEVENT
BEGIN:VEVENT
DTSTART;TZID=America/Los_Angeles:20150313T063000
DTEND;TZID=America/Los_Angeles:20150313T213000
DTSTAMP:20260425T073732
CREATED:20150308T230917Z
LAST-MODIFIED:20150308T230917Z
UID:574-1426228200-1426282200@farmschoolonlosrios.com
SUMMARY:Private Party
DESCRIPTION:
URL:https://farmschoolonlosrios.com/event/private-party-11/
CATEGORIES:Private Gathering
END:VEVENT
BEGIN:VEVENT
DTSTART;TZID=America/Los_Angeles:20150312T183000
DTEND;TZID=America/Los_Angeles:20150312T203000
DTSTAMP:20260425T073732
CREATED:20141224T054507Z
LAST-MODIFIED:20141224T054507Z
UID:515-1426185000-1426192200@farmschoolonlosrios.com
SUMMARY:Wee Bit O' the Irish
DESCRIPTION:Tonight’s Irish dinner includes Herb Roasted Lamb Chops\, Braised Root Vegetables\, Colcannon (creamy kale & potatoes) and a Chocolate Stout Bundt Cake.
URL:https://farmschoolonlosrios.com/event/wee-bit-o-irish/
CATEGORIES:Classes
END:VEVENT
BEGIN:VEVENT
DTSTART;TZID=America/Los_Angeles:20150306T183000
DTEND;TZID=America/Los_Angeles:20150306T213000
DTSTAMP:20260425T073732
CREATED:20141224T042117Z
LAST-MODIFIED:20141224T052820Z
UID:509-1425666600-1425677400@farmschoolonlosrios.com
SUMMARY:Date Night - Flavors of the Mediterranean
DESCRIPTION:Our Date Night menu includes Prosciutto Wrapped Asparagus with Mascarpone\, Greek Chicken Roulades with a White Wine Reduction\, Creamy Orzo with Sun-dried Tomatoes\, our famous Bit Italian Salad\, and a traditional Greek Rice Pudding.  Price per couple.
URL:https://farmschoolonlosrios.com/event/flavors-mediterranean-2/
CATEGORIES:Date Night
END:VEVENT
BEGIN:VEVENT
DTSTART;TZID=America/Los_Angeles:20150305T183000
DTEND;TZID=America/Los_Angeles:20150305T203000
DTSTAMP:20260425T073732
CREATED:20141224T043413Z
LAST-MODIFIED:20150218T051010Z
UID:510-1425580200-1425587400@farmschoolonlosrios.com
SUMMARY:Private Party
DESCRIPTION:Lovely little dishes.  Lentils Vinaigrette\, Potato Leek Soup\, Mussels with White Wine & Onion\, and Tarte Tatin.  Ooh la la.
URL:https://farmschoolonlosrios.com/event/bistro-fare/
CATEGORIES:Classes
END:VEVENT
BEGIN:VEVENT
DTSTART;TZID=America/Los_Angeles:20150226T183000
DTEND;TZID=America/Los_Angeles:20150226T203000
DTSTAMP:20260425T073732
CREATED:20141119T081337Z
LAST-MODIFIED:20141224T014005Z
UID:500-1424975400-1424982600@farmschoolonlosrios.com
SUMMARY:A Simple Supper
DESCRIPTION:Timeless and tasty\, too!  Honey Mustard Pork Tenderloin\, Black Rice with Cranberries & Goat Cheese\, Steam Sauteed Green Beans\, and a Simple Apple Tart.
URL:https://farmschoolonlosrios.com/event/cozy-winter-dinner/
CATEGORIES:Classes
END:VEVENT
BEGIN:VEVENT
DTSTART;TZID=America/Los_Angeles:20150220T183000
DTEND;TZID=America/Los_Angeles:20150220T203000
DTSTAMP:20260425T073732
CREATED:20141224T052256Z
LAST-MODIFIED:20141224T052842Z
UID:512-1424457000-1424464200@farmschoolonlosrios.com
SUMMARY:Date Night - Love San Francisco Style
DESCRIPTION:Join us with your special someone and learn to create Rumaki\, Chopped Salad with Green Goddess Dressing\, Cioppino\, Sourdough Garlic Bread\, and Homemade It’s Its – (oatmeal cookie & ice cream sandwiches dipped in Chocolate)  Price per couplde
URL:https://farmschoolonlosrios.com/event/love-san-francisco-style/
CATEGORIES:Date Night
END:VEVENT
BEGIN:VEVENT
DTSTART;TZID=America/Los_Angeles:20150219T183000
DTEND;TZID=America/Los_Angeles:20150219T203000
DTSTAMP:20260425T073732
CREATED:20141224T030733Z
LAST-MODIFIED:20150205T053854Z
UID:507-1424370600-1424377800@farmschoolonlosrios.com
SUMMARY:Private Party
DESCRIPTION:
URL:https://farmschoolonlosrios.com/event/deceptively-healthy/
CATEGORIES:Private Gathering
END:VEVENT
BEGIN:VEVENT
DTSTART;TZID=America/Los_Angeles:20150212T183000
DTEND;TZID=America/Los_Angeles:20150212T203000
DTSTAMP:20260425T073733
CREATED:20141224T020448Z
LAST-MODIFIED:20141224T020520Z
UID:506-1423765800-1423773000@farmschoolonlosrios.com
SUMMARY:Pizza Night
DESCRIPTION:Join us for our popular pizza class where we first learn the art of the Master Pizza Dough. Our menu includes Pizza with Caramelized Onions\, Gruyere & Bacon\, Pizza with Seafood\, Sauteed Mushrooms & Bell Peppers\, and Pizza with Pesto\, Fontina & Pine Nuts.
URL:https://farmschoolonlosrios.com/event/pizza-night-2/
CATEGORIES:Classes
END:VEVENT
BEGIN:VEVENT
DTSTART;TZID=America/Los_Angeles:20150207T180000
DTEND;TZID=America/Los_Angeles:20150207T210000
DTSTAMP:20260425T073733
CREATED:20150205T054326Z
LAST-MODIFIED:20150205T060921Z
UID:532-1423332000-1423342800@farmschoolonlosrios.com
SUMMARY:Private Party
DESCRIPTION:
URL:https://farmschoolonlosrios.com/event/private-party-9/
CATEGORIES:Private Gathering
END:VEVENT
BEGIN:VEVENT
DTSTART;TZID=America/Los_Angeles:20150206T183000
DTEND;TZID=America/Los_Angeles:20150206T213000
DTSTAMP:20260425T073733
CREATED:20141224T050422Z
LAST-MODIFIED:20141224T052918Z
UID:511-1423247400-1423258200@farmschoolonlosrios.com
SUMMARY:Date Night - Mardi Gras Magic
DESCRIPTION:Tonight our menu includes Crab Cake Sliders with Remoulade\, Creole Shrimp & Grits\, Red Beans & Rice\, Cajun Corn Maque Choux and Bananas Foster!  Price per couple.
URL:https://farmschoolonlosrios.com/event/mardi-gras/
CATEGORIES:Date Night
END:VEVENT
BEGIN:VEVENT
DTSTART;TZID=America/Los_Angeles:20150130T183000
DTEND;TZID=America/Los_Angeles:20150130T213000
DTSTAMP:20260425T073733
CREATED:20150110T075740Z
LAST-MODIFIED:20150110T075751Z
UID:524-1422642600-1422653400@farmschoolonlosrios.com
SUMMARY:Date Night - A Taste of Spain - parte dos
DESCRIPTION:We’ve added a second class!    Join us alongside your special someone as we cook up an authentic Tortilla Espanola\, Olives with Garlic and Chili Pepper\, Paella\, Ensalada Mista and for dessert. . . Flan de Coco.  $130 per couple.
URL:https://farmschoolonlosrios.com/event/date-night-taste-spain-parte-dos/
CATEGORIES:Date Night
END:VEVENT
BEGIN:VEVENT
DTSTART;TZID=America/Los_Angeles:20150129T183000
DTEND;TZID=America/Los_Angeles:20150129T203000
DTSTAMP:20260425T073733
CREATED:20141223T091159Z
LAST-MODIFIED:20141223T091159Z
UID:504-1422556200-1422563400@farmschoolonlosrios.com
SUMMARY:Super Bowl Fun
DESCRIPTION:With the big game coming up\, let’s score with some awesome appetizers.   Antipasto Stuffed Baguettes\, Sweet & Spicy Chicken Wings\, Roasted Shrimp Cocktail\, and warm Artichoke & Roasted Garlic Dip.
URL:https://farmschoolonlosrios.com/event/super-bowl-fun/
CATEGORIES:Classes
END:VEVENT
BEGIN:VEVENT
DTSTART;TZID=America/Los_Angeles:20150122T183000
DTEND;TZID=America/Los_Angeles:20150122T203000
DTSTAMP:20260425T073733
CREATED:20141119T080936Z
LAST-MODIFIED:20141224T230231Z
UID:499-1421951400-1421958600@farmschoolonlosrios.com
SUMMARY:Healthy & Fantastic
DESCRIPTION:Eating healthy has never been easier or tastier!  Tonight’s menu includes Quinoa Risotto with Mushrooms and Thyme\, Salmon with Watercress\, Ginger & Lemon in Parchment Packets\, Shaved Zucchini Salad with Asiago\, and Baked Apples filled with Dried Cranberries\, Blueberries & Walnuts.
URL:https://farmschoolonlosrios.com/event/healthy-fantastic/
CATEGORIES:Classes
END:VEVENT
BEGIN:VEVENT
DTSTART;TZID=America/Los_Angeles:20150116T183000
DTEND;TZID=America/Los_Angeles:20150116T213000
DTSTAMP:20260425T073733
CREATED:20141119T075350Z
LAST-MODIFIED:20141230T023251Z
UID:497-1421433000-1421443800@farmschoolonlosrios.com
SUMMARY:Date Night - A Taste of Spain
DESCRIPTION:Join us alongside your special someone as we cook up an authentic Tortilla Espanola\, Olives with Garlic and Chili Pepper\, Paella\, Ensalada Mista and for dessert. . . Flan de Coco. \n 
URL:https://farmschoolonlosrios.com/event/date-night-taste-spain/
CATEGORIES:Date Night
END:VEVENT
BEGIN:VEVENT
DTSTART;TZID=America/Los_Angeles:20150115T183000
DTEND;TZID=America/Los_Angeles:20150115T203000
DTSTAMP:20260425T073733
CREATED:20141119T074826Z
LAST-MODIFIED:20141119T075054Z
UID:496-1421346600-1421353800@farmschoolonlosrios.com
SUMMARY:One Pot Wonders
DESCRIPTION:Southwestern Stuffed Bell Peppers\, Mile High Lasagna\, Chicken Pot Pie and a Winter Chopped Salad.
URL:https://farmschoolonlosrios.com/event/one-pot-wonders-3/
CATEGORIES:Classes
END:VEVENT
BEGIN:VEVENT
DTSTART;TZID=America/Los_Angeles:20150108T183000
DTEND;TZID=America/Los_Angeles:20150108T203000
DTSTAMP:20260425T073733
CREATED:20140914T052012Z
LAST-MODIFIED:20141113T041908Z
UID:475-1420741800-1420749000@farmschoolonlosrios.com
SUMMARY:Cooking with Cast Iron
DESCRIPTION:Our menu includes Steamed Mussels (French Oven)\, an Herb Marinated & Grilled Skirt Steak (Grill Pan)\, Vegetable Rice (Deep Saucepan)\, and a Rhubarb Crumble (Skillet).
URL:https://farmschoolonlosrios.com/event/cooking-cast-iron-2/
CATEGORIES:Classes
END:VEVENT
BEGIN:VEVENT
DTSTART;VALUE=DATE:20141225
DTEND;VALUE=DATE:20141226
DTSTAMP:20260425T073733
CREATED:20140914T054853Z
LAST-MODIFIED:20140914T054853Z
UID:484-1419465600-1419551999@farmschoolonlosrios.com
SUMMARY:Merry Christmas
DESCRIPTION:
URL:https://farmschoolonlosrios.com/event/merry-christmas/
END:VEVENT
BEGIN:VEVENT
DTSTART;TZID=America/Los_Angeles:20141219T183000
DTEND;TZID=America/Los_Angeles:20141219T210000
DTSTAMP:20260425T073733
CREATED:20140914T054329Z
LAST-MODIFIED:20140914T054329Z
UID:480-1419013800-1419022800@farmschoolonlosrios.com
SUMMARY:Rancho Viejo Christmas Party
DESCRIPTION:
URL:https://farmschoolonlosrios.com/event/rancho-viejo-christmas-party/
CATEGORIES:Private Gathering
END:VEVENT
BEGIN:VEVENT
DTSTART;TZID=America/Los_Angeles:20141218T183000
DTEND;TZID=America/Los_Angeles:20141218T203000
DTSTAMP:20260425T073733
CREATED:20140914T052659Z
LAST-MODIFIED:20140914T052710Z
UID:479-1418927400-1418934600@farmschoolonlosrios.com
SUMMARY:The Whole Enchilada
DESCRIPTION:On the menu tonight – Warm Black Bean Dip with Tortilla Chips\, White Chicken Enchiladas\, Stacked Roasted Veggie Enchiladas\, and Cheese Enchiladas with Salsa Verde.
URL:https://farmschoolonlosrios.com/event/whole-enchilada/
CATEGORIES:Classes
END:VEVENT
BEGIN:VEVENT
DTSTART;TZID=America/Los_Angeles:20141212T110000
DTEND;TZID=America/Los_Angeles:20141212T140000
DTSTAMP:20260425T073733
CREATED:20141113T042220Z
LAST-MODIFIED:20141113T042220Z
UID:495-1418382000-1418392800@farmschoolonlosrios.com
SUMMARY:Private Party
DESCRIPTION:
URL:https://farmschoolonlosrios.com/event/private-party-8/
END:VEVENT
BEGIN:VEVENT
DTSTART;TZID=America/Los_Angeles:20141211T110000
DTEND;TZID=America/Los_Angeles:20141211T140000
DTSTAMP:20260425T073733
CREATED:20141113T042150Z
LAST-MODIFIED:20141113T042150Z
UID:494-1418295600-1418306400@farmschoolonlosrios.com
SUMMARY:Private Party
DESCRIPTION:
URL:https://farmschoolonlosrios.com/event/private-party-7/
CATEGORIES:Private Gathering
END:VEVENT
BEGIN:VEVENT
DTSTART;TZID=America/Los_Angeles:20141205T183000
DTEND;TZID=America/Los_Angeles:20141205T210000
DTSTAMP:20260425T073733
CREATED:20140914T051656Z
LAST-MODIFIED:20140914T054247Z
UID:474-1417804200-1417813200@farmschoolonlosrios.com
SUMMARY:Date Night - Bit of Italy
DESCRIPTION:Tonight we create Polenta Wedges with Sun-Dried Tomato Tapenade\, Sausage & Rice Timbale\, our famous Bit of Italy Salad\, and a delicious Tiramisu. \n$130 the couple
URL:https://farmschoolonlosrios.com/event/date-night-bit-italy/
CATEGORIES:Date Night
END:VEVENT
BEGIN:VEVENT
DTSTART;TZID=America/Los_Angeles:20141204T183000
DTEND;TZID=America/Los_Angeles:20141204T203000
DTSTAMP:20260425T073733
CREATED:20140914T051231Z
LAST-MODIFIED:20140914T051231Z
UID:473-1417717800-1417725000@farmschoolonlosrios.com
SUMMARY:Cozy Winter Meal
DESCRIPTION:As the weather cools\, warm up the kitchen with our Chicken & Brie Tart\, Crostini with Pears\, Honeyed Chèvre & Pancetta\, Steamed Sautéed Green Beans\, and an Apple Cobbler Crumble.
URL:https://farmschoolonlosrios.com/event/cozy-winter-meal/
CATEGORIES:Classes
END:VEVENT
BEGIN:VEVENT
DTSTART;VALUE=DATE:20141127
DTEND;VALUE=DATE:20141128
DTSTAMP:20260425T073733
CREATED:20140914T054830Z
LAST-MODIFIED:20140914T054830Z
UID:483-1417046400-1417132799@farmschoolonlosrios.com
SUMMARY:Happy Thanksgiving
DESCRIPTION:
URL:https://farmschoolonlosrios.com/event/happy-thanksgiving/
END:VEVENT
BEGIN:VEVENT
DTSTART;TZID=America/Los_Angeles:20141121T183000
DTEND;TZID=America/Los_Angeles:20141121T210000
DTSTAMP:20260425T073733
CREATED:20140914T050814Z
LAST-MODIFIED:20140914T050814Z
UID:472-1416594600-1416603600@farmschoolonlosrios.com
SUMMARY:Date Night - French Countryside
DESCRIPTION:Work side-by-side with your special someone as we create Coq au Vin with Pearl Onions & Button Mushrooms\, our Farm School Caramel & Sea Salt Brie with Toasts\, Autumn Greens with White Wine Vinaigrette\, Perfect Boiled New Potatoes with Parsley and a Pear Clafouti!
URL:https://farmschoolonlosrios.com/event/date-night-french-countryside/
CATEGORIES:Date Night
END:VEVENT
BEGIN:VEVENT
DTSTART;TZID=America/Los_Angeles:20141120T183000
DTEND;TZID=America/Los_Angeles:20141120T203000
DTSTAMP:20260425T073733
CREATED:20140914T050521Z
LAST-MODIFIED:20140914T053820Z
UID:471-1416508200-1416515400@farmschoolonlosrios.com
SUMMARY:Bread Baking
DESCRIPTION:From Classic Southern Biscuits to Gruyere & Thyme Popovers – join us as we explore bread baking.  Also on the menu\, Pretzel Dinner Rolls and a Rosemary\, Sea Salt & Olive Oil Focaccia.
URL:https://farmschoolonlosrios.com/event/bread-baking/
CATEGORIES:Classes
END:VEVENT
BEGIN:VEVENT
DTSTART;TZID=America/Los_Angeles:20141113T183000
DTEND;TZID=America/Los_Angeles:20141113T203000
DTSTAMP:20260425T073733
CREATED:20140914T050303Z
LAST-MODIFIED:20141023T042443Z
UID:470-1415903400-1415910600@farmschoolonlosrios.com
SUMMARY:Impressive Holiday Hors d'oeuvres
DESCRIPTION:On the menu – Roasted Shrimp Cocktail with Spicy Sauce\, Warm Caramelized Onion\, Bacon & Gruyere Dip\, Farm School Sea Salt & Caramel Brie\, Pear & Prosciutto Bruschetta with Pomegranate Molasses\, and Cajun Stuffed Mushrooms.
URL:https://farmschoolonlosrios.com/event/impressive-holliday-hors-doeuvres/
CATEGORIES:Classes
END:VEVENT
END:VCALENDAR