BEGIN:VCALENDAR
VERSION:2.0
PRODID:-//Farm School on Los Rios Street | San Juan Capistrano, CA - ECPv6.15.20//NONSGML v1.0//EN
CALSCALE:GREGORIAN
METHOD:PUBLISH
X-ORIGINAL-URL:https://farmschoolonlosrios.com
X-WR-CALDESC:Events for Farm School on Los Rios Street | San Juan Capistrano, CA
REFRESH-INTERVAL;VALUE=DURATION:PT1H
X-Robots-Tag:noindex
X-PUBLISHED-TTL:PT1H
BEGIN:VTIMEZONE
TZID:America/Los_Angeles
BEGIN:DAYLIGHT
TZOFFSETFROM:-0800
TZOFFSETTO:-0700
TZNAME:PDT
DTSTART:20140309T100000
END:DAYLIGHT
BEGIN:STANDARD
TZOFFSETFROM:-0700
TZOFFSETTO:-0800
TZNAME:PST
DTSTART:20141102T090000
END:STANDARD
BEGIN:DAYLIGHT
TZOFFSETFROM:-0800
TZOFFSETTO:-0700
TZNAME:PDT
DTSTART:20150308T100000
END:DAYLIGHT
BEGIN:STANDARD
TZOFFSETFROM:-0700
TZOFFSETTO:-0800
TZNAME:PST
DTSTART:20151101T090000
END:STANDARD
BEGIN:DAYLIGHT
TZOFFSETFROM:-0800
TZOFFSETTO:-0700
TZNAME:PDT
DTSTART:20160313T100000
END:DAYLIGHT
BEGIN:STANDARD
TZOFFSETFROM:-0700
TZOFFSETTO:-0800
TZNAME:PST
DTSTART:20161106T090000
END:STANDARD
END:VTIMEZONE
BEGIN:VEVENT
DTSTART;TZID=America/Los_Angeles:20150625T183000
DTEND;TZID=America/Los_Angeles:20150625T203000
DTSTAMP:20260425T042823
CREATED:20150503T083618Z
LAST-MODIFIED:20150503T083618Z
UID:603-1435257000-1435264200@farmschoolonlosrios.com
SUMMARY:South of the Border Favorites
DESCRIPTION:Tonight we enjoy an Avocado\, Orange & Jicama Salad\, Chili Spiced Skirt Steak Tacos\, Mexican Rice and Dessert Nachos.
URL:https://farmschoolonlosrios.com/event/south-of-the-border-favorites/
CATEGORIES:Classes
END:VEVENT
BEGIN:VEVENT
DTSTART;TZID=America/Los_Angeles:20150619T180000
DTEND;TZID=America/Los_Angeles:20150619T200000
DTSTAMP:20260425T042823
CREATED:20150415T055815Z
LAST-MODIFIED:20150415T060000Z
UID:588-1434736800-1434744000@farmschoolonlosrios.com
SUMMARY:Private Party
DESCRIPTION:Rancho Viejo Montessori School Graduation.
URL:https://farmschoolonlosrios.com/event/private-party-12/
CATEGORIES:Private Gathering
END:VEVENT
BEGIN:VEVENT
DTSTART;TZID=America/Los_Angeles:20150618T183000
DTEND;TZID=America/Los_Angeles:20150618T203000
DTSTAMP:20260425T042823
CREATED:20150503T090053Z
LAST-MODIFIED:20150503T090053Z
UID:612-1434652200-1434659400@farmschoolonlosrios.com
SUMMARY:Private Event
DESCRIPTION:
URL:https://farmschoolonlosrios.com/event/private-event-8/
CATEGORIES:Private Gathering
END:VEVENT
BEGIN:VEVENT
DTSTART;TZID=America/Los_Angeles:20150612T183000
DTEND;TZID=America/Los_Angeles:20150612T213000
DTSTAMP:20260425T042823
CREATED:20150430T035521Z
LAST-MODIFIED:20150614T013524Z
UID:599-1434133800-1434144600@farmschoolonlosrios.com
SUMMARY:Pastry Event
DESCRIPTION:Learn the baking secrets of Guest Pastry Chef Emily.
URL:https://farmschoolonlosrios.com/event/private-event-6/
CATEGORIES:Classes
END:VEVENT
BEGIN:VEVENT
DTSTART;TZID=America/Los_Angeles:20150611T183000
DTEND;TZID=America/Los_Angeles:20150611T203000
DTSTAMP:20260425T042823
CREATED:20150503T083312Z
LAST-MODIFIED:20150503T083312Z
UID:602-1434047400-1434054600@farmschoolonlosrios.com
SUMMARY:Flavors of the Mediterranean
DESCRIPTION:Our menu this evening includes a Greek Layered Dip\, Fattoush Salad\, Chicken Souvlaki with Tzatziki\, and Rizogalo Ice Cream (Greek Rice Pudding Ice Cream)
URL:https://farmschoolonlosrios.com/event/flavors-of-the-mediterranean/
CATEGORIES:Classes
END:VEVENT
BEGIN:VEVENT
DTSTART;TZID=America/Los_Angeles:20150605T183000
DTEND;TZID=America/Los_Angeles:20150605T213000
DTSTAMP:20260425T042823
CREATED:20150422T203051Z
LAST-MODIFIED:20150503T083340Z
UID:597-1433529000-1433539800@farmschoolonlosrios.com
SUMMARY:Date Night - So Cal Grilling
DESCRIPTION:Join us to learn the secret to making the World’s Best Burger and how to grill a variety of vegetables. We will also make flame-licked Fingerling Potatoes\, Grilled Avocados and a Spicy Grilled Pineapple.
URL:https://farmschoolonlosrios.com/event/date-night-7/
CATEGORIES:Date Night
END:VEVENT
BEGIN:VEVENT
DTSTART;TZID=America/Los_Angeles:20150604T183000
DTEND;TZID=America/Los_Angeles:20150604T203000
DTSTAMP:20260425T042823
CREATED:20150415T041040Z
LAST-MODIFIED:20150415T041215Z
UID:585-1433442600-1433449800@farmschoolonlosrios.com
SUMMARY:Pizza Night
DESCRIPTION:Join us for our popular pizza class where we first learn the art of the Master Pizza Dough. Our menu includes Pizza with Caramelized Onions\, Gruyere & Bacon\, Pizza with Seafood\, Sauteed Mushrooms & Bell Peppers\, and Pizza with Pesto\, Fontina & Pine Nuts.
URL:https://farmschoolonlosrios.com/event/pizza-night-3/
CATEGORIES:Classes
END:VEVENT
BEGIN:VEVENT
DTSTART;TZID=America/Los_Angeles:20150528T183000
DTEND;TZID=America/Los_Angeles:20150528T203000
DTSTAMP:20260425T042823
CREATED:20150411T062608Z
LAST-MODIFIED:20150415T041357Z
UID:581-1432837800-1432845000@farmschoolonlosrios.com
SUMMARY:Cooking with Cast Iron
DESCRIPTION:Oh the things you can cook with a cast iron pan and a little panache!  The menu includes a Dutch Baby Pancake\, Vegetable Rice\, Baked Fish\, and Moules a la Mariner.
URL:https://farmschoolonlosrios.com/event/cast-iron/
CATEGORIES:Classes
END:VEVENT
BEGIN:VEVENT
DTSTART;TZID=America/Los_Angeles:20150521T183000
DTEND;TZID=America/Los_Angeles:20150521T203000
DTSTAMP:20260425T042823
CREATED:20150503T090020Z
LAST-MODIFIED:20150503T090020Z
UID:611-1432233000-1432240200@farmschoolonlosrios.com
SUMMARY:Private Event
DESCRIPTION:
URL:https://farmschoolonlosrios.com/event/private-event-7/
CATEGORIES:Private Gathering
END:VEVENT
BEGIN:VEVENT
DTSTART;TZID=America/Los_Angeles:20150515T173000
DTEND;TZID=America/Los_Angeles:20150515T213000
DTSTAMP:20260425T042823
CREATED:20150415T055609Z
LAST-MODIFIED:20150415T055609Z
UID:587-1431711000-1431725400@farmschoolonlosrios.com
SUMMARY:Date Night - Basque Country
DESCRIPTION:Join us with your special someone and we create a Basque Masterpiece!  Our menu includes Smoked Paprika Prawn Pintxos\, Piperade with Poached Egg\, Basque Vegetable Rice with Sheep’s Milke Cheese\, and Pantxineta – a Basque Pastry Cream Pie with Almonds and Hazelnuts. \nPriced per couple.
URL:https://farmschoolonlosrios.com/event/date-night-basque-country/
CATEGORIES:Date Night
END:VEVENT
BEGIN:VEVENT
DTSTART;TZID=America/Los_Angeles:20150514T183000
DTEND;TZID=America/Los_Angeles:20150514T203000
DTSTAMP:20260425T042823
CREATED:20150323T040616Z
LAST-MODIFIED:20150503T082815Z
UID:578-1431628200-1431635400@farmschoolonlosrios.com
SUMMARY:Spring into Summer - hors d'oeuvres
DESCRIPTION:Our menu includes Roasted Corn & Shrimp Salad on Endive\, Antipasto Stuffed Baguettes\, Cucumber Cups with Asian Tofu Salad\, and Nectarine\, Prosciutto & Homemade Ricotta Crostini.
URL:https://farmschoolonlosrios.com/event/spring-into-summer-hors-doeuvres/
CATEGORIES:Classes
END:VEVENT
BEGIN:VEVENT
DTSTART;TZID=America/Los_Angeles:20150507T183000
DTEND;TZID=America/Los_Angeles:20150507T203000
DTSTAMP:20260425T042823
CREATED:20150318T225927Z
LAST-MODIFIED:20150318T225927Z
UID:576-1431023400-1431030600@farmschoolonlosrios.com
SUMMARY:Siete de Mayo!
DESCRIPTION:Come celebrate Southern California – Baja style.  Time to bring out the Grill!  Our menu includes fantastic Fish Tacos\, Carne Asada Tacos\, authentic Red Rice and a Mexican chopped salad.
URL:https://farmschoolonlosrios.com/event/siete-de-mayo-2/
CATEGORIES:Classes
END:VEVENT
BEGIN:VEVENT
DTSTART;TZID=America/Los_Angeles:20150504T183000
DTEND;TZID=America/Los_Angeles:20150504T203000
DTSTAMP:20260425T042823
CREATED:20150222T053415Z
LAST-MODIFIED:20150222T053415Z
UID:555-1430764200-1430771400@farmschoolonlosrios.com
SUMMARY:Private Party
DESCRIPTION:
URL:https://farmschoolonlosrios.com/event/private-party-10/
CATEGORIES:Private Gathering
END:VEVENT
BEGIN:VEVENT
DTSTART;TZID=America/Los_Angeles:20150501T183000
DTEND;TZID=America/Los_Angeles:20150501T213000
DTSTAMP:20260425T042823
CREATED:20150218T052055Z
LAST-MODIFIED:20150308T230754Z
UID:549-1430505000-1430515800@farmschoolonlosrios.com
SUMMARY:date night - French Cooking
DESCRIPTION:Join us with your special someone as we celebrate the romance of France. Crab and Brie Stuffed Mushrooms\, Greens with Warm Goat Cheese & Hazelnuts\, Roasted Salmon with Mustard and Tarragon\, Glazed Vegetables and Chocolate Pots de Creme. \nPrice per couple.
URL:https://farmschoolonlosrios.com/event/date-night-baja-california-style/
CATEGORIES:Date Night
END:VEVENT
BEGIN:VEVENT
DTSTART;TZID=America/Los_Angeles:20150430T183000
DTEND;TZID=America/Los_Angeles:20150430T203000
DTSTAMP:20260425T042823
CREATED:20150205T055859Z
LAST-MODIFIED:20150205T055859Z
UID:536-1430418600-1430425800@farmschoolonlosrios.com
SUMMARY:Tapas
DESCRIPTION:Garlic Prawns\, Cauliflower Fritters with Creme Fraiche & Salmon Caviar\, Tuna and Green Olive Empanadas\, and Chorizo Filled Dates wrapped in Bacon.
URL:https://farmschoolonlosrios.com/event/tapas-2/
CATEGORIES:Classes
END:VEVENT
BEGIN:VEVENT
DTSTART;TZID=America/Los_Angeles:20150425T170000
DTEND;TZID=America/Los_Angeles:20150425T210000
DTSTAMP:20260425T042823
CREATED:20150415T055849Z
LAST-MODIFIED:20150415T055849Z
UID:589-1429981200-1429995600@farmschoolonlosrios.com
SUMMARY:Private Event
DESCRIPTION:
URL:https://farmschoolonlosrios.com/event/private-event-5/
CATEGORIES:Private Gathering
END:VEVENT
BEGIN:VEVENT
DTSTART;TZID=America/Los_Angeles:20150423T183000
DTEND;TZID=America/Los_Angeles:20150423T203000
DTSTAMP:20260425T042823
CREATED:20141224T061148Z
LAST-MODIFIED:20150308T231326Z
UID:517-1429813800-1429821000@farmschoolonlosrios.com
SUMMARY:Private Party
DESCRIPTION:  \n 
URL:https://farmschoolonlosrios.com/event/gastro-pub-grub/
CATEGORIES:Classes
END:VEVENT
BEGIN:VEVENT
DTSTART;TZID=America/Los_Angeles:20150420T183000
DTEND;TZID=America/Los_Angeles:20150420T203000
DTSTAMP:20260425T042823
CREATED:20150411T062755Z
LAST-MODIFIED:20150411T062755Z
UID:582-1429554600-1429561800@farmschoolonlosrios.com
SUMMARY:Private Event
DESCRIPTION:
URL:https://farmschoolonlosrios.com/event/private-event-4/
CATEGORIES:Private Gathering
END:VEVENT
BEGIN:VEVENT
DTSTART;TZID=America/Los_Angeles:20150417T183000
DTEND;TZID=America/Los_Angeles:20150417T213000
DTSTAMP:20260425T042823
CREATED:20150205T060338Z
LAST-MODIFIED:20150205T060338Z
UID:537-1429295400-1429306200@farmschoolonlosrios.com
SUMMARY:Date Night - Flavors of Italy
DESCRIPTION:Love Italian Style!  Our menu includes Balsamic Strawberries & Ricotta Crostini\, Italian Stuffed Mushrooms\, Bit Italian Salad\, Flank Steak stuffed with Spinach & Prosciutto\, and Orange Gelato with Dark Chocolate Sauce. \n  \nPrice per couple
URL:https://farmschoolonlosrios.com/event/date-night-flavors-italy/
CATEGORIES:Date Night
END:VEVENT
BEGIN:VEVENT
DTSTART;TZID=America/Los_Angeles:20150416T183000
DTEND;TZID=America/Los_Angeles:20150416T203000
DTSTAMP:20260425T042823
CREATED:20150205T055555Z
LAST-MODIFIED:20150205T055555Z
UID:535-1429209000-1429216200@farmschoolonlosrios.com
SUMMARY:Healthy & Fantastic
DESCRIPTION:Our menu includes Phyllo Wrapped Asparagus with Prosciutto\, Citrus Quinoa Salad\, Salmon en Papillote with Watercress\, Ginger & Lemon\, and Valencia Orange & Honey Sorbet
URL:https://farmschoolonlosrios.com/event/healthy-fantastic-2/
CATEGORIES:Classes
END:VEVENT
BEGIN:VEVENT
DTSTART;TZID=America/Los_Angeles:20150403T183000
DTEND;TZID=America/Los_Angeles:20150403T213000
DTSTAMP:20260425T042823
CREATED:20150205T055236Z
LAST-MODIFIED:20150205T061132Z
UID:533-1428085800-1428096600@farmschoolonlosrios.com
SUMMARY:Date Night - Romance of France
DESCRIPTION:Join us with your special someone as we celebrate the romance of France.  Crab and Brie Stuffed Mushrooms\, Greens with Warm Goat Cheese & Hazelnuts\, Roasted Salmon with Mustard and Tarragon\, Glazed Vegetables and Chocolate Pots de Creme. \nPrice per couple.
URL:https://farmschoolonlosrios.com/event/romance-france-2/
CATEGORIES:Date Night
END:VEVENT
BEGIN:VEVENT
DTSTART;TZID=America/Los_Angeles:20150402T183000
DTEND;TZID=America/Los_Angeles:20150402T203000
DTSTAMP:20260425T042823
CREATED:20141224T013926Z
LAST-MODIFIED:20150205T061210Z
UID:505-1427999400-1428006600@farmschoolonlosrios.com
SUMMARY:A Fresh Spring Dinner
DESCRIPTION:Welcome Spring as we learn to make a fresh Vegetable Soup\, Chicken and Brie Tart\, Spring Salad with Fresh Herb Vinaigrette\, and Fresh Orange Pound Cake.
URL:https://farmschoolonlosrios.com/event/heartwarming-winter-dinner/
CATEGORIES:Classes
END:VEVENT
BEGIN:VEVENT
DTSTART;TZID=America/Los_Angeles:20150319T183000
DTEND;TZID=America/Los_Angeles:20150319T203000
DTSTAMP:20260425T042823
CREATED:20141224T055344Z
LAST-MODIFIED:20150205T054555Z
UID:516-1426789800-1426797000@farmschoolonlosrios.com
SUMMARY:Private Party
DESCRIPTION:Taco Fiesta \nCLASS FULL
URL:https://farmschoolonlosrios.com/event/taco-fiesta/
CATEGORIES:Private Gathering
END:VEVENT
BEGIN:VEVENT
DTSTART;TZID=America/Los_Angeles:20150313T063000
DTEND;TZID=America/Los_Angeles:20150313T213000
DTSTAMP:20260425T042823
CREATED:20150308T230917Z
LAST-MODIFIED:20150308T230917Z
UID:574-1426228200-1426282200@farmschoolonlosrios.com
SUMMARY:Private Party
DESCRIPTION:
URL:https://farmschoolonlosrios.com/event/private-party-11/
CATEGORIES:Private Gathering
END:VEVENT
BEGIN:VEVENT
DTSTART;TZID=America/Los_Angeles:20150312T183000
DTEND;TZID=America/Los_Angeles:20150312T203000
DTSTAMP:20260425T042823
CREATED:20141224T054507Z
LAST-MODIFIED:20141224T054507Z
UID:515-1426185000-1426192200@farmschoolonlosrios.com
SUMMARY:Wee Bit O' the Irish
DESCRIPTION:Tonight’s Irish dinner includes Herb Roasted Lamb Chops\, Braised Root Vegetables\, Colcannon (creamy kale & potatoes) and a Chocolate Stout Bundt Cake.
URL:https://farmschoolonlosrios.com/event/wee-bit-o-irish/
CATEGORIES:Classes
END:VEVENT
BEGIN:VEVENT
DTSTART;TZID=America/Los_Angeles:20150306T183000
DTEND;TZID=America/Los_Angeles:20150306T213000
DTSTAMP:20260425T042823
CREATED:20141224T042117Z
LAST-MODIFIED:20141224T052820Z
UID:509-1425666600-1425677400@farmschoolonlosrios.com
SUMMARY:Date Night - Flavors of the Mediterranean
DESCRIPTION:Our Date Night menu includes Prosciutto Wrapped Asparagus with Mascarpone\, Greek Chicken Roulades with a White Wine Reduction\, Creamy Orzo with Sun-dried Tomatoes\, our famous Bit Italian Salad\, and a traditional Greek Rice Pudding.  Price per couple.
URL:https://farmschoolonlosrios.com/event/flavors-mediterranean-2/
CATEGORIES:Date Night
END:VEVENT
BEGIN:VEVENT
DTSTART;TZID=America/Los_Angeles:20150305T183000
DTEND;TZID=America/Los_Angeles:20150305T203000
DTSTAMP:20260425T042823
CREATED:20141224T043413Z
LAST-MODIFIED:20150218T051010Z
UID:510-1425580200-1425587400@farmschoolonlosrios.com
SUMMARY:Private Party
DESCRIPTION:Lovely little dishes.  Lentils Vinaigrette\, Potato Leek Soup\, Mussels with White Wine & Onion\, and Tarte Tatin.  Ooh la la.
URL:https://farmschoolonlosrios.com/event/bistro-fare/
CATEGORIES:Classes
END:VEVENT
BEGIN:VEVENT
DTSTART;TZID=America/Los_Angeles:20150226T183000
DTEND;TZID=America/Los_Angeles:20150226T203000
DTSTAMP:20260425T042823
CREATED:20141119T081337Z
LAST-MODIFIED:20141224T014005Z
UID:500-1424975400-1424982600@farmschoolonlosrios.com
SUMMARY:A Simple Supper
DESCRIPTION:Timeless and tasty\, too!  Honey Mustard Pork Tenderloin\, Black Rice with Cranberries & Goat Cheese\, Steam Sauteed Green Beans\, and a Simple Apple Tart.
URL:https://farmschoolonlosrios.com/event/cozy-winter-dinner/
CATEGORIES:Classes
END:VEVENT
BEGIN:VEVENT
DTSTART;TZID=America/Los_Angeles:20150220T183000
DTEND;TZID=America/Los_Angeles:20150220T203000
DTSTAMP:20260425T042823
CREATED:20141224T052256Z
LAST-MODIFIED:20141224T052842Z
UID:512-1424457000-1424464200@farmschoolonlosrios.com
SUMMARY:Date Night - Love San Francisco Style
DESCRIPTION:Join us with your special someone and learn to create Rumaki\, Chopped Salad with Green Goddess Dressing\, Cioppino\, Sourdough Garlic Bread\, and Homemade It’s Its – (oatmeal cookie & ice cream sandwiches dipped in Chocolate)  Price per couplde
URL:https://farmschoolonlosrios.com/event/love-san-francisco-style/
CATEGORIES:Date Night
END:VEVENT
BEGIN:VEVENT
DTSTART;TZID=America/Los_Angeles:20150219T183000
DTEND;TZID=America/Los_Angeles:20150219T203000
DTSTAMP:20260425T042823
CREATED:20141224T030733Z
LAST-MODIFIED:20150205T053854Z
UID:507-1424370600-1424377800@farmschoolonlosrios.com
SUMMARY:Private Party
DESCRIPTION:
URL:https://farmschoolonlosrios.com/event/deceptively-healthy/
CATEGORIES:Private Gathering
END:VEVENT
END:VCALENDAR