BEGIN:VCALENDAR
VERSION:2.0
PRODID:-//Farm School on Los Rios Street | San Juan Capistrano, CA - ECPv6.15.20//NONSGML v1.0//EN
CALSCALE:GREGORIAN
METHOD:PUBLISH
X-WR-CALNAME:Farm School on Los Rios Street | San Juan Capistrano, CA
X-ORIGINAL-URL:https://farmschoolonlosrios.com
X-WR-CALDESC:Events for Farm School on Los Rios Street | San Juan Capistrano, CA
REFRESH-INTERVAL;VALUE=DURATION:PT1H
X-Robots-Tag:noindex
X-PUBLISHED-TTL:PT1H
BEGIN:VTIMEZONE
TZID:UTC
BEGIN:STANDARD
TZOFFSETFROM:+0000
TZOFFSETTO:+0000
TZNAME:UTC
DTSTART:20150101T000000
END:STANDARD
END:VTIMEZONE
BEGIN:VEVENT
DTSTART;TZID=UTC:20160721T183000
DTEND;TZID=UTC:20160721T203000
DTSTAMP:20260422T192218
CREATED:20160605T010450Z
LAST-MODIFIED:20160605T010528Z
UID:766-1469125800-1469133000@farmschoolonlosrios.com
SUMMARY:Summer Small Plates
DESCRIPTION:Tonight our menu from around the world includes Cucumber Cups with Crab Salad\, Asparagus & Goat Cheese Empanadas with Chimichurri Dipping Sauce\, a Crostini with Peaches\, Basil\, Honey-whipped Chevre & Pancetta\, and Chocolate Chip Cannoli Cups.
URL:https://farmschoolonlosrios.com/event/summer-small-plates-2/
CATEGORIES:Classes
END:VEVENT
BEGIN:VEVENT
DTSTART;TZID=UTC:20160714T183000
DTEND;TZID=UTC:20160714T203000
DTSTAMP:20260422T192218
CREATED:20160605T005803Z
LAST-MODIFIED:20160605T005803Z
UID:764-1468521000-1468528200@farmschoolonlosrios.com
SUMMARY:You Say Tomato...
DESCRIPTION:Our vines are bursting with ripe tomatoes!  Come enjoy a fresh Gazpacho\, also Oven-dried Tomatoes with Pesto Ricotta and Toasts\, a Tomato Stack with Corn\, Avocado & Buttermilk Dressing\, and Pasta with Burst Tomatoes\, Salmon & Mascarpone.
URL:https://farmschoolonlosrios.com/event/you-say-tomato/
CATEGORIES:Classes
END:VEVENT
BEGIN:VEVENT
DTSTART;TZID=UTC:20160708T183000
DTEND;TZID=UTC:20160708T213000
DTSTAMP:20260422T192218
CREATED:20160605T010144Z
LAST-MODIFIED:20160605T010144Z
UID:765-1468002600-1468013400@farmschoolonlosrios.com
SUMMARY:Date Night - Grilling Goodness
DESCRIPTION:Bring along your special someone and learn to make the Ultimate Grilled Cheese Sandwich with Homegrown Peach Chutney\, a Honey Grilled Watermelon Caprese\, Herb Grilled Chicken Thighs\, Grilled Fingerling Potatoes\, and Toasted Vanilla Bundt Cake with Dulce de Leche Ice Cream.  Oh my Goodness! \n$140 per couple
URL:https://farmschoolonlosrios.com/event/date-night-grilling-goodness/
CATEGORIES:Date Night
END:VEVENT
BEGIN:VEVENT
DTSTART;TZID=UTC:20160707T183000
DTEND;TZID=UTC:20160707T203000
DTSTAMP:20260422T192218
CREATED:20160605T005145Z
LAST-MODIFIED:20160605T005356Z
UID:763-1467916200-1467923400@farmschoolonlosrios.com
SUMMARY:The Summer Garden
DESCRIPTION:Straight from the garden!  Our menu tonight is Crostini with Roasted Tomatoes\, Burrata and Crsipy Prosciutto\, an Shrimp filled Zucchini with Corn\, Spinach and Salsa Verde\, a Kale Caesar Salad with Roasted Garbanzos\, and a Peach Cobbler.
URL:https://farmschoolonlosrios.com/event/the-summer-garden/
CATEGORIES:Classes
END:VEVENT
BEGIN:VEVENT
DTSTART;TZID=UTC:20160630T183000
DTEND;TZID=UTC:20160630T203000
DTSTAMP:20260422T192218
CREATED:20160408T052044Z
LAST-MODIFIED:20160408T052044Z
UID:760-1467311400-1467318600@farmschoolonlosrios.com
SUMMARY:Keeping it Cool
DESCRIPTION:Summer is heating up so come learn how to cook it cool.  Our menu tonight includes Homemade Hummus with Pita Chips; Chilled Avocado Soup; Roasted Shrimp Caesar Salad; and Mocha Chocolate Icebox Cake.
URL:https://farmschoolonlosrios.com/event/keeping-it-cool/
CATEGORIES:Classes
END:VEVENT
BEGIN:VEVENT
DTSTART;TZID=UTC:20160624T183000
DTEND;TZID=UTC:20160624T213000
DTSTAMP:20260422T192218
CREATED:20160408T045527Z
LAST-MODIFIED:20160408T045527Z
UID:758-1466793000-1466803800@farmschoolonlosrios.com
SUMMARY:Date Night - An Argentine Asado
DESCRIPTION:Join us this evening for a fun Argentine Barbecue.  Our menu includes Provoleta – Grilled Provolone with Tomatoes & Oregano; Steak with Chimichurri; Grilled Summer Squash & Peppers; Argentine Rice Pilaf; and Dulce de Leche Ice Cream. \nPrice per couple
URL:https://farmschoolonlosrios.com/event/date-night-argentine-barbecue/
CATEGORIES:Date Night
END:VEVENT
BEGIN:VEVENT
DTSTART;TZID=UTC:20160623T183000
DTEND;TZID=UTC:20160623T203000
DTSTAMP:20260422T192218
CREATED:20160408T051539Z
LAST-MODIFIED:20160408T051635Z
UID:759-1466706600-1466713800@farmschoolonlosrios.com
SUMMARY:Provencal Favorites
DESCRIPTION:Join us this evening for Tapenade with Toasted Baguette\, Pissaladiere\, Salad Nicoise\, and a Cherry Clafouti.  Now That’s French!
URL:https://farmschoolonlosrios.com/event/provencal-favorites/
CATEGORIES:Classes
END:VEVENT
BEGIN:VEVENT
DTSTART;TZID=UTC:20160602T183000
DTEND;TZID=UTC:20160602T203000
DTSTAMP:20260422T192218
CREATED:20160408T013912Z
LAST-MODIFIED:20160408T013912Z
UID:754-1464892200-1464899400@farmschoolonlosrios.com
SUMMARY:Summer Small Plates
DESCRIPTION:Start the summer season with our signature Sea Scallop BLT; Corncakes with Avocado Crema; Flatbread with Caramelized Nectarines\, Prosciutto & Mascarpone; and Strawberry Cups with Minted Whipped Cream.
URL:https://farmschoolonlosrios.com/event/summer-small-plates/
CATEGORIES:Classes
END:VEVENT
BEGIN:VEVENT
DTSTART;TZID=UTC:20160527T183000
DTEND;TZID=UTC:20160527T213000
DTSTAMP:20260422T192218
CREATED:20160408T005326Z
LAST-MODIFIED:20160408T005712Z
UID:753-1464373800-1464384600@farmschoolonlosrios.com
SUMMARY:Date Night - Fire Up Your Grill
DESCRIPTION:It’s the start of grilling season! ~  Join us as we make Grilled Avocado\, Feta & Tomato Flatbread; Honeydew & Crispy Prosciutto Salad; Grilled Sweet Potatoes with Honey & Lime; Herb Marinated Grilled Skirt Steak; and Spicy Grilled Pineapple with Vanilla Ice Cream. \nPrice per couple
URL:https://farmschoolonlosrios.com/event/let-grilling-begin/
CATEGORIES:Date Night
END:VEVENT
BEGIN:VEVENT
DTSTART;TZID=UTC:20160526T183000
DTEND;TZID=UTC:20160526T203000
DTSTAMP:20260422T192218
CREATED:20160408T004708Z
LAST-MODIFIED:20160408T004844Z
UID:751-1464287400-1464294600@farmschoolonlosrios.com
SUMMARY:Picnic Favorites
DESCRIPTION:Just in time for Memorial Day!  Some new and some tried and true Picnic Favorites: Caramelized Onion Dip\, a Salad Bar in a Jar\, Southern Fried Chicken and Strawberry Shortcakes.
URL:https://farmschoolonlosrios.com/event/new-picnic-favorites/
CATEGORIES:Classes
END:VEVENT
BEGIN:VEVENT
DTSTART;TZID=UTC:20160512T183000
DTEND;TZID=UTC:20160512T203000
DTSTAMP:20260422T192218
CREATED:20160408T002004Z
LAST-MODIFIED:20160408T002004Z
UID:749-1463077800-1463085000@farmschoolonlosrios.com
SUMMARY:Making Mascarpone
DESCRIPTION:Tonight we learn to make Homemade Mascarpone.  From there we will create Prosciutto Wrapped Asparagus with Mascarpone\, Pasta with Burst Tomatoes\, Salmon & Mascarpone\, and Free-Form Seasonal Fruit Tart with Honeyed Mascarpone.
URL:https://farmschoolonlosrios.com/event/making-mascarpone/
CATEGORIES:Classes
END:VEVENT
BEGIN:VEVENT
DTSTART;TZID=UTC:20160505T183000
DTEND;TZID=UTC:20160505T203000
DTSTAMP:20260422T192218
CREATED:20160407T235723Z
LAST-MODIFIED:20160407T235723Z
UID:748-1462473000-1462480200@farmschoolonlosrios.com
SUMMARY:Risotto & Gnocchi
DESCRIPTION:Tonight’s menu includes Risotto Primavera\, Classic Potato Gnocchi with Homemade Pesto and Crostini of Roast Beef\, Shaved Asiago and Pesto
URL:https://farmschoolonlosrios.com/event/748/
CATEGORIES:Classes
END:VEVENT
BEGIN:VEVENT
DTSTART;TZID=UTC:20160504T080000
DTEND;TZID=UTC:20160504T170000
DTSTAMP:20260422T192218
CREATED:20160407T093419Z
LAST-MODIFIED:20160408T000500Z
UID:747-1462348800-1462381200@farmschoolonlosrios.com
SUMMARY:Private Event
DESCRIPTION:
URL:https://farmschoolonlosrios.com/event/private-event-13/
CATEGORIES:Classes,Private Gathering
END:VEVENT
BEGIN:VEVENT
DTSTART;TZID=UTC:20160429T183000
DTEND;TZID=UTC:20160429T203000
DTSTAMP:20260422T192218
CREATED:20160302T055010Z
LAST-MODIFIED:20160408T005649Z
UID:743-1461954600-1461961800@farmschoolonlosrios.com
SUMMARY:Date Night - A Night in Italy
DESCRIPTION:Join us with your special someone and learn to create a Balsamic Strawberry & Ricotta Crostini\, a Porchetta (bacon wrapped\, herb rubbed pork tenderloin)\, Green Bean & Blood Orange Salad\, Italian Roasted Potatoes and Tiramisu. \nPrice per couple
URL:https://farmschoolonlosrios.com/event/a-night-in-italy/
CATEGORIES:Date Night
END:VEVENT
BEGIN:VEVENT
DTSTART;TZID=UTC:20160428T183000
DTEND;TZID=UTC:20160428T203000
DTSTAMP:20260422T192218
CREATED:20160302T054137Z
LAST-MODIFIED:20160302T054137Z
UID:741-1461868200-1461875400@farmschoolonlosrios.com
SUMMARY:Private Event
DESCRIPTION:
URL:https://farmschoolonlosrios.com/event/private-event-11/
CATEGORIES:Classes,Private Gathering
END:VEVENT
BEGIN:VEVENT
DTSTART;TZID=UTC:20160421T183000
DTEND;TZID=UTC:20160421T203000
DTSTAMP:20260422T192218
CREATED:20160302T053914Z
LAST-MODIFIED:20160407T093532Z
UID:739-1461263400-1461270600@farmschoolonlosrios.com
SUMMARY:Celebrating Citrus
DESCRIPTION:Class Full
URL:https://farmschoolonlosrios.com/event/celebrating-citrus/
CATEGORIES:Classes
END:VEVENT
BEGIN:VEVENT
DTSTART;TZID=UTC:20160415T183000
DTEND;TZID=UTC:20160415T213000
DTSTAMP:20260422T192218
CREATED:20160302T054637Z
LAST-MODIFIED:20160407T235816Z
UID:742-1460745000-1460755800@farmschoolonlosrios.com
SUMMARY:American Steakhouse
DESCRIPTION:Class full
URL:https://farmschoolonlosrios.com/event/american-steakhouse/
CATEGORIES:Date Night
END:VEVENT
BEGIN:VEVENT
DTSTART;TZID=UTC:20160409T113000
DTEND;TZID=UTC:20160409T143000
DTSTAMP:20260422T192218
CREATED:20160302T054019Z
LAST-MODIFIED:20160302T054217Z
UID:740-1460201400-1460212200@farmschoolonlosrios.com
SUMMARY:Private Event
DESCRIPTION:
URL:https://farmschoolonlosrios.com/event/private-event-10/
CATEGORIES:Classes,Private Gathering
END:VEVENT
BEGIN:VEVENT
DTSTART;TZID=UTC:20160407T183000
DTEND;TZID=UTC:20160407T203000
DTSTAMP:20260422T192218
CREATED:20160302T052745Z
LAST-MODIFIED:20160302T053043Z
UID:735-1460053800-1460061000@farmschoolonlosrios.com
SUMMARY:Farm Fresh Herbs
DESCRIPTION:Our menu this evening includes Spring Greens with Creamy Herb Vinaigrette\, Tuscan Ribs with Balsamic Reduction\, Wild and Brown Rice Casserole and a Bay Leaf Pound Cake\,
URL:https://farmschoolonlosrios.com/event/farm-fresh-herbs/
CATEGORIES:Classes
END:VEVENT
BEGIN:VEVENT
DTSTART;TZID=UTC:20160324T183000
DTEND;TZID=UTC:20160324T203000
DTSTAMP:20260422T192218
CREATED:20160120T052115Z
LAST-MODIFIED:20160120T052115Z
UID:729-1458844200-1458851400@farmschoolonlosrios.com
SUMMARY:The Real Ricotta
DESCRIPTION:Nothing beats fresh homemade Ricotta.  Come learn how!  From there we create a One-Pot Pasata Primavera\, a Spring Green Salad with Creamy Herb Vinaigrette\, and Orecchiette with Pancetta\, Spring Peas & Herbs.
URL:https://farmschoolonlosrios.com/event/the-real-ricotta/
CATEGORIES:Classes
END:VEVENT
BEGIN:VEVENT
DTSTART;TZID=UTC:20160318T183000
DTEND;TZID=UTC:20160318T213000
DTSTAMP:20260422T192218
CREATED:20160120T053809Z
LAST-MODIFIED:20160120T053809Z
UID:731-1458325800-1458336600@farmschoolonlosrios.com
SUMMARY:French Bistro Petit Plates
DESCRIPTION:Tonight we create small plates à la française.  The menu includes Camembert Baked in the Box\, Lentils Vinaigrette\, Potato Leek Soup\, Moules à la Marinière\, an Endive & Watercress Salad with Apples & Herbs\, and a Tarte Tatin. \nPrice per couple
URL:https://farmschoolonlosrios.com/event/french-bistro-petit-plates/
CATEGORIES:Date Night
END:VEVENT
BEGIN:VEVENT
DTSTART;TZID=UTC:20160317T183000
DTEND;TZID=UTC:20160317T203000
DTSTAMP:20260422T192218
CREATED:20160120T051038Z
LAST-MODIFIED:20160120T051038Z
UID:728-1458239400-1458246600@farmschoolonlosrios.com
SUMMARY:St. Patrick's Day
DESCRIPTION:Come celebrate St. Patrick’s Day and learn to make Corned Beef Flatbreads with Dubliner Cheese\, Black and Tan Pork Tenderloin\, a Sweet & Spicy Ale Slaw and an Apple Crumble with Irish Whisky Cream.
URL:https://farmschoolonlosrios.com/event/st-patricks-day/
CATEGORIES:Classes
END:VEVENT
BEGIN:VEVENT
DTSTART;TZID=UTC:20160310T183000
DTEND;TZID=UTC:20160310T203000
DTSTAMP:20260422T192218
CREATED:20160120T050651Z
LAST-MODIFIED:20160120T050758Z
UID:727-1457634600-1457641800@farmschoolonlosrios.com
SUMMARY:Artichokes & Asparagus
DESCRIPTION:Tonight our menu includes Baby Artichokes en Papillote\, Asparagus Sub Sandwiches with Smokey French Dressing\, Chicken & Artichokes in White Wine Sauce and Roasted Asparagus with Lemon vinaigrette.
URL:https://farmschoolonlosrios.com/event/artichokes-asparagus/
CATEGORIES:Classes
END:VEVENT
BEGIN:VEVENT
DTSTART;TZID=UTC:20160304T183000
DTEND;TZID=UTC:20160304T213000
DTSTAMP:20260422T192218
CREATED:20160120T052404Z
LAST-MODIFIED:20160120T054011Z
UID:730-1457116200-1457127000@farmschoolonlosrios.com
SUMMARY:Mexican Fiesta
DESCRIPTION:Join us with your special someone as we learn to make classic Coctel de Camarones (shrimp cocktail)\, Chicken Enchiladas with Homemade Red Chili Enchilada Sauce\, Spicy Mexican Rice\, and Avocado\, Orange & Jicama Salad.  Top it off with a Mexican Chocolate Cake. \nPrice per couple.
URL:https://farmschoolonlosrios.com/event/mexican-fiesta/
CATEGORIES:Date Night
END:VEVENT
BEGIN:VEVENT
DTSTART;TZID=UTC:20160303T183000
DTEND;TZID=UTC:20160303T203000
DTSTAMP:20260422T192218
CREATED:20160120T050439Z
LAST-MODIFIED:20160120T050439Z
UID:726-1457029800-1457037000@farmschoolonlosrios.com
SUMMARY:Pizza Night
DESCRIPTION:Join us tonight and learn to make the Master Pizza Dough.  From there we make a Stuffed Palermo Style Pizza with Prosciutto\, Salami & Three Cheese.  Also on the menu is a Smoked Salmon & Brie Pizza with Cornmeal Crust\, and a BBQ Chicken & Pepper Jack Pizza with Whole Wheat Crust.
URL:https://farmschoolonlosrios.com/event/pizza-night-5/
CATEGORIES:Classes
END:VEVENT
BEGIN:VEVENT
DTSTART;TZID=UTC:20160225T183000
DTEND;TZID=UTC:20160225T203000
DTSTAMP:20260422T192218
CREATED:20151214T080953Z
LAST-MODIFIED:20151214T080953Z
UID:717-1456425000-1456432200@farmschoolonlosrios.com
SUMMARY:Quick & Easy Entrees
DESCRIPTION:Tonight’s menu includes Garlic & Rosemary Roasted Chicken\, Honey Mustard Pork Tenderloin\, Orecchiette with Pancetta\, Peas & Herbs and a Winter Chopped Salad.
URL:https://farmschoolonlosrios.com/event/quick-easy-entrees/
CATEGORIES:Classes
END:VEVENT
BEGIN:VEVENT
DTSTART;TZID=UTC:20160219T183000
DTEND;TZID=UTC:20160219T213000
DTSTAMP:20260422T192218
CREATED:20151214T082835Z
LAST-MODIFIED:20151214T083019Z
UID:719-1455906600-1455917400@farmschoolonlosrios.com
SUMMARY:Mardi Gras Madness
DESCRIPTION:Whether Cajun or Creole\, tonight’s menu is sure to please.  Our menu includes Cajun Stuffed Mushrooms\, Chicken Gumbo\, Red Beans & Rice\, Bayou Slaw and a Pecan Pie.  Really. \nPrice Per Couple.
URL:https://farmschoolonlosrios.com/event/mardi-gras-madness/
CATEGORIES:Date Night
END:VEVENT
BEGIN:VEVENT
DTSTART;TZID=UTC:20160218T183000
DTEND;TZID=UTC:20160218T203000
DTSTAMP:20260422T192218
CREATED:20151214T080606Z
LAST-MODIFIED:20151214T080606Z
UID:716-1455820200-1455827400@farmschoolonlosrios.com
SUMMARY:A Taste of Spain
DESCRIPTION:Tonight we create an authentic Tortilla Española\, Gambas al Ajillo\, a Red Onion & Orange Salad and Chicken & Spanish Chorizo Paella.  Olé.
URL:https://farmschoolonlosrios.com/event/a-taste-of-spain/
CATEGORIES:Classes
END:VEVENT
BEGIN:VEVENT
DTSTART;TZID=UTC:20160213T180000
DTEND;TZID=UTC:20160213T210000
DTSTAMP:20260422T192218
CREATED:20160120T054236Z
LAST-MODIFIED:20160120T054316Z
UID:732-1455386400-1455397200@farmschoolonlosrios.com
SUMMARY:Private Gathering
DESCRIPTION:
URL:https://farmschoolonlosrios.com/event/private-event-9/
CATEGORIES:Private Gathering
END:VEVENT
BEGIN:VEVENT
DTSTART;TZID=UTC:20160211T183000
DTEND;TZID=UTC:20160211T203000
DTSTAMP:20260422T192218
CREATED:20151214T080052Z
LAST-MODIFIED:20151214T080639Z
UID:714-1455215400-1455222600@farmschoolonlosrios.com
SUMMARY:A Romantic Little Dinner
DESCRIPTION:We start with our Sea Scallop BLT\, then Filet Mignon with Cabernet Sauce\, Steam/Sautéed Green Beans with Almonds and luscious Molten Babycakes.
URL:https://farmschoolonlosrios.com/event/a-romantic-little-dinner/
CATEGORIES:Classes
END:VEVENT
END:VCALENDAR