BEGIN:VCALENDAR
VERSION:2.0
PRODID:-//Farm School on Los Rios Street | San Juan Capistrano, CA - ECPv6.15.20//NONSGML v1.0//EN
CALSCALE:GREGORIAN
METHOD:PUBLISH
X-ORIGINAL-URL:https://farmschoolonlosrios.com
X-WR-CALDESC:Events for Farm School on Los Rios Street | San Juan Capistrano, CA
REFRESH-INTERVAL;VALUE=DURATION:PT1H
X-Robots-Tag:noindex
X-PUBLISHED-TTL:PT1H
BEGIN:VTIMEZONE
TZID:UTC
BEGIN:STANDARD
TZOFFSETFROM:+0000
TZOFFSETTO:+0000
TZNAME:UTC
DTSTART:20150101T000000
END:STANDARD
END:VTIMEZONE
BEGIN:VEVENT
DTSTART;TZID=UTC:20161221T183000
DTEND;TZID=UTC:20161221T203000
DTSTAMP:20260422T141953
CREATED:20161109T065048Z
LAST-MODIFIED:20161109T065048Z
UID:810-1482345000-1482352200@farmschoolonlosrios.com
SUMMARY:Rancho Viejo Christmas Party
DESCRIPTION:
URL:https://farmschoolonlosrios.com/event/rancho-viejo-christmas-party-2/
CATEGORIES:Private Gathering
END:VEVENT
BEGIN:VEVENT
DTSTART;TZID=UTC:20161216T183000
DTEND;TZID=UTC:20161216T213000
DTSTAMP:20260422T141953
CREATED:20161109T064839Z
LAST-MODIFIED:20161109T064839Z
UID:808-1481913000-1481923800@farmschoolonlosrios.com
SUMMARY:Holiday Fun - Date Night
DESCRIPTION:Join us with your special someone as we create some fine holiday fare.  Our menu includes a Caesar Salad in Endive Spears\, Bacon Wrapped Pork Tenderloin with Cherry Sauce\, Potatoes Au Gratin\, Cider Roasted Vegetables and Classic Bread Pudding. \nPrice per couple
URL:https://farmschoolonlosrios.com/event/holiday-fun-date-night/
CATEGORIES:Date Night
END:VEVENT
BEGIN:VEVENT
DTSTART;TZID=UTC:20161215T183000
DTEND;TZID=UTC:20161215T203000
DTSTAMP:20260422T141953
CREATED:20161113T034215Z
LAST-MODIFIED:20161113T034215Z
UID:811-1481826600-1481833800@farmschoolonlosrios.com
SUMMARY:Private
DESCRIPTION:
URL:https://farmschoolonlosrios.com/event/private-5/
CATEGORIES:Private Gathering
END:VEVENT
BEGIN:VEVENT
DTSTART;TZID=UTC:20161208T183000
DTEND;TZID=UTC:20161208T203000
DTSTAMP:20260422T141953
CREATED:20161109T064956Z
LAST-MODIFIED:20161109T064956Z
UID:809-1481221800-1481229000@farmschoolonlosrios.com
SUMMARY:Private
DESCRIPTION:
URL:https://farmschoolonlosrios.com/event/private-3/
CATEGORIES:Private Gathering
END:VEVENT
BEGIN:VEVENT
DTSTART;TZID=UTC:20161202T182500
DTEND;TZID=UTC:20161202T213000
DTSTAMP:20260422T141953
CREATED:20161019T032904Z
LAST-MODIFIED:20161025T041156Z
UID:800-1480703100-1480714200@farmschoolonlosrios.com
SUMMARY:An Italian Affair - Date Night
DESCRIPTION:Join us with your special someone as we create a fantastic feast\, Italian Style.  We will make a Sautéed Pear & Prosciutto Crostini\, Ricotta Gnocchi with Tomato Butter Glaze\, Baked Salmon with Bell Peppers & Capers\, Steam Sautéed Green Beans\, and Bread Pudding. \nPrice Per Couple
URL:https://farmschoolonlosrios.com/event/italian-affair-date-night/
CATEGORIES:Date Night
END:VEVENT
BEGIN:VEVENT
DTSTART;TZID=UTC:20161201T183000
DTEND;TZID=UTC:20161201T203000
DTSTAMP:20260422T141953
CREATED:20161109T064302Z
LAST-MODIFIED:20161113T034139Z
UID:807-1480617000-1480624200@farmschoolonlosrios.com
SUMMARY:Winter Comfort
DESCRIPTION:Snuggle in with some wintertime comfort food.  Tonight our menu includes Italian Stuffed Mushrooms\, Roast Chicken in a paper bag\, Baked 5 Cheese Mac & Cheese\, and a warm Chocolate Pudding.
URL:https://farmschoolonlosrios.com/event/wintertime-comfort/
CATEGORIES:Classes
END:VEVENT
BEGIN:VEVENT
DTSTART;TZID=UTC:20161130T183000
DTEND;TZID=UTC:20161130T203000
DTSTAMP:20260422T141953
CREATED:20161130T092408Z
LAST-MODIFIED:20161130T092408Z
UID:822-1480530600-1480537800@farmschoolonlosrios.com
SUMMARY:Private
DESCRIPTION:
URL:https://farmschoolonlosrios.com/event/private-6/
CATEGORIES:Private Gathering
END:VEVENT
BEGIN:VEVENT
DTSTART;TZID=UTC:20161117T183000
DTEND;TZID=UTC:20161117T203000
DTSTAMP:20260422T141953
CREATED:20161019T032338Z
LAST-MODIFIED:20161109T031550Z
UID:799-1479407400-1479414600@farmschoolonlosrios.com
SUMMARY:Easy & Impressive Hors d'oeuvres & Desserts
DESCRIPTION:With the holidays coming up – here are some terrific appetizers and fantastic desserts sure to please.  Join us tonight and learn to make Mini Crab Cakes with Chili Lime Aioli\, Mac & Cheese Cupcakes\, a Rustic Apple Tart and Molten Baby Cakes
URL:https://farmschoolonlosrios.com/event/easy-impressive-hors-doeuvres/
CATEGORIES:Classes
END:VEVENT
BEGIN:VEVENT
DTSTART;TZID=UTC:20161104T183000
DTEND;TZID=UTC:20161104T213000
DTSTAMP:20260422T141953
CREATED:20161020T232438Z
LAST-MODIFIED:20161020T232438Z
UID:803-1478284200-1478295000@farmschoolonlosrios.com
SUMMARY:Flavours of Autumn - Date Night
DESCRIPTION:Tonight our menu celebrates the flavours of Autumn.  Join us and learn to create Stuffed Bacon Wrapped Dates\, an Apple\, Pecan & Gorgonzola Salad\, a Maple Mustard Pork Tenderloin\, Black Rice with Cranberries & Goat Cheese\, and a Gooey Butter Cake. \nPrice Per Couple
URL:https://farmschoolonlosrios.com/event/flavours-autumn-date-night/
CATEGORIES:Date Night
END:VEVENT
BEGIN:VEVENT
DTSTART;TZID=UTC:20161103T183000
DTEND;TZID=UTC:20161103T203000
DTSTAMP:20260422T141953
CREATED:20161019T033105Z
LAST-MODIFIED:20161019T033105Z
UID:801-1478197800-1478205000@farmschoolonlosrios.com
SUMMARY:Private
DESCRIPTION:
URL:https://farmschoolonlosrios.com/event/private-4/
CATEGORIES:Private Gathering
END:VEVENT
BEGIN:VEVENT
DTSTART;TZID=UTC:20161027T183000
DTEND;TZID=UTC:20161027T203000
DTSTAMP:20260422T141953
CREATED:20160821T225049Z
LAST-MODIFIED:20160822T042420Z
UID:787-1477593000-1477600200@farmschoolonlosrios.com
SUMMARY:One Pot & Pan Wonders
DESCRIPTION:Our menu tonight includes Paprika Chicken Thighs with Brussels Sprouts\, Southwestern Stuffed Bell Peppers\, Mile High Lasagna Pie\, and a simple Green Salad with Homemade Creamy Italian Dressing.
URL:https://farmschoolonlosrios.com/event/private-2/
CATEGORIES:Classes
END:VEVENT
BEGIN:VEVENT
DTSTART;TZID=UTC:20161022T173000
DTEND;TZID=UTC:20161022T213000
DTSTAMP:20260422T141953
CREATED:20160821T225220Z
LAST-MODIFIED:20160821T225220Z
UID:788-1477157400-1477171800@farmschoolonlosrios.com
SUMMARY:Rancho Viejo Montessori School - Luau
DESCRIPTION:Annual Dinner
URL:https://farmschoolonlosrios.com/event/rancho-viejo-montessori-school/
CATEGORIES:Private Gathering
END:VEVENT
BEGIN:VEVENT
DTSTART;TZID=UTC:20161020T183000
DTEND;TZID=UTC:20161020T203000
DTSTAMP:20260422T141953
CREATED:20160822T053841Z
LAST-MODIFIED:20160822T053841Z
UID:795-1476988200-1476995400@farmschoolonlosrios.com
SUMMARY:Mariner's Mops
DESCRIPTION:Tonight our menu celebrates the flavours of Autumn.  An Apple\, Pecan & Gorgonzola Salad\, a Maple Mustard Pork Tenderloin\, Black Rice with Cranberries & Goat Cheese\, and a Gooey Butter Cake.
URL:https://farmschoolonlosrios.com/event/mariners-mops/
CATEGORIES:Private Gathering
END:VEVENT
BEGIN:VEVENT
DTSTART;TZID=UTC:20161014T183000
DTEND;TZID=UTC:20161014T213000
DTSTAMP:20260422T141953
CREATED:20160822T054700Z
LAST-MODIFIED:20160822T054700Z
UID:796-1476469800-1476480600@farmschoolonlosrios.com
SUMMARY:Date Night - Country French
DESCRIPTION:Join us with your mon ami spécial for a lovely evening under the lights.  Our menu includes a Baked Camembert with Pear Compote\, Coq au Vin with Caramelized Pearl Onions & Button Mushrooms\, French Baked Rice\, Autumn Greens with White Wine Vinaigrette\, and a Classic Tarte Tatin.     Price Per Couple.
URL:https://farmschoolonlosrios.com/event/date-night-country-french/
CATEGORIES:Date Night
END:VEVENT
BEGIN:VEVENT
DTSTART;TZID=UTC:20161013T183000
DTEND;TZID=UTC:20161013T203000
DTSTAMP:20260422T141953
CREATED:20160822T035056Z
LAST-MODIFIED:20160822T035056Z
UID:791-1476383400-1476390600@farmschoolonlosrios.com
SUMMARY:Autumn Gnocchi & Risotto Workshop
DESCRIPTION:This evening our menu includes a Pumpkin Gnocchi with Prosciutto Sage Butter\, a Risotto with Roasted Butternut Squash\, Leeks & Basil\, and our signature Italian Stuffed Mushrooms.
URL:https://farmschoolonlosrios.com/event/autumn-gnocchi-risotto-workshop/
CATEGORIES:Classes
END:VEVENT
BEGIN:VEVENT
DTSTART;TZID=UTC:20161008T180000
DTEND;TZID=UTC:20161008T220000
DTSTAMP:20260422T141953
CREATED:20160821T225530Z
LAST-MODIFIED:20160821T225530Z
UID:790-1475949600-1475964000@farmschoolonlosrios.com
SUMMARY:Vintage Food & Wine Festival
DESCRIPTION:JOIN US OCTOBER 8TH\, 2016\nFOR THE 20TH ANNUAL VINTAGE FOOD & WINE FESTIVAL!\nMission San Juan Capistrano\n26801 Ortega Hwy\nSan Juan Capistrano\, CA 92675
URL:https://farmschoolonlosrios.com/event/vintage-food-wine-festival/
CATEGORIES:Private Gathering
END:VEVENT
BEGIN:VEVENT
DTSTART;TZID=UTC:20161006T183000
DTEND;TZID=UTC:20161006T203000
DTSTAMP:20260422T141953
CREATED:20160820T233222Z
LAST-MODIFIED:20160821T224514Z
UID:783-1475778600-1475785800@farmschoolonlosrios.com
SUMMARY:Stacked\, Wrapped & Rolled
DESCRIPTION:Join us tonight as we create Sonoma Jack & Pepper Jelly Pinwheels\, our Stacked Roasted Vegetable Enchiladas\, a Prosciutto Wrapped Chicken with Sage Butter\, and Lasagna Roll-ups.
URL:https://farmschoolonlosrios.com/event/stacked-wrapped-rolled/
CATEGORIES:Classes
END:VEVENT
BEGIN:VEVENT
DTSTART;TZID=UTC:20160923T183000
DTEND;TZID=UTC:20160923T213000
DTSTAMP:20260422T141953
CREATED:20160821T224310Z
LAST-MODIFIED:20160821T224555Z
UID:785-1474655400-1474666200@farmschoolonlosrios.com
SUMMARY:Date Night - Celebrating the Basque
DESCRIPTION:San Juan Capistrano has a long heritage of Basque Pioneers.  Help us celebrate tonight as we create Smoked Paprika Prawn Pintxos\, Piperade with Poached Egg\, Basque Sauteed Chicken with Rice and a Pantixeneta (traditional Basque Pastry with Cream\, Almonds & Hazelnuts.  On egin!     Price per couple.
URL:https://farmschoolonlosrios.com/event/date-night-celebrating-basque/
CATEGORIES:Date Night
END:VEVENT
BEGIN:VEVENT
DTSTART;TZID=UTC:20160922T183000
DTEND;TZID=UTC:20160922T203000
DTSTAMP:20260422T141953
CREATED:20160820T211153Z
LAST-MODIFIED:20160820T211153Z
UID:782-1474569000-1474576200@farmschoolonlosrios.com
SUMMARY:Seasonal Small Plates
DESCRIPTION:Tonight we welcome Autumn with a collection of seasonal small plates. Our menu includes our Fresh Herb Rubbed Cocktail Riblettes\, our Sea Salt & Caramel Brie with Homemade Apple Chutney\, a Crostini with Pears\, Honey-whipped Chevre & Crispy Prosciutto\, and our Endive filled with Roasted Grapes\, Honeyed Walnuts & Crumbled Bleu Cheese.
URL:https://farmschoolonlosrios.com/event/seasonal-small-plates/
CATEGORIES:Classes
END:VEVENT
BEGIN:VEVENT
DTSTART;TZID=UTC:20160915T183000
DTEND;TZID=UTC:20160915T203000
DTSTAMP:20260422T141953
CREATED:20160820T210047Z
LAST-MODIFIED:20160820T210047Z
UID:781-1473964200-1473971400@farmschoolonlosrios.com
SUMMARY:Quick & Easy Weeknight Dinners
DESCRIPTION:Join us tonight as we learn to prepare Chicken Cutlets with 3 sauces:  Your repertoire will include Picatta Sauce\, Ginger Scallion Sauce\, and a Maple Mustard Pan Sauce.  In addition\, Steam Sautéed Green Beans and a Vegetable Rice with a Twist.
URL:https://farmschoolonlosrios.com/event/quick-easy-weeknight-dinners-2/
CATEGORIES:Classes
END:VEVENT
BEGIN:VEVENT
DTSTART;TZID=UTC:20160909T183000
DTEND;TZID=UTC:20160909T213000
DTSTAMP:20260422T141953
CREATED:20160821T221338Z
LAST-MODIFIED:20160821T224622Z
UID:784-1473445800-1473456600@farmschoolonlosrios.com
SUMMARY:Date Night - Late Summer Grilling
DESCRIPTION:Join us under the lights with your special someone as we create the ultimate Grilled Cheese Sandwich with Pear Chutney\, a Grilled Skirt Steak with Chimichurri\, Grilled Romaine Salad\, Grilled Sweet Potatoes with Honey\, and an Apple Tart (not grilled).    Price per couple
URL:https://farmschoolonlosrios.com/event/date-night-late-summer-grilling/
CATEGORIES:Date Night
END:VEVENT
BEGIN:VEVENT
DTSTART;TZID=UTC:20160908T183000
DTEND;TZID=UTC:20160908T203000
DTSTAMP:20260422T141953
CREATED:20160820T044555Z
LAST-MODIFIED:20160820T205157Z
UID:780-1473359400-1473366600@farmschoolonlosrios.com
SUMMARY:Pizza Pizazz
DESCRIPTION:Join us tonight and make our Master Pizza Dough 3 Ways!  First a 4 cheese Pizza with Late Summer Tomatoes (cornmeal crust)\, next a Smoked Bacon\, Caramelized Onion & Gruyere Pizza (whole wheat crust) and then a Seafood Pizza (classic crust)
URL:https://farmschoolonlosrios.com/event/pizza-pizazz/
CATEGORIES:Classes
END:VEVENT
BEGIN:VEVENT
DTSTART;TZID=UTC:20160826T183000
DTEND;TZID=UTC:20160826T213000
DTSTAMP:20260422T141953
CREATED:20160620T001615Z
LAST-MODIFIED:20160620T001615Z
UID:777-1472236200-1472247000@farmschoolonlosrios.com
SUMMARY:Date Night - Skewer It!
DESCRIPTION:Join us under the lights for a BBQ event.  Tonight’s menu includes Grilled Sweet & Spicy Bacon with Green Onion & Ginger Relish\, Lime & Soy Short Ribs Skewers\, Herb & Garlic Vegetable Kabobs\, Grilled New Potato Kabobs\, and Grilled Strawberry Shortcake Skewers with Chocolate Drizzle. \nPrice per couple
URL:https://farmschoolonlosrios.com/event/date-night-skewer/
CATEGORIES:Date Night
END:VEVENT
BEGIN:VEVENT
DTSTART;TZID=UTC:20160825T183000
DTEND;TZID=UTC:20160825T203000
DTSTAMP:20260422T141953
CREATED:20160620T001136Z
LAST-MODIFIED:20160620T001218Z
UID:776-1472149800-1472157000@farmschoolonlosrios.com
SUMMARY:Winner\, Winner Sheet Pan Dinner
DESCRIPTION:One Pot Wonders – on a sheet pan!  Tonight we make Roasted Salmon & Asparagus with Crème Fraîche\, Spicy Chicken Thighs with Summer Squash\, a Tomato\, Cucumber\, Bell Pepper & Dill Salad\, and the World’s Best Brownies.
URL:https://farmschoolonlosrios.com/event/winner-winner-sheet-pan-dinner-2/
CATEGORIES:Classes
END:VEVENT
BEGIN:VEVENT
DTSTART;TZID=UTC:20160819T183000
DTEND;TZID=UTC:20160819T213000
DTSTAMP:20260422T141953
CREATED:20160821T225002Z
LAST-MODIFIED:20160821T225002Z
UID:786-1471631400-1471642200@farmschoolonlosrios.com
SUMMARY:Private
DESCRIPTION:
URL:https://farmschoolonlosrios.com/event/private/
CATEGORIES:Private Gathering
END:VEVENT
BEGIN:VEVENT
DTSTART;TZID=UTC:20160818T183000
DTEND;TZID=UTC:20160818T203000
DTSTAMP:20260422T141953
CREATED:20160617T060853Z
LAST-MODIFIED:20160617T060853Z
UID:773-1471545000-1471552200@farmschoolonlosrios.com
SUMMARY:Quick Weeknight Dinners
DESCRIPTION:It summer time!  Join us tonight as we created some quick weeknight dinners sure to please.  Our menu includes One Pot Pasta Primavera\, Shrimp Taco Salad Bowls\, Chicken & Brie Tart\, and s Salad Bar in a jar.
URL:https://farmschoolonlosrios.com/event/quick-weeknight-dinners-2/
CATEGORIES:Classes
END:VEVENT
BEGIN:VEVENT
DTSTART;TZID=UTC:20160812T183000
DTEND;TZID=UTC:20160812T213000
DTSTAMP:20260422T141953
CREATED:20160610T070444Z
LAST-MODIFIED:20160610T070444Z
UID:771-1471026600-1471037400@farmschoolonlosrios.com
SUMMARY:Date Night - A Bit of Italy
DESCRIPTION:Try a little love\, Italian Style.  Tonight’s menu includes Crostini with Grilled Figs\, Ricotta & Prosciutto\, an Herb Grilled Salmon Fillet\, Grilled Tomatoes & Sweet Onions with Fresh Mozzarella and Balsamic\, a Potato Salad with Arugula & Mustard Vinaigrette\, and Grilled Peaches with Vanilla Bean Mascarpone & Salted Caramel Sauce.  That’s Amore! \nPrice per couple
URL:https://farmschoolonlosrios.com/event/date-night-bit-italy-2/
CATEGORIES:Date Night
END:VEVENT
BEGIN:VEVENT
DTSTART;TZID=UTC:20160811T183000
DTEND;TZID=UTC:20160811T203000
DTSTAMP:20260422T141953
CREATED:20160610T065223Z
LAST-MODIFIED:20160610T065358Z
UID:770-1470940200-1470947400@farmschoolonlosrios.com
SUMMARY:A Summer Supper
DESCRIPTION:Join us this evening as we create a lovely little supper.  On the menu is a Baked Brie with Figs\, then Spaghetti with Corn\, Carbonara & Crab\, next a Tomato\, Nectarine & Avocado Salad and a Summer Fruit Tart.
URL:https://farmschoolonlosrios.com/event/a-summer-supper/
CATEGORIES:Classes
END:VEVENT
BEGIN:VEVENT
DTSTART;TZID=UTC:20160728T183000
DTEND;TZID=UTC:20160728T203000
DTSTAMP:20260422T141953
CREATED:20160605T012638Z
LAST-MODIFIED:20160605T013216Z
UID:768-1469730600-1469737800@farmschoolonlosrios.com
SUMMARY:Pizza Night!
DESCRIPTION:Tonight’s menu includes our Master Pizza Dough.  Where that takes you\, only you can know!  We will make a Chevre\, Sun-Dried Tomato & Roasted Garlic Pizza.  We will also make a Smoked Salmon & Brie Pizza on a Cornmeal Crust and a Barbequed Chicken & Jack on a Whole Wheat Crust. \n 
URL:https://farmschoolonlosrios.com/event/pizza-night-6/
CATEGORIES:Classes
END:VEVENT
BEGIN:VEVENT
DTSTART;TZID=UTC:20160722T183000
DTEND;TZID=UTC:20160722T213000
DTSTAMP:20260422T141953
CREATED:20160605T013109Z
LAST-MODIFIED:20160605T013408Z
UID:769-1469212200-1469223000@farmschoolonlosrios.com
SUMMARY:Date Night - Summer Romance
DESCRIPTION:Join us with your special someone as we create a romantic summer dinner.  Our menu includes Chilled Avocado Soup\, a Sweet Corn Risotto\, Country Sautéed Shrimp\, Shaved Zucchini Salad with Asiago & Lemon\, and a Deep Chocolate Gelato with Fresh Berries. \n$140 per couple
URL:https://farmschoolonlosrios.com/event/date-night-summer-romance-2/
CATEGORIES:Date Night
END:VEVENT
END:VCALENDAR