BEGIN:VCALENDAR
VERSION:2.0
PRODID:-//Farm School on Los Rios Street | San Juan Capistrano, CA - ECPv6.15.20//NONSGML v1.0//EN
CALSCALE:GREGORIAN
METHOD:PUBLISH
X-ORIGINAL-URL:https://farmschoolonlosrios.com
X-WR-CALDESC:Events for Farm School on Los Rios Street | San Juan Capistrano, CA
REFRESH-INTERVAL;VALUE=DURATION:PT1H
X-Robots-Tag:noindex
X-PUBLISHED-TTL:PT1H
BEGIN:VTIMEZONE
TZID:UTC
BEGIN:STANDARD
TZOFFSETFROM:+0000
TZOFFSETTO:+0000
TZNAME:UTC
DTSTART:20160101T000000
END:STANDARD
END:VTIMEZONE
BEGIN:VEVENT
DTSTART;TZID=UTC:20170623T183000
DTEND;TZID=UTC:20170623T213000
DTSTAMP:20260422T090006
CREATED:20170422T003920Z
LAST-MODIFIED:20170422T011837Z
UID:900-1498242600-1498253400@farmschoolonlosrios.com
SUMMARY:Private Gathering
DESCRIPTION:
URL:https://farmschoolonlosrios.com/event/private-10/
CATEGORIES:Private Gathering
END:VEVENT
BEGIN:VEVENT
DTSTART;TZID=UTC:20170616T183000
DTEND;TZID=UTC:20170616T200000
DTSTAMP:20260422T090006
CREATED:20170609T061142Z
LAST-MODIFIED:20170609T061142Z
UID:921-1497637800-1497643200@farmschoolonlosrios.com
SUMMARY:Rancho Viejo Graduation
DESCRIPTION:
URL:https://farmschoolonlosrios.com/event/rancho-viejo-graduation/
CATEGORIES:Private Gathering
END:VEVENT
BEGIN:VEVENT
DTSTART;TZID=UTC:20170601T183000
DTEND;TZID=UTC:20170601T203000
DTSTAMP:20260422T090006
CREATED:20170422T003345Z
LAST-MODIFIED:20170422T003345Z
UID:894-1496341800-1496349000@farmschoolonlosrios.com
SUMMARY:Elegant & Easy
DESCRIPTION:Tonight our menu includes Phyllo Wrapped Asparagus with Prosciutto\, Baby Greens with Balsamic Strawberries & Baked Goat Cheese Medallions\, Penne Pasta with Burst Tomatoes\, Salmon and Mascarpone\, and our Farm School (home grown) Orange Pound Cake with Thyme-scented Whipped Cream.
URL:https://farmschoolonlosrios.com/event/elegant-easy/
CATEGORIES:Classes
END:VEVENT
BEGIN:VEVENT
DTSTART;TZID=UTC:20170525T183000
DTEND;TZID=UTC:20170525T203000
DTSTAMP:20260422T090006
CREATED:20170402T220255Z
LAST-MODIFIED:20170402T220255Z
UID:882-1495737000-1495744200@farmschoolonlosrios.com
SUMMARY:From the Garden
DESCRIPTION:Our menu this evening includes Melon Caprese Skewers with Rosemary Honey Syrup\, Kale Caesar with Crunchy Roasted Chickpeas\, Oven Roasted Kumquat Chicken\, and a free-form Plum Tart with Honeyed Mascarpone.
URL:https://farmschoolonlosrios.com/event/from-the-garden/
CATEGORIES:Classes
END:VEVENT
BEGIN:VEVENT
DTSTART;TZID=UTC:20170518T183000
DTEND;TZID=UTC:20170518T203000
DTSTAMP:20260422T090006
CREATED:20170402T220544Z
LAST-MODIFIED:20170422T011817Z
UID:884-1495132200-1495139400@farmschoolonlosrios.com
SUMMARY:Private Gathering
DESCRIPTION:
URL:https://farmschoolonlosrios.com/event/spring-goodness/
CATEGORIES:Private Gathering
END:VEVENT
BEGIN:VEVENT
DTSTART;TZID=UTC:20170513T180000
DTEND;TZID=UTC:20170513T210000
DTSTAMP:20260422T090006
CREATED:20170402T221107Z
LAST-MODIFIED:20170402T221107Z
UID:890-1494698400-1494709200@farmschoolonlosrios.com
SUMMARY:Private Gathering
DESCRIPTION:
URL:https://farmschoolonlosrios.com/event/private-gathering-12/
CATEGORIES:Private Gathering
END:VEVENT
BEGIN:VEVENT
DTSTART;TZID=UTC:20170512T183000
DTEND;TZID=UTC:20170512T213000
DTSTAMP:20260422T090006
CREATED:20170402T220914Z
LAST-MODIFIED:20170402T220914Z
UID:888-1494613800-1494624600@farmschoolonlosrios.com
SUMMARY:Private Gathering
DESCRIPTION:
URL:https://farmschoolonlosrios.com/event/private-gathering-11/
CATEGORIES:Private Gathering
END:VEVENT
BEGIN:VEVENT
DTSTART;TZID=UTC:20170504T163000
DTEND;TZID=UTC:20170504T183000
DTSTAMP:20260422T090006
CREATED:20170402T220746Z
LAST-MODIFIED:20170402T220746Z
UID:886-1493915400-1493922600@farmschoolonlosrios.com
SUMMARY:Private Gathering
DESCRIPTION:
URL:https://farmschoolonlosrios.com/event/private-gathering-10/
CATEGORIES:Private Gathering
END:VEVENT
BEGIN:VEVENT
DTSTART;TZID=UTC:20170428T183000
DTEND;TZID=UTC:20170428T213000
DTSTAMP:20260422T090006
CREATED:20170127T062636Z
LAST-MODIFIED:20170127T062636Z
UID:875-1493404200-1493415000@farmschoolonlosrios.com
SUMMARY:Spring is in the Air - Date Night
DESCRIPTION:Join us with your special someone for a lively spring evening.  We start with Phyllo Wrapped Asparagus with Prosciutto & Mascarpone\, Spring Greens with Balsamic Strawberries & Baked Chevre Medallions\, Lamb Chops with Garlic\, Lemon & Parsley\, Risotto Primavera\, and Luscious Lemon Squares with White Chocolate & Coconut. \nPrice per couple
URL:https://farmschoolonlosrios.com/event/spring-air-date-night/
CATEGORIES:Date Night
END:VEVENT
BEGIN:VEVENT
DTSTART;TZID=UTC:20170427T183000
DTEND;TZID=UTC:20170427T203000
DTSTAMP:20260422T090006
CREATED:20170127T062045Z
LAST-MODIFIED:20170402T221230Z
UID:873-1493317800-1493325000@farmschoolonlosrios.com
SUMMARY:Private Gathering
DESCRIPTION:Our menu tonight includes Baked Brie with Kumquat Chutney\, Prosciutto Wrapped Shrimp with Bourbon BBQ Sauce\, Spring Pea & Asparagus Empanadas\, and Leek & Pancetta Mini Quiches.
URL:https://farmschoolonlosrios.com/event/spring-small-plates/
CATEGORIES:Private Gathering
END:VEVENT
BEGIN:VEVENT
DTSTART;TZID=UTC:20170406T183000
DTEND;TZID=UTC:20170406T203000
DTSTAMP:20260422T090006
CREATED:20170126T024510Z
LAST-MODIFIED:20170126T024510Z
UID:869-1491503400-1491510600@farmschoolonlosrios.com
SUMMARY:Pizza Night
DESCRIPTION:Tonight we learn to make a Master Pizza Dough and the Perfect Pizza Sauce.  From there we create two distinct pizzas.  A New York Style Everything Pizza and a Deep Dish Chicago Style Pizza.
URL:https://farmschoolonlosrios.com/event/pizza-night-7/
CATEGORIES:Classes
END:VEVENT
BEGIN:VEVENT
DTSTART;TZID=UTC:20170323T183000
DTEND;TZID=UTC:20170323T203000
DTSTAMP:20260422T090006
CREATED:20170115T062137Z
LAST-MODIFIED:20170202T080547Z
UID:853-1490293800-1490301000@farmschoolonlosrios.com
SUMMARY:Farm School Classics
DESCRIPTION:Here are a few of our classic recipes to keep up your sleeves.  Authentic Caesar Salad with Homemade Croutons (you’ll never buy packaged again!)\, Chicken Picatta\, Risotto Milanese\, and Chocolate Chip Cannoli Cups.
URL:https://farmschoolonlosrios.com/event/practically-paleo/
CATEGORIES:Classes
END:VEVENT
BEGIN:VEVENT
DTSTART;TZID=UTC:20170317T183000
DTEND;TZID=UTC:20170317T213000
DTSTAMP:20260422T090006
CREATED:20170115T063312Z
LAST-MODIFIED:20170115T063312Z
UID:857-1489775400-1489786200@farmschoolonlosrios.com
SUMMARY:Emerald Isle Romance - Date Night
DESCRIPTION:Come on ye lads and lassies\, and join us tonight!  We are making Brown Bread & Butter with Smoked Salmon\, Irish Carrot & Parsnip Soup\, Roast Leg of Lamb with Honey\, Dark Beer & Thyme\, Colcannon\, and a Chocolate Whiskey Cake. \nPrice per couple
URL:https://farmschoolonlosrios.com/event/emerald-isle-romance-date-night/
CATEGORIES:Date Night
END:VEVENT
BEGIN:VEVENT
DTSTART;TZID=UTC:20170316T183000
DTEND;TZID=UTC:20170316T203000
DTSTAMP:20260422T090006
CREATED:20170115T061833Z
LAST-MODIFIED:20170115T061833Z
UID:851-1489689000-1489696200@farmschoolonlosrios.com
SUMMARY:Asparagus & Artichokes
DESCRIPTION:Two awesome vegetables\, four awesome dishes.  Come learn to make an Asparagus Sub Sandwich with Smokey French Dressing\, Salmon Roasted on a Bed of Asparagus\, Roasted Baby Artichokes with Garlic Aioli\, and Artichoke Risotto.
URL:https://farmschoolonlosrios.com/event/asparagus-artichokes/
CATEGORIES:Classes
END:VEVENT
BEGIN:VEVENT
DTSTART;TZID=UTC:20170309T183000
DTEND;TZID=UTC:20170309T203000
DTSTAMP:20260422T090006
CREATED:20170115T061542Z
LAST-MODIFIED:20170125T085120Z
UID:849-1489084200-1489091400@farmschoolonlosrios.com
SUMMARY:Private Gathering
DESCRIPTION:Pear Crostini with Honey Whipped Ricotta\, Chicken & Chorizo Paella\, Arugula & Melon Salad\, and Chocolate Chip Cannoli Cups.
URL:https://farmschoolonlosrios.com/event/pizza-pizza/
CATEGORIES:Private Gathering
END:VEVENT
BEGIN:VEVENT
DTSTART;TZID=UTC:20170308T183000
DTEND;TZID=UTC:20170308T203000
DTSTAMP:20260422T090006
CREATED:20170125T074931Z
LAST-MODIFIED:20170125T085056Z
UID:861-1488997800-1489005000@farmschoolonlosrios.com
SUMMARY:Private Gathering
DESCRIPTION:Pear Crostini with Honey Whipped Ricotta\, Chicken & Chorizo Paella\, Arugula & Melon Salad\, and Chocolate Chip Cannoli Cups. \n 
URL:https://farmschoolonlosrios.com/event/private-8/
CATEGORIES:Private Gathering
END:VEVENT
BEGIN:VEVENT
DTSTART;TZID=UTC:20170303T183000
DTEND;TZID=UTC:20170303T213000
DTSTAMP:20260422T090006
CREATED:20170115T062840Z
LAST-MODIFIED:20170115T062840Z
UID:855-1488565800-1488576600@farmschoolonlosrios.com
SUMMARY:Flavors of the Mediterranean - Date Night
DESCRIPTION:Join us with your special someone as we visit Southern Spain\, the French Riviera\, Southern Italy and Greece.  Tonight we make a Tortilla Española\, Frisée aux Lardons\, Greek Chicken Roulades with White Wine Reduction\, and a Creamy Orzo with Sundried Tomatoes Rizogalo.  (You might need a little Google help with these) \nPrice per couple
URL:https://farmschoolonlosrios.com/event/flavors-mediterranean-date-night/
CATEGORIES:Date Night
END:VEVENT
BEGIN:VEVENT
DTSTART;TZID=UTC:20170302T183000
DTEND;TZID=UTC:20170302T203000
DTSTAMP:20260422T090006
CREATED:20170115T061204Z
LAST-MODIFIED:20170115T061204Z
UID:847-1488479400-1488486600@farmschoolonlosrios.com
SUMMARY:Hearty Fare at Winter's End
DESCRIPTION:Join us this evening as we create Homemade Onion Dip with Crisp Veggies\, Prosciutto & Mushroom Stuffed Flank Steak\, Potato & Onion Gratin\, and a Pineapple Upside Down Cake.
URL:https://farmschoolonlosrios.com/event/hearty-fare-winters-end/
CATEGORIES:Classes
END:VEVENT
BEGIN:VEVENT
DTSTART;TZID=UTC:20170223T183000
DTEND;TZID=UTC:20170223T203000
DTSTAMP:20260422T090006
CREATED:20161230T025543Z
LAST-MODIFIED:20161230T025543Z
UID:844-1487874600-1487881800@farmschoolonlosrios.com
SUMMARY:Private Gathering
DESCRIPTION:
URL:https://farmschoolonlosrios.com/event/private-gathering-9/
CATEGORIES:Private Gathering
END:VEVENT
BEGIN:VEVENT
DTSTART;TZID=UTC:20170217T183000
DTEND;TZID=UTC:20170217T213000
DTSTAMP:20260422T090006
CREATED:20161230T024739Z
LAST-MODIFIED:20161230T024801Z
UID:835-1487356200-1487367000@farmschoolonlosrios.com
SUMMARY:Mardi Gras Madness - Date Night
DESCRIPTION:Join us with your special someone for a taste of New Orleans!  We start our evening with classic Pimiento Cheese\,  Cajun Stuffed Mushrooms\, a hearty Jambalaya\, Bayou Slaw and Pecan Tarts. \nPrice Per Couple
URL:https://farmschoolonlosrios.com/event/mardi-gras-madness-date-night/
CATEGORIES:Date Night
END:VEVENT
BEGIN:VEVENT
DTSTART;TZID=UTC:20170216T183000
DTEND;TZID=UTC:20170216T203000
DTSTAMP:20260422T090006
CREATED:20161230T024229Z
LAST-MODIFIED:20161230T024229Z
UID:833-1487269800-1487277000@farmschoolonlosrios.com
SUMMARY:Farm School Classics
DESCRIPTION:Here are a few of our classic recipes to keep up your sleeves.  Authentic Caesar Salad with Homemade Croutons (you’ll never buy packaged again!)\, Chicken Picatta\, Risotto Milanese\, and Chocolate Chip Cannoli Cups.
URL:https://farmschoolonlosrios.com/event/farm-school-classics/
CATEGORIES:Classes
END:VEVENT
BEGIN:VEVENT
DTSTART;TZID=UTC:20170210T183000
DTEND;TZID=UTC:20170210T213000
DTSTAMP:20260422T090006
CREATED:20161230T023811Z
LAST-MODIFIED:20170125T085249Z
UID:831-1486751400-1486762200@farmschoolonlosrios.com
SUMMARY:Private Gathering
DESCRIPTION:Mac & Cheese Cupcakes\, Chopped Salad\, Pan Seared Filet Mignon with Cabernet Sauce\, Roasted Garlic Mashed Potatoes\, and Apple Pie a la Mode.
URL:https://farmschoolonlosrios.com/event/private-9/
CATEGORIES:Private Gathering
END:VEVENT
BEGIN:VEVENT
DTSTART;TZID=UTC:20170208T183000
DTEND;TZID=UTC:20170208T203000
DTSTAMP:20260422T090006
CREATED:20161230T023629Z
LAST-MODIFIED:20170126T023435Z
UID:827-1486578600-1486585800@farmschoolonlosrios.com
SUMMARY:Private Gathering
DESCRIPTION:Caprese Salad on a Stick\, Filet Mignon with Caper Pan Sauce\, Italian Roasted Red Potatoes\, and Roasted Carrots\, Fennel & Red Onions.
URL:https://farmschoolonlosrios.com/event/private-7/
CATEGORIES:Private Gathering
END:VEVENT
BEGIN:VEVENT
DTSTART;TZID=UTC:20170202T183000
DTEND;TZID=UTC:20170202T203000
DTSTAMP:20260422T090006
CREATED:20161230T023507Z
LAST-MODIFIED:20161230T023507Z
UID:825-1486060200-1486067400@farmschoolonlosrios.com
SUMMARY:Superbowl Crowd Pleasers
DESCRIPTION:Kick off your Superbowl party with these crowd pleasers.  Sweet & Spicy Chicken Wings\, Caramelized Onion\, Bacon & Gruyere Dip\, Meatball Sliders with Spicy Marinara & Mozzarella\, and Oatmeal Caramel Cookie Bars.  Touchdown!
URL:https://farmschoolonlosrios.com/event/superbowl-crowd-pleasers/
CATEGORIES:Classes
END:VEVENT
BEGIN:VEVENT
DTSTART;TZID=UTC:20170126T183000
DTEND;TZID=UTC:20170126T203000
DTSTAMP:20260422T090006
CREATED:20161130T092307Z
LAST-MODIFIED:20161130T092341Z
UID:821-1485455400-1485462600@farmschoolonlosrios.com
SUMMARY:Vegetarian Delights
DESCRIPTION:Tonight our menu includes a Roasted Beet & Quinoa Salad\, Sweet Corn & Green Chili Baked Flautas\, Roasted Pepper Pasta with Zucchini & Basil\, and Oatmeal Caramel Cookie Bars.
URL:https://farmschoolonlosrios.com/event/vegetarian-delights/
CATEGORIES:Classes
END:VEVENT
BEGIN:VEVENT
DTSTART;TZID=UTC:20170120T183000
DTEND;TZID=UTC:20170120T213000
DTSTAMP:20260422T090006
CREATED:20161130T091856Z
LAST-MODIFIED:20161130T091856Z
UID:820-1484937000-1484947800@farmschoolonlosrios.com
SUMMARY:Classic American - Date Night
DESCRIPTION:Tonight we celebrate America!  Joins us as we create Mac & Cheese Cupcakes\, Waldorf Salad\, Pan Seared Filet Mignon with Cabernet Sauce\, Roasted Garlic Mashed Potatoes\, and Apple Pie a la Mode. \nPrice Per Couple
URL:https://farmschoolonlosrios.com/event/classic-american-date-night/
CATEGORIES:Date Night
END:VEVENT
BEGIN:VEVENT
DTSTART;TZID=UTC:20170119T183000
DTEND;TZID=UTC:20170119T203000
DTSTAMP:20260422T090006
CREATED:20161130T090930Z
LAST-MODIFIED:20161130T090930Z
UID:818-1484850600-1484857800@farmschoolonlosrios.com
SUMMARY:Fast (& Fancy) & Easy
DESCRIPTION:Tonight we are making some impressive – yet easy – dishes.  Chicken Provencal – sauteed chicken breasts with sun dried tomatoes and basil.  Also Pork Cutlets with orange juice\, raisins and almonds.  How about Linguini with White Clam Sauce.  And Roasted Asparagus with Lemon.
URL:https://farmschoolonlosrios.com/event/fast-easy-weeknight-dinner/
CATEGORIES:Classes
END:VEVENT
BEGIN:VEVENT
DTSTART;TZID=UTC:20170112T183000
DTEND;TZID=UTC:20170112T203000
DTSTAMP:20260422T090006
CREATED:20161130T083545Z
LAST-MODIFIED:20161130T083702Z
UID:817-1484245800-1484253000@farmschoolonlosrios.com
SUMMARY:One Fish\, Two Fish
DESCRIPTION:Tonight we learn to make Fish Three Ways.  Our menu includes Mediterranean Baked Tilapia\, Pan Seared Salmon Picatta\, and Fresh Fish Tacos.  Balanced with a lovely Vegetable Rice.
URL:https://farmschoolonlosrios.com/event/one-fish-two-fish/
CATEGORIES:Classes
END:VEVENT
BEGIN:VEVENT
DTSTART;TZID=UTC:20170106T183000
DTEND;TZID=UTC:20170106T213000
DTSTAMP:20260422T090006
CREATED:20161130T080743Z
LAST-MODIFIED:20161230T024824Z
UID:814-1483727400-1483738200@farmschoolonlosrios.com
SUMMARY:NOLA - Date Night
DESCRIPTION:Join us with your special someone for a taste of New Orleans!  We start our evening with classic Pimiento Cheese\,  Cajun Stuffed Mushrooms\, a hearty Jambalaya\, Bayou Slaw and Pecan Tarts. \nPrice Per Couple
URL:https://farmschoolonlosrios.com/event/nolo-date-night/
CATEGORIES:Date Night
END:VEVENT
BEGIN:VEVENT
DTSTART;TZID=UTC:20170105T183000
DTEND;TZID=UTC:20170105T203000
DTSTAMP:20260422T090006
CREATED:20161130T075424Z
LAST-MODIFIED:20161130T075424Z
UID:813-1483641000-1483648200@farmschoolonlosrios.com
SUMMARY:Hearty Winter Soups
DESCRIPTION:In the hopes of some wintry weather\, let’s be ready with some hearty winter soups! Tonight’s menu includes a Baked Potato Soup\, Quick Black Bean Chili\, Smokey Minestrone with Tortellini\, and Mixed Grain Beer Bread with Honey Butter.
URL:https://farmschoolonlosrios.com/event/hearty-winter-soups/
CATEGORIES:Classes
END:VEVENT
END:VCALENDAR