BEGIN:VCALENDAR
VERSION:2.0
PRODID:-//Farm School on Los Rios Street | San Juan Capistrano, CA - ECPv6.15.20//NONSGML v1.0//EN
CALSCALE:GREGORIAN
METHOD:PUBLISH
X-ORIGINAL-URL:https://farmschoolonlosrios.com
X-WR-CALDESC:Events for Farm School on Los Rios Street | San Juan Capistrano, CA
REFRESH-INTERVAL;VALUE=DURATION:PT1H
X-Robots-Tag:noindex
X-PUBLISHED-TTL:PT1H
BEGIN:VTIMEZONE
TZID:UTC
BEGIN:STANDARD
TZOFFSETFROM:+0000
TZOFFSETTO:+0000
TZNAME:UTC
DTSTART:20160101T000000
END:STANDARD
END:VTIMEZONE
BEGIN:VEVENT
DTSTART;TZID=UTC:20171109T183000
DTEND;TZID=UTC:20171109T203000
DTSTAMP:20260422T035302
CREATED:20171027T020605Z
LAST-MODIFIED:20171027T020605Z
UID:984-1510252200-1510259400@farmschoolonlosrios.com
SUMMARY:Private Gathering
DESCRIPTION:
URL:https://farmschoolonlosrios.com/event/private-gathering-19/
CATEGORIES:Private Gathering
END:VEVENT
BEGIN:VEVENT
DTSTART;TZID=UTC:20171102T183000
DTEND;TZID=UTC:20171102T203000
DTSTAMP:20260422T035302
CREATED:20170804T035129Z
LAST-MODIFIED:20170804T035129Z
UID:970-1509647400-1509654600@farmschoolonlosrios.com
SUMMARY:Simple Salmon Dinner
DESCRIPTION:On the menu tonight is a Roasted Salmon with Grainy Mustard Vinaigrette\, a Kale & Quinoa Pilaf with Lemon & Goat Cheese\, Roasted Brussels Sprouts with Pancetta\, and a Simple Apple Tart.
URL:https://farmschoolonlosrios.com/event/simple-salmon-dinner/
CATEGORIES:Classes
END:VEVENT
BEGIN:VEVENT
DTSTART;TZID=UTC:20171028T173000
DTEND;TZID=UTC:20171028T203000
DTSTAMP:20260422T035302
CREATED:20171027T020411Z
LAST-MODIFIED:20171027T020411Z
UID:981-1509211800-1509222600@farmschoolonlosrios.com
SUMMARY:Private Gathering
DESCRIPTION:
URL:https://farmschoolonlosrios.com/event/private-gathering-18/
CATEGORIES:Private Gathering
END:VEVENT
BEGIN:VEVENT
DTSTART;TZID=UTC:20171027T180000
DTEND;TZID=UTC:20171027T203000
DTSTAMP:20260422T035302
CREATED:20170721T023027Z
LAST-MODIFIED:20170721T023150Z
UID:947-1509127200-1509136200@farmschoolonlosrios.com
SUMMARY:Rancho Viejo Harvest Party
DESCRIPTION:At Rancho Viejo Montessori School
URL:https://farmschoolonlosrios.com/event/rancho-viejo-harvest-party/
CATEGORIES:Special Event
END:VEVENT
BEGIN:VEVENT
DTSTART;TZID=UTC:20171026T183000
DTEND;TZID=UTC:20171026T203000
DTSTAMP:20260422T035302
CREATED:20170804T034853Z
LAST-MODIFIED:20170804T034853Z
UID:968-1509042600-1509049800@farmschoolonlosrios.com
SUMMARY:Autumn Apple Harvest
DESCRIPTION:Join us tonight as we create a Smoked Turkey\, Apple & Brie Monte Cristo\, some Spiced Pork Chops with Apple Chutney\, a Waldorf Salad\, and our Farm School Apple & Golden Raisin Tart.
URL:https://farmschoolonlosrios.com/event/autumn-apple-harvest/
CATEGORIES:Classes
END:VEVENT
BEGIN:VEVENT
DTSTART;TZID=UTC:20171021T173000
DTEND;TZID=UTC:20171021T213000
DTSTAMP:20260422T035302
CREATED:20170721T022833Z
LAST-MODIFIED:20170721T022853Z
UID:945-1508607000-1508621400@farmschoolonlosrios.com
SUMMARY:Rancho Viejo School Annual Dinner
DESCRIPTION:
URL:https://farmschoolonlosrios.com/event/rancho-viejo-school-annual-dinner/
CATEGORIES:Special Event
END:VEVENT
BEGIN:VEVENT
DTSTART;TZID=UTC:20171019T183000
DTEND;TZID=UTC:20171019T203000
DTSTAMP:20260422T035302
CREATED:20170804T034528Z
LAST-MODIFIED:20170804T034528Z
UID:966-1508437800-1508445000@farmschoolonlosrios.com
SUMMARY:A Selection of Soups
DESCRIPTION:Tonight our mostly vegetarian menu includes Tortilla Soup with Charred Corn\, Smokey Minestrone with Parsley Pesto\, White Bean Soup with Pumpkin & Swiss Chard\, and some Whole Grain Beer Bread.
URL:https://farmschoolonlosrios.com/event/a-selection-of-soups/
CATEGORIES:Classes
END:VEVENT
BEGIN:VEVENT
DTSTART;TZID=UTC:20171013T183000
DTEND;TZID=UTC:20171013T213000
DTSTAMP:20260422T035302
CREATED:20170721T022553Z
LAST-MODIFIED:20170804T005748Z
UID:941-1507919400-1507930200@farmschoolonlosrios.com
SUMMARY:The Ultimate Grill Out - Supper Club
DESCRIPTION:Tonight our menu includes Grilled Ciabatta with 4 Cheese\, Apricot Chutney & Arugula\, a Grilled Caesar Salad\, Honey Butter Grilled Chicken with Lemon-Parsley Sauce\, Flame Licked Fingerling Potatoes\, and Grilled Bananas with Vanilla Ice Cream & Hot Fudge.  Hot Fudge! \nPrice per couple
URL:https://farmschoolonlosrios.com/event/supper-club-3/
CATEGORIES:Date Night
END:VEVENT
BEGIN:VEVENT
DTSTART;TZID=UTC:20171012T183000
DTEND;TZID=UTC:20171012T203000
DTSTAMP:20260422T035302
CREATED:20170804T035741Z
LAST-MODIFIED:20170804T035741Z
UID:978-1507833000-1507840200@farmschoolonlosrios.com
SUMMARY:Private Gathering
DESCRIPTION:
URL:https://farmschoolonlosrios.com/event/private-gathering-17/
CATEGORIES:Private Gathering
END:VEVENT
BEGIN:VEVENT
DTSTART;TZID=UTC:20171011T183000
DTEND;TZID=UTC:20171011T203000
DTSTAMP:20260422T035302
CREATED:20170804T035659Z
LAST-MODIFIED:20170804T035659Z
UID:976-1507746600-1507753800@farmschoolonlosrios.com
SUMMARY:Private Gathering
DESCRIPTION:
URL:https://farmschoolonlosrios.com/event/private-gathering-16/
CATEGORIES:Private Gathering
END:VEVENT
BEGIN:VEVENT
DTSTART;TZID=UTC:20171007T180000
DTEND;TZID=UTC:20171007T220000
DTSTAMP:20260422T035302
CREATED:20170721T022751Z
LAST-MODIFIED:20170721T022751Z
UID:943-1507399200-1507413600@farmschoolonlosrios.com
SUMMARY:Vintage Food & Wine Festival
DESCRIPTION:Join us at the Mission!
URL:https://farmschoolonlosrios.com/event/vintage-food-wine-festival-2/
CATEGORIES:Special Event
END:VEVENT
BEGIN:VEVENT
DTSTART;TZID=UTC:20171005T183000
DTEND;TZID=UTC:20171005T203000
DTSTAMP:20260422T035302
CREATED:20170804T035617Z
LAST-MODIFIED:20170804T035617Z
UID:974-1507228200-1507235400@farmschoolonlosrios.com
SUMMARY:Private Gathering
DESCRIPTION:
URL:https://farmschoolonlosrios.com/event/private-gathering-15/
CATEGORIES:Private Gathering
END:VEVENT
BEGIN:VEVENT
DTSTART;TZID=UTC:20170929T183000
DTEND;TZID=UTC:20170929T213000
DTSTAMP:20260422T035302
CREATED:20170721T021931Z
LAST-MODIFIED:20170804T005825Z
UID:937-1506709800-1506720600@farmschoolonlosrios.com
SUMMARY:All American Grill - Supper Club
DESCRIPTION:Join us tonight for our All American mixed grill.  On the menu is Grilled Bacon wrapped Jalapeno Poppers\, a Classic Wedge with Late Summer Tomatoes\, Bacon\, Bleu Cheese and Buttermilk Dressing\, Grilled Corn in the Husks with Basil Butter\, BBQ Chicken Thighs & Grilled Sausages\, and an Apple Crisp. \nPrice per couple
URL:https://farmschoolonlosrios.com/event/supper-club/
CATEGORIES:Date Night
END:VEVENT
BEGIN:VEVENT
DTSTART;TZID=UTC:20170928T183000
DTEND;TZID=UTC:20170928T203000
DTSTAMP:20260422T035302
CREATED:20170804T012012Z
LAST-MODIFIED:20170804T012012Z
UID:964-1506623400-1506630600@farmschoolonlosrios.com
SUMMARY:French Autumn Favorites
DESCRIPTION:Join us this evening as we create four fantastic French dishes.  Our menu includes Savory Palmiers with Caramelized Onions & Gruyere\, Butternut Squash Bisque with Orange Crème Fraîche\, the classic Pr0vençal Roasted Chicken\, and a Pear Clafouti.
URL:https://farmschoolonlosrios.com/event/french-autumn-favorites/
CATEGORIES:Classes
END:VEVENT
BEGIN:VEVENT
DTSTART;TZID=UTC:20170921T183000
DTEND;TZID=UTC:20170921T203000
DTSTAMP:20260422T035302
CREATED:20170804T011259Z
LAST-MODIFIED:20170804T011259Z
UID:962-1506018600-1506025800@farmschoolonlosrios.com
SUMMARY:Quick & Easy for Fall
DESCRIPTION:Tonight our menu includes Crostini with Roasted Grapes\, Creamy Gorgonzola & Pecans\, a Rustic Chicken & Brie Tart\, Steam Sautéed Green Beans\, and an Apple Cobbler Crumble.
URL:https://farmschoolonlosrios.com/event/quick-easy-fall/
CATEGORIES:Classes
END:VEVENT
BEGIN:VEVENT
DTSTART;TZID=UTC:20170915T183000
DTEND;TZID=UTC:20170915T213000
DTSTAMP:20260422T035302
CREATED:20170422T011552Z
LAST-MODIFIED:20170721T021627Z
UID:915-1505500200-1505511000@farmschoolonlosrios.com
SUMMARY:Pizza on the Grill - Supper Club
DESCRIPTION:Bring your special someone and enjoy grilling under the stars!  We start with our Master Pizza Dough.  From there we created four distinct pizzas:  Pizza with Sliced Fontina\, sauteed Pears\, Arugula & Prosciutto; a Pizza with sliced Fresh Mozzarella\, Pesto\, Grilled Cherry Tomatoes & Green Onions; a Pizza with Chicken\, Roasted Red Peppers\, Feta & Balsamic Syrup; and a Brie\, Chocolate & Raspberry Dessert Pizza. \nPrice per couple
URL:https://farmschoolonlosrios.com/event/pizza-on-the-grill/
CATEGORIES:Date Night
END:VEVENT
BEGIN:VEVENT
DTSTART;TZID=UTC:20170914T183000
DTEND;TZID=UTC:20170914T203000
DTSTAMP:20260422T035302
CREATED:20170804T010922Z
LAST-MODIFIED:20170804T010922Z
UID:960-1505413800-1505421000@farmschoolonlosrios.com
SUMMARY:Fresh Catch Small Plates
DESCRIPTION:We looked under the sea for tonight’s small plates.  Join us and learn to make Crab Stuffed Mushrooms\, Prosciutto wrapped Prawns with Bourbon BBQ Sauce\, Sea Scallop BLT\, and Sicilian Tuna & White Bean Bruschetta.
URL:https://farmschoolonlosrios.com/event/fresh-catch-small-plates/
CATEGORIES:Classes
END:VEVENT
BEGIN:VEVENT
DTSTART;TZID=UTC:20170907T183000
DTEND;TZID=UTC:20170907T203000
DTSTAMP:20260422T035302
CREATED:20170804T010313Z
LAST-MODIFIED:20170804T010500Z
UID:956-1504809000-1504816200@farmschoolonlosrios.com
SUMMARY:Spanish Classics
DESCRIPTION:Tonight we create some fantastic Classic Spanish Dishes.  Including Tostaditas of Serrano Ham\, Fig\, Blue Cheese & Walnuts\, a Red Onion & Orange Salad\, Chicken & Chorizo Paella\, and a Spanish Olive Oil Cake with Lemon & Almonds.
URL:https://farmschoolonlosrios.com/event/spanish-classics/
CATEGORIES:Classes
END:VEVENT
BEGIN:VEVENT
DTSTART;TZID=UTC:20170831T183000
DTEND;TZID=UTC:20170831T203000
DTSTAMP:20260422T035302
CREATED:20170609T062934Z
LAST-MODIFIED:20170609T062934Z
UID:929-1504204200-1504211400@farmschoolonlosrios.com
SUMMARY:Back to School Wonders
DESCRIPTION:Summer’s over already?  Get ready with some easy ideas for Back to School nights.  Our recipes include Sheet Pan Salmon Teriyaki with Green Beans & Carrots\, One Pot Pasta with Sausage\, Broccoli\, Tomatoes & Basil\, Mediterranean Baked Chicken\, plus 3 Homemade Salad Dressings for the Fridge: Buttermilk Ranch\, Classic Red Wine Vinaigrette\, and Fresh Ginger Dressing.
URL:https://farmschoolonlosrios.com/event/back-school-wonders/
CATEGORIES:Classes
END:VEVENT
BEGIN:VEVENT
DTSTART;TZID=UTC:20170825T183000
DTEND;TZID=UTC:20170825T213000
DTSTAMP:20260422T035302
CREATED:20170609T061946Z
LAST-MODIFIED:20170609T061946Z
UID:925-1503685800-1503696600@farmschoolonlosrios.com
SUMMARY:Grilled to Perfection - Supper Club
DESCRIPTION:Join us with your special someone for an evening under the lights.  Our menu includes Grilled Avocados with Blistered Tomato Salsa\, a Grilled Halloumi & Quinoa Salad with Lemon Vinaigrette\, then Pork Tenderloin\, Peach & Red Onion Kebabs\, a Diced Vegetable Salad\, and a chocolate & Raspberry Trifle. \nPrice per couple
URL:https://farmschoolonlosrios.com/event/grilled-perfection-supper-club/
CATEGORIES:Date Night
END:VEVENT
BEGIN:VEVENT
DTSTART;TZID=UTC:20170824T183000
DTEND;TZID=UTC:20170824T203000
DTSTAMP:20260422T035302
CREATED:20170609T062520Z
LAST-MODIFIED:20170609T062520Z
UID:927-1503599400-1503606600@farmschoolonlosrios.com
SUMMARY:Harvest Inspired Small Plates
DESCRIPTION:Tonight our menu is big on taste\, small on plates.  Burrata with Roasted Summer Tomatoes & Toasted Chiabatta\, Maple Caramelized Figs with Bacon & Chili\, Thai Salad with peanut Dressing in Wonton Cups\, and a Beef Tenderloin Crostini with Whipped Gorgonzolas & Crispy Fried Onions.
URL:https://farmschoolonlosrios.com/event/harvest-inspired-small-plates/
CATEGORIES:Classes
END:VEVENT
BEGIN:VEVENT
DTSTART;TZID=UTC:20170804T183000
DTEND;TZID=UTC:20170804T213000
DTSTAMP:20260422T035302
CREATED:20170609T061515Z
LAST-MODIFIED:20170609T061515Z
UID:923-1501871400-1501882200@farmschoolonlosrios.com
SUMMARY:Mid Summer Supper club
DESCRIPTION:Just the two of you….  Tonight’s menu includes Crostini with Figs\, Ricotta & Prosciutto\, a Tomato Stack with Bacon\, Avocado\, Corn and a Fresh Buttermilk Dressing\, Roasted Salmon with Tomato Herb Salsa\, Citrus Quinoa Salad\, and a Fresh Peach Crumble. \nPrice Per Couple
URL:https://farmschoolonlosrios.com/event/mid-summer-supper-club/
CATEGORIES:Date Night
END:VEVENT
BEGIN:VEVENT
DTSTART;TZID=UTC:20170728T180000
DTEND;TZID=UTC:20170728T200000
DTSTAMP:20260422T035302
CREATED:20170720T230312Z
LAST-MODIFIED:20170720T230312Z
UID:934-1501264800-1501272000@farmschoolonlosrios.com
SUMMARY:Private Gathering
DESCRIPTION:
URL:https://farmschoolonlosrios.com/event/private-gathering-14/
CATEGORIES:Private Gathering
END:VEVENT
BEGIN:VEVENT
DTSTART;TZID=UTC:20170727T183000
DTEND;TZID=UTC:20170727T203000
DTSTAMP:20260422T035302
CREATED:20170720T230243Z
LAST-MODIFIED:20170720T230243Z
UID:932-1501180200-1501187400@farmschoolonlosrios.com
SUMMARY:Private Gathering
DESCRIPTION:
URL:https://farmschoolonlosrios.com/event/private-gathering-13/
CATEGORIES:Private Gathering
END:VEVENT
BEGIN:VEVENT
DTSTART;TZID=UTC:20170720T183000
DTEND;TZID=UTC:20170720T203000
DTSTAMP:20260422T035302
CREATED:20170422T010157Z
LAST-MODIFIED:20170422T010157Z
UID:909-1500575400-1500582600@farmschoolonlosrios.com
SUMMARY:Cooking with Summer Bounty
DESCRIPTION:Fresh from the garden!  Our menu includes Kale Salad with Citrus & Avocado Dressing\, Zucchini Taco Boats\, Mexican Street Corn Salad\, and a Stone Fruit Cobbler.
URL:https://farmschoolonlosrios.com/event/cooking-summer-bounty-2/
CATEGORIES:Classes
END:VEVENT
BEGIN:VEVENT
DTSTART;TZID=UTC:20170720T080000
DTEND;TZID=UTC:20170720T170000
DTSTAMP:20260422T035302
CREATED:20170721T022346Z
LAST-MODIFIED:20170721T022346Z
UID:939-1500537600-1500570000@farmschoolonlosrios.com
SUMMARY:Supper Club
DESCRIPTION:
URL:https://farmschoolonlosrios.com/event/supper-club-2/
END:VEVENT
BEGIN:VEVENT
DTSTART;TZID=UTC:20170714T183000
DTEND;TZID=UTC:20170714T213000
DTSTAMP:20260422T035302
CREATED:20170422T011039Z
LAST-MODIFIED:20170422T011039Z
UID:913-1500057000-1500067800@farmschoolonlosrios.com
SUMMARY:Summer Small Plates - Supper Club
DESCRIPTION:Come meet new friends as we create some delicious small plates.  Our menu includes our signature Sea Scallop BLT\, Corncakes with Avocado Crema\, Caramelized Nectarines\, Prosciutto & Mascarpone\, a Tapenade with Toasted Baguettes\, Tuscan Cocktail Riblettes with Pomegranate Molasses Glaze\, and Mini Strawberry Shortcake Trifles. \nPrice per couple
URL:https://farmschoolonlosrios.com/event/summer-small-plates-supper-club/
CATEGORIES:Date Night
END:VEVENT
BEGIN:VEVENT
DTSTART;TZID=UTC:20170713T183000
DTEND;TZID=UTC:20170713T203000
DTSTAMP:20260422T035302
CREATED:20170422T010005Z
LAST-MODIFIED:20170422T010005Z
UID:907-1499970600-1499977800@farmschoolonlosrios.com
SUMMARY:Fresh Summer Fare
DESCRIPTION:For this one get your Google ready!  Our menu tonight includes Pissaladiere\, Ratatouille\, Provencal Roasted Chicken\, and Cherry Clafouti.
URL:https://farmschoolonlosrios.com/event/fresh-summer-fare/
CATEGORIES:Classes
END:VEVENT
BEGIN:VEVENT
DTSTART;TZID=UTC:20170630T183000
DTEND;TZID=UTC:20170630T213000
DTSTAMP:20260422T035302
CREATED:20170422T004653Z
LAST-MODIFIED:20170422T005411Z
UID:904-1498847400-1498858200@farmschoolonlosrios.com
SUMMARY:Grilling Goodness - Date Night
DESCRIPTION:Let’s head out under the lights for an evening of grilling goodness!  Our menu includes Honey Grilled Watermelon Caprese\, an Avocado\, Orange & Jicama Salad\, Skirt Steak with Chimichurri\, Grilled Sweet Potatoes with Sweet & Spicy Rub\, and a Lemon Cake with Fresh Berry Compote & Whipped Cream. \nPrice per couple
URL:https://farmschoolonlosrios.com/event/grilling-goodness-date-night/
CATEGORIES:Date Night
END:VEVENT
BEGIN:VEVENT
DTSTART;TZID=UTC:20170629T183000
DTEND;TZID=UTC:20170629T203000
DTSTAMP:20260422T035302
CREATED:20170422T003832Z
LAST-MODIFIED:20170422T003832Z
UID:898-1498761000-1498768200@farmschoolonlosrios.com
SUMMARY:Flavors of the Mediterranean
DESCRIPTION:Our menu tonight includes Bacon Wrapped Medjool Dates\, stuffed with Manchego\, an Arugula & Melon Salad with Crispy Prosciutto\, Sheet Pan Roasted Chicken Thighs with Potatoes\, Lemons & Olives\, and a Fresh Raspberry Tart.
URL:https://farmschoolonlosrios.com/event/flavors-of-the-mediterranean-3/
CATEGORIES:Classes
END:VEVENT
END:VCALENDAR