BEGIN:VCALENDAR
VERSION:2.0
PRODID:-//Farm School on Los Rios Street | San Juan Capistrano, CA - ECPv6.15.20//NONSGML v1.0//EN
CALSCALE:GREGORIAN
METHOD:PUBLISH
X-ORIGINAL-URL:https://farmschoolonlosrios.com
X-WR-CALDESC:Events for Farm School on Los Rios Street | San Juan Capistrano, CA
REFRESH-INTERVAL;VALUE=DURATION:PT1H
X-Robots-Tag:noindex
X-PUBLISHED-TTL:PT1H
BEGIN:VTIMEZONE
TZID:UTC
BEGIN:STANDARD
TZOFFSETFROM:+0000
TZOFFSETTO:+0000
TZNAME:UTC
DTSTART:20160101T000000
END:STANDARD
END:VTIMEZONE
BEGIN:VEVENT
DTSTART;TZID=UTC:20180215T183000
DTEND;TZID=UTC:20180215T203000
DTSTAMP:20260420T042543
CREATED:20180106T014039Z
LAST-MODIFIED:20180106T014039Z
UID:1025-1518719400-1518726600@farmschoolonlosrios.com
SUMMARY:Quick & Delicious
DESCRIPTION:Our menu this evening includes Savory Dutch Baby with Herbed Ricotta & Lemon Dressed Arugula\, Sauteed Shrimp with Lemon-Basil-Caper Relish\, Swiss Chard & Chickpea Soup with Italian Sausage & Rosemary\, and Romaine with Apples\, Shaved Parmesan & Lemon Vinaigrette.
URL:https://farmschoolonlosrios.com/event/quick-delicious/
CATEGORIES:Classes
END:VEVENT
BEGIN:VEVENT
DTSTART;TZID=UTC:20180209T183000
DTEND;TZID=UTC:20180209T213000
DTSTAMP:20260420T042543
CREATED:20180104T032953Z
LAST-MODIFIED:20180106T014826Z
UID:1022-1518201000-1518211800@farmschoolonlosrios.com
SUMMARY:A  Little Romance - Date Night
DESCRIPTION:Join us with your special someone as we celebrate Valentine’s Day!  Our menu includes Cacio e Pepe Palmieres\, puff pastry hearts with Parmesan & Cracked Black Pepper\, a Romantic Red Pepper Bisque with Crab & Saffron cream\,  a Petite Filet Mignon & Prawns with Chardonnay Pan Sauce\, Sauteed Swiss Chard with Bacon & Garlic\, and our signature Molten Chocolate Baby Cakes. \nPrice Per Couple
URL:https://farmschoolonlosrios.com/event/valentines-supper-club/
CATEGORIES:Date Night
END:VEVENT
BEGIN:VEVENT
DTSTART;TZID=UTC:20180208T183000
DTEND;TZID=UTC:20180208T203000
DTSTAMP:20260420T042543
CREATED:20180104T032146Z
LAST-MODIFIED:20180104T033107Z
UID:1018-1518114600-1518121800@farmschoolonlosrios.com
SUMMARY:Mardis Gras
DESCRIPTION:Help us celebrate Mardis Gras with a nod to New Orleans Cuisine!  Our menu includes Cajun Stuffed Mushrooms\, Bayou Slaw\, Spicy Creole Shrimp & Grits\, and Bananas Foster!
URL:https://farmschoolonlosrios.com/event/nola/
CATEGORIES:Classes
END:VEVENT
BEGIN:VEVENT
DTSTART;TZID=UTC:20180207T183000
DTEND;TZID=UTC:20180207T213000
DTSTAMP:20260420T042543
CREATED:20180202T075538Z
LAST-MODIFIED:20180202T075538Z
UID:1056-1518028200-1518039000@farmschoolonlosrios.com
SUMMARY:JNJ
DESCRIPTION:
URL:https://farmschoolonlosrios.com/event/jnj/
CATEGORIES:Private Gathering
END:VEVENT
BEGIN:VEVENT
DTSTART;TZID=UTC:20180201T183000
DTEND;TZID=UTC:20180201T203000
DTSTAMP:20260420T042543
CREATED:20180104T032422Z
LAST-MODIFIED:20180106T015024Z
UID:1020-1517509800-1517517000@farmschoolonlosrios.com
SUMMARY:Warm Winter Evening
DESCRIPTION:Tonight our menu includes Roasted Beet Hummus with homemade Pita Crisps\, a Penne with Spicy Braised Salmon\, a Roasted Pear & Arugla Salad with Goat Cheese\, and a warm chocolate pudding.
URL:https://farmschoolonlosrios.com/event/warm-winter-evening/
CATEGORIES:Classes
END:VEVENT
BEGIN:VEVENT
DTSTART;TZID=UTC:20180126T183000
DTEND;TZID=UTC:20180126T213000
DTSTAMP:20260420T042543
CREATED:20171226T232733Z
LAST-MODIFIED:20180120T020042Z
UID:1012-1516991400-1517002200@farmschoolonlosrios.com
SUMMARY:Supper Club - Midwinter Blues Tapas Party
DESCRIPTION:Spice up those winter blues with a Spanish flare!  Our menu includes Tortilla Espanola\, Champinones al Ajillo\, Montadito of Smoked Salmon\, Cream Cheese & Apple Cucumber Caper Relish\, and Bacon Wrapped Dates with Manchego Cheese. \nPrice Per Couple
URL:https://farmschoolonlosrios.com/event/supper-club-midwinter-blues-tapas-party/
CATEGORIES:Date Night
END:VEVENT
BEGIN:VEVENT
DTSTART;TZID=UTC:20180125T183000
DTEND;TZID=UTC:20180125T203000
DTSTAMP:20260420T042543
CREATED:20171226T232033Z
LAST-MODIFIED:20171226T232033Z
UID:1008-1516905000-1516912200@farmschoolonlosrios.com
SUMMARY:Winner Winner  Sheet Pan Dinner!
DESCRIPTION:We take one-pot wonders to a new level – the sheet pan!  Our menu includes Sheet Pan Chicken with Sourdough & Bacon\, a Sheet Pan Roasted Swordfish & Broccoli with Picatta Butter\, Sheet Pan Garlic & Parsley Mushrooms\, and an Arugula & Apple Salad with Shaved Parmesan.
URL:https://farmschoolonlosrios.com/event/winner-winner-sheet-pan-dinner-3/
CATEGORIES:Classes
END:VEVENT
BEGIN:VEVENT
DTSTART;TZID=UTC:20180118T183000
DTEND;TZID=UTC:20180118T203000
DTSTAMP:20260420T042543
CREATED:20171226T231704Z
LAST-MODIFIED:20171226T231704Z
UID:1006-1516300200-1516307400@farmschoolonlosrios.com
SUMMARY:Under the Sea...food
DESCRIPTION:Tonight we go under the sea and learn to make a Smoked Trout Mousse with Cucumber\, Salmon & Cauliflower Chowder with Roasted Cherry Tomatoes\, a Greek Orzo with Prawns\, and our favorite Caesar Salad with Homemade Croutons.
URL:https://farmschoolonlosrios.com/event/under-the-sea-food/
CATEGORIES:Classes
END:VEVENT
BEGIN:VEVENT
DTSTART;TZID=UTC:20180112T183000
DTEND;TZID=UTC:20180112T213000
DTSTAMP:20260420T042543
CREATED:20171226T232348Z
LAST-MODIFIED:20171226T232348Z
UID:1010-1515781800-1515792600@farmschoolonlosrios.com
SUMMARY:Supper Club - Italian Delight
DESCRIPTION:Join our supper club tonight as we create a delightful Italian dinner.  Our menu includes Roasted Cherry Tomatoes Caprese with Toasted Ciabatta\, our fantastic Bit Italian Salad\, Arborio Rice & Italian Sausage Timbale\, Parmesan Roasted Fennel\, and our Italian Orange Pound Cake. \nPrice Per Couple
URL:https://farmschoolonlosrios.com/event/supper-club-italian-delight/
CATEGORIES:Date Night
END:VEVENT
BEGIN:VEVENT
DTSTART;TZID=UTC:20180111T183000
DTEND;TZID=UTC:20180111T203000
DTSTAMP:20260420T042543
CREATED:20171226T231343Z
LAST-MODIFIED:20171226T231343Z
UID:1004-1515695400-1515702600@farmschoolonlosrios.com
SUMMARY:Cozy Casseroles
DESCRIPTION:Start the year off right with some cozy casseroles!  Our menu includes Baked Macaroni & Cheese\, Spaghetti Squash Casserole with Italian Sausage\, Tomatoes & Garlic\, a Mediterranean Chicken Casserole\, paired with a Kale\, Apple & Fennel Slaw.
URL:https://farmschoolonlosrios.com/event/cozy-casseroles/
CATEGORIES:Classes
END:VEVENT
BEGIN:VEVENT
DTSTART;TZID=UTC:20180110T183000
DTEND;TZID=UTC:20180110T203000
DTSTAMP:20260420T042543
CREATED:20180104T023636Z
LAST-MODIFIED:20180104T023636Z
UID:1016-1515609000-1515616200@farmschoolonlosrios.com
SUMMARY:Private Gathering
DESCRIPTION:
URL:https://farmschoolonlosrios.com/event/private-gathering-25/
CATEGORIES:Private Gathering
END:VEVENT
BEGIN:VEVENT
DTSTART;TZID=UTC:20180104T183000
DTEND;TZID=UTC:20180104T203000
DTSTAMP:20260420T042543
CREATED:20171226T230931Z
LAST-MODIFIED:20171226T230940Z
UID:1002-1515090600-1515097800@farmschoolonlosrios.com
SUMMARY:Private Gathering
DESCRIPTION:
URL:https://farmschoolonlosrios.com/event/private-gathering-24/
CATEGORIES:Private Gathering
END:VEVENT
BEGIN:VEVENT
DTSTART;TZID=UTC:20171215T183000
DTEND;TZID=UTC:20171215T213000
DTSTAMP:20260420T042543
CREATED:20171101T040445Z
LAST-MODIFIED:20171101T040445Z
UID:997-1513362600-1513373400@farmschoolonlosrios.com
SUMMARY:Entertaining Hors d'Oeuvres - Supper Club
DESCRIPTION:A collection of small plates suitable for the holidays.  Our menu includes Pear & Prosciutto Bruschetta with Pomegranate Molasses\, Roasted Shrimp Cocktail with Spicy Dipping Sauce\, Spicy Thai Salad in Wonton Cups\, Tuscan Cocktail Ribs\, a Baked Brie with Pear Chutney\, and Chocolate Chip Cannoli Cups. \nPrice per couple
URL:https://farmschoolonlosrios.com/event/entertaining-hors-doeuvres-supper-club/
CATEGORIES:Date Night
END:VEVENT
BEGIN:VEVENT
DTSTART;TZID=UTC:20171214T183000
DTEND;TZID=UTC:20171214T203000
DTSTAMP:20260420T042543
CREATED:20171101T040716Z
LAST-MODIFIED:20171101T040716Z
UID:999-1513276200-1513283400@farmschoolonlosrios.com
SUMMARY:A Cozy Supper
DESCRIPTION:Tonight we warm things up with a Caramelized Onion & Bacon Dip\, Butternut Squash Bisque with Ginger Creme Fraiche\, Rustic Chicken & Brie Tart\, and Caramel Oatmeal Cookie Bars.
URL:https://farmschoolonlosrios.com/event/a-cozy-supper/
CATEGORIES:Classes
END:VEVENT
BEGIN:VEVENT
DTSTART;TZID=UTC:20171207T183000
DTEND;TZID=UTC:20171207T203000
DTSTAMP:20260420T042543
CREATED:20171027T021642Z
LAST-MODIFIED:20171027T021642Z
UID:992-1512671400-1512678600@farmschoolonlosrios.com
SUMMARY:Private Gathering
DESCRIPTION:
URL:https://farmschoolonlosrios.com/event/private-gathering-23/
CATEGORIES:Private Gathering
END:VEVENT
BEGIN:VEVENT
DTSTART;TZID=UTC:20171201T183000
DTEND;TZID=UTC:20171201T213000
DTSTAMP:20260420T042543
CREATED:20171101T035736Z
LAST-MODIFIED:20171101T035736Z
UID:995-1512153000-1512163800@farmschoolonlosrios.com
SUMMARY:Seasonal Dinner Party - Supper Club
DESCRIPTION:Join us with your special someone for a Seasonal Dinner Party.  Our menu tonight includes Crostini with Roasted Grapes\, Gorgonzola & Pecans\, a Chopped Salad with Bacon\, Celery\, Golden Raisins\, Pomegranate seeds with a Balsamic Dressing\, Spiced Pork Tenderloin with Apple Chutney\, Baked French Rice\, and a Pear Galette. \nPrice per couple
URL:https://farmschoolonlosrios.com/event/seasonal-dinner-party-supper-club/
CATEGORIES:Date Night
END:VEVENT
BEGIN:VEVENT
DTSTART;TZID=UTC:20171130T183000
DTEND;TZID=UTC:20171130T203000
DTSTAMP:20260420T042543
CREATED:20171027T020818Z
LAST-MODIFIED:20171027T020818Z
UID:988-1512066600-1512073800@farmschoolonlosrios.com
SUMMARY:Private Gathering
DESCRIPTION:St. Margarets
URL:https://farmschoolonlosrios.com/event/private-gathering-21/
CATEGORIES:Private Gathering
END:VEVENT
BEGIN:VEVENT
DTSTART;TZID=UTC:20171117T183000
DTEND;TZID=UTC:20171117T213000
DTSTAMP:20260420T042543
CREATED:20171027T020939Z
LAST-MODIFIED:20171027T020939Z
UID:990-1510943400-1510954200@farmschoolonlosrios.com
SUMMARY:Private Gathering
DESCRIPTION:
URL:https://farmschoolonlosrios.com/event/private-gathering-22/
CATEGORIES:Private Gathering
END:VEVENT
BEGIN:VEVENT
DTSTART;TZID=UTC:20171116T183000
DTEND;TZID=UTC:20171116T203000
DTSTAMP:20260420T042543
CREATED:20170804T035418Z
LAST-MODIFIED:20171027T020209Z
UID:972-1510857000-1510864200@farmschoolonlosrios.com
SUMMARY:A Taste of Autumn
DESCRIPTION:Ahhh\, Autumn in San Juan.  Tonight we create Flatbreads with Roasted Grapes & Smoked Gouda\, Fall Chopped Salad with Poppy Seed Dressing\, Brown Sugar & Ginger Roasted Pork Tenderloin with Maple Apples\, and some Ooey Gooey Pumpkin Bars.
URL:https://farmschoolonlosrios.com/event/a-taste-of-autumn/
CATEGORIES:Classes
END:VEVENT
BEGIN:VEVENT
DTSTART;TZID=UTC:20171115T183000
DTEND;TZID=UTC:20171115T203000
DTSTAMP:20260420T042543
CREATED:20171027T020720Z
LAST-MODIFIED:20171027T020833Z
UID:986-1510770600-1510777800@farmschoolonlosrios.com
SUMMARY:Private Gathering
DESCRIPTION:St. Margarets
URL:https://farmschoolonlosrios.com/event/private-gathering-20/
CATEGORIES:Private Gathering
END:VEVENT
BEGIN:VEVENT
DTSTART;TZID=UTC:20171109T183000
DTEND;TZID=UTC:20171109T203000
DTSTAMP:20260420T042543
CREATED:20171027T020605Z
LAST-MODIFIED:20171027T020605Z
UID:984-1510252200-1510259400@farmschoolonlosrios.com
SUMMARY:Private Gathering
DESCRIPTION:
URL:https://farmschoolonlosrios.com/event/private-gathering-19/
CATEGORIES:Private Gathering
END:VEVENT
BEGIN:VEVENT
DTSTART;TZID=UTC:20171102T183000
DTEND;TZID=UTC:20171102T203000
DTSTAMP:20260420T042543
CREATED:20170804T035129Z
LAST-MODIFIED:20170804T035129Z
UID:970-1509647400-1509654600@farmschoolonlosrios.com
SUMMARY:Simple Salmon Dinner
DESCRIPTION:On the menu tonight is a Roasted Salmon with Grainy Mustard Vinaigrette\, a Kale & Quinoa Pilaf with Lemon & Goat Cheese\, Roasted Brussels Sprouts with Pancetta\, and a Simple Apple Tart.
URL:https://farmschoolonlosrios.com/event/simple-salmon-dinner/
CATEGORIES:Classes
END:VEVENT
BEGIN:VEVENT
DTSTART;TZID=UTC:20171028T173000
DTEND;TZID=UTC:20171028T203000
DTSTAMP:20260420T042543
CREATED:20171027T020411Z
LAST-MODIFIED:20171027T020411Z
UID:981-1509211800-1509222600@farmschoolonlosrios.com
SUMMARY:Private Gathering
DESCRIPTION:
URL:https://farmschoolonlosrios.com/event/private-gathering-18/
CATEGORIES:Private Gathering
END:VEVENT
BEGIN:VEVENT
DTSTART;TZID=UTC:20171027T180000
DTEND;TZID=UTC:20171027T203000
DTSTAMP:20260420T042543
CREATED:20170721T023027Z
LAST-MODIFIED:20170721T023150Z
UID:947-1509127200-1509136200@farmschoolonlosrios.com
SUMMARY:Rancho Viejo Harvest Party
DESCRIPTION:At Rancho Viejo Montessori School
URL:https://farmschoolonlosrios.com/event/rancho-viejo-harvest-party/
CATEGORIES:Special Event
END:VEVENT
BEGIN:VEVENT
DTSTART;TZID=UTC:20171026T183000
DTEND;TZID=UTC:20171026T203000
DTSTAMP:20260420T042543
CREATED:20170804T034853Z
LAST-MODIFIED:20170804T034853Z
UID:968-1509042600-1509049800@farmschoolonlosrios.com
SUMMARY:Autumn Apple Harvest
DESCRIPTION:Join us tonight as we create a Smoked Turkey\, Apple & Brie Monte Cristo\, some Spiced Pork Chops with Apple Chutney\, a Waldorf Salad\, and our Farm School Apple & Golden Raisin Tart.
URL:https://farmschoolonlosrios.com/event/autumn-apple-harvest/
CATEGORIES:Classes
END:VEVENT
BEGIN:VEVENT
DTSTART;TZID=UTC:20171021T173000
DTEND;TZID=UTC:20171021T213000
DTSTAMP:20260420T042543
CREATED:20170721T022833Z
LAST-MODIFIED:20170721T022853Z
UID:945-1508607000-1508621400@farmschoolonlosrios.com
SUMMARY:Rancho Viejo School Annual Dinner
DESCRIPTION:
URL:https://farmschoolonlosrios.com/event/rancho-viejo-school-annual-dinner/
CATEGORIES:Special Event
END:VEVENT
BEGIN:VEVENT
DTSTART;TZID=UTC:20171019T183000
DTEND;TZID=UTC:20171019T203000
DTSTAMP:20260420T042543
CREATED:20170804T034528Z
LAST-MODIFIED:20170804T034528Z
UID:966-1508437800-1508445000@farmschoolonlosrios.com
SUMMARY:A Selection of Soups
DESCRIPTION:Tonight our mostly vegetarian menu includes Tortilla Soup with Charred Corn\, Smokey Minestrone with Parsley Pesto\, White Bean Soup with Pumpkin & Swiss Chard\, and some Whole Grain Beer Bread.
URL:https://farmschoolonlosrios.com/event/a-selection-of-soups/
CATEGORIES:Classes
END:VEVENT
BEGIN:VEVENT
DTSTART;TZID=UTC:20171013T183000
DTEND;TZID=UTC:20171013T213000
DTSTAMP:20260420T042543
CREATED:20170721T022553Z
LAST-MODIFIED:20170804T005748Z
UID:941-1507919400-1507930200@farmschoolonlosrios.com
SUMMARY:The Ultimate Grill Out - Supper Club
DESCRIPTION:Tonight our menu includes Grilled Ciabatta with 4 Cheese\, Apricot Chutney & Arugula\, a Grilled Caesar Salad\, Honey Butter Grilled Chicken with Lemon-Parsley Sauce\, Flame Licked Fingerling Potatoes\, and Grilled Bananas with Vanilla Ice Cream & Hot Fudge.  Hot Fudge! \nPrice per couple
URL:https://farmschoolonlosrios.com/event/supper-club-3/
CATEGORIES:Date Night
END:VEVENT
BEGIN:VEVENT
DTSTART;TZID=UTC:20171012T183000
DTEND;TZID=UTC:20171012T203000
DTSTAMP:20260420T042543
CREATED:20170804T035741Z
LAST-MODIFIED:20170804T035741Z
UID:978-1507833000-1507840200@farmschoolonlosrios.com
SUMMARY:Private Gathering
DESCRIPTION:
URL:https://farmschoolonlosrios.com/event/private-gathering-17/
CATEGORIES:Private Gathering
END:VEVENT
BEGIN:VEVENT
DTSTART;TZID=UTC:20171011T183000
DTEND;TZID=UTC:20171011T203000
DTSTAMP:20260420T042543
CREATED:20170804T035659Z
LAST-MODIFIED:20170804T035659Z
UID:976-1507746600-1507753800@farmschoolonlosrios.com
SUMMARY:Private Gathering
DESCRIPTION:
URL:https://farmschoolonlosrios.com/event/private-gathering-16/
CATEGORIES:Private Gathering
END:VEVENT
END:VCALENDAR