BEGIN:VCALENDAR
VERSION:2.0
PRODID:-//Farm School on Los Rios Street | San Juan Capistrano, CA - ECPv6.15.20//NONSGML v1.0//EN
CALSCALE:GREGORIAN
METHOD:PUBLISH
X-ORIGINAL-URL:https://farmschoolonlosrios.com
X-WR-CALDESC:Events for Farm School on Los Rios Street | San Juan Capistrano, CA
REFRESH-INTERVAL;VALUE=DURATION:PT1H
X-Robots-Tag:noindex
X-PUBLISHED-TTL:PT1H
BEGIN:VTIMEZONE
TZID:America/Los_Angeles
BEGIN:DAYLIGHT
TZOFFSETFROM:-0800
TZOFFSETTO:-0700
TZNAME:PDT
DTSTART:20170312T100000
END:DAYLIGHT
BEGIN:STANDARD
TZOFFSETFROM:-0700
TZOFFSETTO:-0800
TZNAME:PST
DTSTART:20171105T090000
END:STANDARD
BEGIN:DAYLIGHT
TZOFFSETFROM:-0800
TZOFFSETTO:-0700
TZNAME:PDT
DTSTART:20180311T100000
END:DAYLIGHT
BEGIN:STANDARD
TZOFFSETFROM:-0700
TZOFFSETTO:-0800
TZNAME:PST
DTSTART:20181104T090000
END:STANDARD
BEGIN:DAYLIGHT
TZOFFSETFROM:-0800
TZOFFSETTO:-0700
TZNAME:PDT
DTSTART:20190310T100000
END:DAYLIGHT
BEGIN:STANDARD
TZOFFSETFROM:-0700
TZOFFSETTO:-0800
TZNAME:PST
DTSTART:20191103T090000
END:STANDARD
END:VTIMEZONE
BEGIN:VTIMEZONE
TZID:UTC
BEGIN:STANDARD
TZOFFSETFROM:+0000
TZOFFSETTO:+0000
TZNAME:UTC
DTSTART:20170101T000000
END:STANDARD
END:VTIMEZONE
BEGIN:VEVENT
DTSTART;TZID=America/Los_Angeles:20181115T183000
DTEND;TZID=America/Los_Angeles:20181115T203000
DTSTAMP:20260419T213953
CREATED:20180928T193022Z
LAST-MODIFIED:20180928T193022Z
UID:1157-1542306600-1542313800@farmschoolonlosrios.com
SUMMARY:Spectacular Thanksgiving Sides
DESCRIPTION:With Thanksgiving right around the corner\, come learn to create a few new and improved side dishes!  We will create an Autumn Salad of Baby Kale\, Roasted Delicata Squash\, Persimmons & Toasted Sunflower Seeds with a Honey-Dijon Dressing.  How about The Greatest Make-Ahead Mashed Potatoes.  We will make a Wild and Brown Rice dish with Caramelized Onions\, Dried Cherries\, Orange & Pine Nuts.  And Garlic Roasted Green Beans with Cranberries\, Toasted Walnuts & Balsamic.
URL:https://farmschoolonlosrios.com/event/spectacular-thanksgiving-sides/
CATEGORIES:Classes
END:VEVENT
BEGIN:VEVENT
DTSTART;TZID=America/Los_Angeles:20181108T183000
DTEND;TZID=America/Los_Angeles:20181108T203000
DTSTAMP:20260419T213953
CREATED:20180928T191512Z
LAST-MODIFIED:20180928T191512Z
UID:1155-1541701800-1541709000@farmschoolonlosrios.com
SUMMARY:Pizza from Scratch
DESCRIPTION:This is our popular Pizza Class.  Learn to make our foolproof Master Pizza Dough (in three variations!)  From there we create a Hearty Whole Wheat Pizza with Caramelized Onions\, Bacon & Gruyere.  Also a Cornmeal Crust Pizza with Fresh Mozzarella\, Smoke Mozzarella\, Roasted Butternut Squash\, Fried Sage & Toasted Walnuts.  And finally\, a Stuffed Crust Pepperoni & Mushroom Pizza with the easiest red sauce ever!
URL:https://farmschoolonlosrios.com/event/pizza-from-scratch/
CATEGORIES:Classes
END:VEVENT
BEGIN:VEVENT
DTSTART;TZID=America/Los_Angeles:20181101T183000
DTEND;TZID=America/Los_Angeles:20181101T203000
DTSTAMP:20260419T213953
CREATED:20180928T191159Z
LAST-MODIFIED:20180928T191159Z
UID:1153-1541097000-1541104200@farmschoolonlosrios.com
SUMMARY:An Apple a Day
DESCRIPTION:Tonight we celebrate the Apple!  Our menu includes Curried Chicken & Apple Tartlets\, Pan Seared Sausage with Lady Apples & Watercress\, Roasted Brussels Sprouts & Apple with Mint\, and a Dutch Apple Pie in a Bag.
URL:https://farmschoolonlosrios.com/event/an-apple-a-day/
CATEGORIES:Classes
END:VEVENT
BEGIN:VEVENT
DTSTART;TZID=America/Los_Angeles:20181025T183000
DTEND;TZID=America/Los_Angeles:20181025T203000
DTSTAMP:20260419T213953
CREATED:20180919T022806Z
LAST-MODIFIED:20180928T194913Z
UID:1126-1540492200-1540499400@farmschoolonlosrios.com
SUMMARY:Sheet Pan Dinner
DESCRIPTION:
URL:https://farmschoolonlosrios.com/event/cooking-class/
CATEGORIES:Classes
END:VEVENT
BEGIN:VEVENT
DTSTART;TZID=America/Los_Angeles:20181018T183000
DTEND;TZID=America/Los_Angeles:20181018T203000
DTSTAMP:20260419T213953
CREATED:20180919T023955Z
LAST-MODIFIED:20180919T023955Z
UID:1150-1539887400-1539894600@farmschoolonlosrios.com
SUMMARY:Private Gathering
DESCRIPTION:
URL:https://farmschoolonlosrios.com/event/private-gathering-29/
CATEGORIES:Private Gathering
END:VEVENT
BEGIN:VEVENT
DTSTART;TZID=America/Los_Angeles:20181017T183000
DTEND;TZID=America/Los_Angeles:20181017T203000
DTSTAMP:20260419T213953
CREATED:20180919T023920Z
LAST-MODIFIED:20180919T023920Z
UID:1148-1539801000-1539808200@farmschoolonlosrios.com
SUMMARY:Private Gathering
DESCRIPTION:J. Serra
URL:https://farmschoolonlosrios.com/event/private-gathering-28/
CATEGORIES:Private Gathering
END:VEVENT
BEGIN:VEVENT
DTSTART;TZID=America/Los_Angeles:20181005T183000
DTEND;TZID=America/Los_Angeles:20181005T213000
DTSTAMP:20260419T213953
CREATED:20180919T022720Z
LAST-MODIFIED:20180919T022720Z
UID:1124-1538764200-1538775000@farmschoolonlosrios.com
SUMMARY:Private Gathering
DESCRIPTION:Oktoberfest \nPrice Per Couple
URL:https://farmschoolonlosrios.com/event/private-gathering-27/
CATEGORIES:Private Gathering
END:VEVENT
BEGIN:VEVENT
DTSTART;TZID=UTC:20180927T183000
DTEND;TZID=UTC:20180927T203000
DTSTAMP:20260419T213953
CREATED:20180808T002701Z
LAST-MODIFIED:20180919T022137Z
UID:1114-1538073000-1538080200@farmschoolonlosrios.com
SUMMARY:Private Gathering
DESCRIPTION:  \n 
URL:https://farmschoolonlosrios.com/event/taste-of-greece/
CATEGORIES:Classes
END:VEVENT
BEGIN:VEVENT
DTSTART;TZID=UTC:20180915T183000
DTEND;TZID=UTC:20180915T213000
DTSTAMP:20260419T213953
CREATED:20180808T002311Z
LAST-MODIFIED:20180808T002311Z
UID:1112-1537036200-1537047000@farmschoolonlosrios.com
SUMMARY:Private
DESCRIPTION:
URL:https://farmschoolonlosrios.com/event/private-12/
CATEGORIES:Private Gathering
END:VEVENT
BEGIN:VEVENT
DTSTART;TZID=UTC:20180913T173000
DTEND;TZID=UTC:20180913T203000
DTSTAMP:20260419T213953
CREATED:20180808T002239Z
LAST-MODIFIED:20180808T002239Z
UID:1110-1536859800-1536870600@farmschoolonlosrios.com
SUMMARY:Private
DESCRIPTION:
URL:https://farmschoolonlosrios.com/event/private-11/
CATEGORIES:Private Gathering
END:VEVENT
BEGIN:VEVENT
DTSTART;TZID=UTC:20180907T183000
DTEND;TZID=UTC:20180907T213000
DTSTAMP:20260419T213953
CREATED:20180808T001459Z
LAST-MODIFIED:20180808T001459Z
UID:1106-1536345000-1536355800@farmschoolonlosrios.com
SUMMARY:Late Summer Supper Club
DESCRIPTION:Join us tonight as summer slowly turns into autumn.  Our menu includes Caramelized Plums with Creamy Goat Cheese & Honey\, Roasted Vegetable Panzanella\, Herb Rubbed Pork Tenderloin with Romesco\, a Cauliflower Puree\, and a Rustic Apple Tart. \nPrice Per Couple
URL:https://farmschoolonlosrios.com/event/late-summer-supper-club/
CATEGORIES:Date Night
END:VEVENT
BEGIN:VEVENT
DTSTART;TZID=UTC:20180906T183000
DTEND;TZID=UTC:20180906T203000
DTSTAMP:20260419T213953
CREATED:20180808T002128Z
LAST-MODIFIED:20180808T002128Z
UID:1108-1536258600-1536265800@farmschoolonlosrios.com
SUMMARY:Picture Perfect Platters
DESCRIPTION:Tonight we will create two amazing platters.  Perfect for entertaining! \nThe Mezze Platter: We’ll design a gorgeous mezze platter with  homemade hummus and house marinated feta along with cool tzatziki\, warm garlicky olives\, cucumber slices\, roasted bell peppers and Middle Eastern Flatbread. \nCheese and Charcuterie Board: We will create a delicious and beautiful platter with artisanal cheeses\, a selection of excellent cured meats\, homemade fruit chutney\, quick pickles\, roasted grapes\, baguette slices & crackers.
URL:https://farmschoolonlosrios.com/event/picture-perfect-platters/
CATEGORIES:Classes
END:VEVENT
BEGIN:VEVENT
DTSTART;TZID=UTC:20180830T183000
DTEND;TZID=UTC:20180830T203000
DTSTAMP:20260419T213953
CREATED:20180610T000538Z
LAST-MODIFIED:20180720T230732Z
UID:1098-1535653800-1535661000@farmschoolonlosrios.com
SUMMARY:Summertime Favorites
DESCRIPTION:Summer cooking with a touch of elegance!  Tonight our menu includes Celery & Arugula Salad with Dates & Pickled Mustard Seeds\, Roasted Saffron Lemon Chicken Thighs\, Baked French Rice\, and Fresh Berry & Angels Food Cake Trifle.
URL:https://farmschoolonlosrios.com/event/end-of-summer-blues/
CATEGORIES:Classes
END:VEVENT
BEGIN:VEVENT
DTSTART;TZID=UTC:20180817T183000
DTEND;TZID=UTC:20180817T213000
DTSTAMP:20260419T213953
CREATED:20180610T000456Z
LAST-MODIFIED:20180610T000456Z
UID:1096-1534530600-1534541400@farmschoolonlosrios.com
SUMMARY:Ultimate Cookout - Supper Club
DESCRIPTION:Experience the ultimate in cookout cuisine!  We start with the Grilled Cheese Sandwich: four cheeses and homemade apricot chutney\, Grilled Cauliflower Steaks with Chimichurri\, Garlic Marinated Short Rib Kabobs\, Grilled Watermelon Caprese with Balsamic Glaze\, and a Farm Fresh Deconstructed Seasonal Fruit Cheesecake – using whatever is ripe from our gardens! \nPrice Per Couple
URL:https://farmschoolonlosrios.com/event/ultimate-cookout-supper-club/
CATEGORIES:Date Night
END:VEVENT
BEGIN:VEVENT
DTSTART;TZID=UTC:20180815T183000
DTEND;TZID=UTC:20180815T203000
DTSTAMP:20260419T213953
CREATED:20180720T230833Z
LAST-MODIFIED:20180720T230833Z
UID:1103-1534357800-1534365000@farmschoolonlosrios.com
SUMMARY:Private Party
DESCRIPTION:
URL:https://farmschoolonlosrios.com/event/private-party-14/
CATEGORIES:Private Gathering
END:VEVENT
BEGIN:VEVENT
DTSTART;TZID=UTC:20180809T183000
DTEND;TZID=UTC:20180809T203000
DTSTAMP:20260419T213953
CREATED:20180610T000053Z
LAST-MODIFIED:20180720T230758Z
UID:1094-1533839400-1533846600@farmschoolonlosrios.com
SUMMARY:Private Party
DESCRIPTION:
URL:https://farmschoolonlosrios.com/event/summertime-favorites/
CATEGORIES:Private Gathering
END:VEVENT
BEGIN:VEVENT
DTSTART;TZID=UTC:20180720T183000
DTEND;TZID=UTC:20180720T213000
DTSTAMP:20260419T213953
CREATED:20180609T235630Z
LAST-MODIFIED:20180609T235630Z
UID:1092-1532111400-1532122200@farmschoolonlosrios.com
SUMMARY:Backyard Grilling - Supper Club
DESCRIPTION:Join us under the lights as we get our grill on!  Tonight our menu includes Grilled Avocados with Blistered Tomato & Pepper Salsa\, Pork Tenderloin\, Sweet Onion & Peach Skewers with Sweet & Spicy Red Pepper Glaze\, Grilled Halloumi & Quinoa Salad\, Charred Broccoli with Lemon-Herb Drizzle\, and S’mores Skillet Brownie. \nPrice Per Couple
URL:https://farmschoolonlosrios.com/event/backyard-grilling-supper-club/
CATEGORIES:Date Night
END:VEVENT
BEGIN:VEVENT
DTSTART;TZID=UTC:20180719T183000
DTEND;TZID=UTC:20180719T203000
DTSTAMP:20260419T213953
CREATED:20180609T234814Z
LAST-MODIFIED:20180609T234814Z
UID:1090-1532025000-1532032200@farmschoolonlosrios.com
SUMMARY:Hot Nights - Small Plates
DESCRIPTION:On a hot summer night what can be better than cool small plates?  Tonight we create our Sea Scallop BLT\, and Cucumber Cups with Asian Salad\, a Crostini with Thyme-scented Nectarines\, Honeyed Chevre & Prosciutto\, and delicious Chocolate Cannoli Cups.
URL:https://farmschoolonlosrios.com/event/hot-nights-small-plates/
CATEGORIES:Classes
END:VEVENT
BEGIN:VEVENT
DTSTART;TZID=UTC:20180712T183000
DTEND;TZID=UTC:20180712T203000
DTSTAMP:20260419T213953
CREATED:20180609T234352Z
LAST-MODIFIED:20180609T234352Z
UID:1088-1531420200-1531427400@farmschoolonlosrios.com
SUMMARY:Celebrating the Tomato
DESCRIPTION:Tomato season is in full swing!  Join us tonight as we make our Farm School Garden Gazpacho\, a Tomato Stack with Corn\, Avocado & Homemade Buttermilk Dressing\, Spaghetti with Fresh Tomatoes and Basil\, and a Seasonal Fruit Crisp.
URL:https://farmschoolonlosrios.com/event/celebrating-the-tomato/
CATEGORIES:Classes
END:VEVENT
BEGIN:VEVENT
DTSTART;TZID=UTC:20180622T183000
DTEND;TZID=UTC:20180622T213000
DTSTAMP:20260419T213953
CREATED:20180322T073651Z
LAST-MODIFIED:20180327T013123Z
UID:1084-1529692200-1529703000@farmschoolonlosrios.com
SUMMARY:The Farm School Summer Garden - Supper Club
DESCRIPTION:Join us this evening to celebrate the garden!  Our menu includes Crostini with Fresh Peaches\, Creamy Burrata and fresh Pesto\, Chilled Zucchini Soup with Arugula\, Pasta with Burst Tomatoes\, Salmon & Mascarpone\, Fresh Corn Salad\, and a Rustic Stone Fruit Crostata with Lemon Whipped Cream. \nPrice per couple
URL:https://farmschoolonlosrios.com/event/the-farm-school-summer-garden-supper-club/
CATEGORIES:Date Night
END:VEVENT
BEGIN:VEVENT
DTSTART;TZID=UTC:20180621T183000
DTEND;TZID=UTC:20180621T203000
DTSTAMP:20260419T213953
CREATED:20180322T072829Z
LAST-MODIFIED:20180515T035951Z
UID:1080-1529605800-1529613000@farmschoolonlosrios.com
SUMMARY:Summertime Pizzas
DESCRIPTION:Come and learn to make the Master Pizza Dough!  From there we can create almost any style pizza.  Tonight we will make a Greek Islands Pizza and a Pizza topped with Chopped Salad & Prosciutto.  We will finish it off with a dessert pizza\, with fresh fruit\, whipped honey mascarpone & candied pecans.
URL:https://farmschoolonlosrios.com/event/summertime-pizzas/
CATEGORIES:Classes
END:VEVENT
BEGIN:VEVENT
DTSTART;TZID=UTC:20180607T183000
DTEND;TZID=UTC:20180607T203000
DTSTAMP:20260419T213953
CREATED:20180322T072210Z
LAST-MODIFIED:20180327T012633Z
UID:1078-1528396200-1528403400@farmschoolonlosrios.com
SUMMARY:Summery Small Bites
DESCRIPTION:Tonight our menu includes Apricot & Brie Bites with Fresh Basil\, Deviled Eggs with Mascarpone & Caviar\, Sea Scallop BLT\, and Mini Chocolate Strawberry Tarts with Whipped Cream.
URL:https://farmschoolonlosrios.com/event/summery-small-bites/
CATEGORIES:Classes
END:VEVENT
BEGIN:VEVENT
DTSTART;TZID=UTC:20180601T183000
DTEND;TZID=UTC:20180601T203000
DTSTAMP:20260419T213953
CREATED:20180322T073334Z
LAST-MODIFIED:20180327T012605Z
UID:1082-1527877800-1527885000@farmschoolonlosrios.com
SUMMARY:Ease into Grilling - Supper Club
DESCRIPTION:Join us under the lights as we take our cooking out of doors.  Tonight our menu includes Grilled Wheel of Brie with Honey & Rustic Toasts\, Skirt Steak with Chimichurri\, Grilled Corn on the Cob with Chili Lime Butter\, Olive Oil Roasted Fingerling Potatoes\, and Grilled Strawberry Shortcake with Vanilla Cream. \nPrice per couple.
URL:https://farmschoolonlosrios.com/event/ease-into-grilling-supper-club/
CATEGORIES:Date Night
END:VEVENT
BEGIN:VEVENT
DTSTART;TZID=UTC:20180531T183000
DTEND;TZID=UTC:20180531T203000
DTSTAMP:20260419T213953
CREATED:20180322T071938Z
LAST-MODIFIED:20180327T012532Z
UID:1076-1527791400-1527798600@farmschoolonlosrios.com
SUMMARY:Dinner Salads for Hot Summer Nights
DESCRIPTION:Join us this evening as we create some fantastic dinner salads.  Our menu includes the Classic Chinese Chicken Salad\, Soba Noodle Salad with Miso Pesto and Roasted Shrimp\, Steak Salad with Bleu Cheese Dressing and Cornbread Croutons\, and some Whole Grain Beer Bread!
URL:https://farmschoolonlosrios.com/event/dinner-salads-for-hot-summer-nights/
CATEGORIES:Classes
END:VEVENT
BEGIN:VEVENT
DTSTART;TZID=UTC:20180524T183000
DTEND;TZID=UTC:20180524T203000
DTSTAMP:20260419T213953
CREATED:20180322T064709Z
LAST-MODIFIED:20180327T012456Z
UID:1074-1527186600-1527193800@farmschoolonlosrios.com
SUMMARY:American Classics
DESCRIPTION:In honor of Memorial Day\, join us as we go old school.  Our menu includes Classic Buttermilk Biscuits with Honey Butter\, Old-fashioned Meatloaf\, Brown Sugar & Molasses Bake Beans and a Patriotic Trifle with Berries\, Angel Food Cake & Whipped Cream.
URL:https://farmschoolonlosrios.com/event/american-classics/
CATEGORIES:Classes
END:VEVENT
BEGIN:VEVENT
DTSTART;TZID=UTC:20180517T183000
DTEND;TZID=UTC:20180517T203000
DTSTAMP:20260419T213953
CREATED:20180322T064410Z
LAST-MODIFIED:20180327T012213Z
UID:1072-1526581800-1526589000@farmschoolonlosrios.com
SUMMARY:Citrus in Season!
DESCRIPTION:Tonight our zesty menu includes Zucchini Fritters with Lemon-Basil Cream\, Roasted Chicken with Kumquats\, Grape Tomatoes & Baby Potatoes\, Fresh Asparagus with Lemon-Shallot Vinaigrette\, and the Farm School Orange & Thyme Pound Cake.
URL:https://farmschoolonlosrios.com/event/citrus-in-season/
CATEGORIES:Classes
END:VEVENT
BEGIN:VEVENT
DTSTART;TZID=UTC:20180510T183000
DTEND;TZID=UTC:20180510T203000
DTSTAMP:20260419T213953
CREATED:20180202T062028Z
LAST-MODIFIED:20180322T063305Z
UID:1043-1525977000-1525984200@farmschoolonlosrios.com
SUMMARY:Lady Lions
DESCRIPTION:
URL:https://farmschoolonlosrios.com/event/lady-lions/
CATEGORIES:Private Gathering
END:VEVENT
BEGIN:VEVENT
DTSTART;TZID=UTC:20180509T183000
DTEND;TZID=UTC:20180509T203000
DTSTAMP:20260419T213953
CREATED:20180202T062102Z
LAST-MODIFIED:20180322T063218Z
UID:1045-1525890600-1525897800@farmschoolonlosrios.com
SUMMARY:Lady Lions
DESCRIPTION:
URL:https://farmschoolonlosrios.com/event/lady-lions-2/
CATEGORIES:Private Gathering
END:VEVENT
BEGIN:VEVENT
DTSTART;TZID=UTC:20180504T183000
DTEND;TZID=UTC:20180504T213000
DTSTAMP:20260419T213953
CREATED:20180322T063955Z
LAST-MODIFIED:20180327T012137Z
UID:1069-1525458600-1525469400@farmschoolonlosrios.com
SUMMARY:Celebrating Cinco de Mayo - Supper Club
DESCRIPTION:Join us a day early to celebrate Cinco De Mayo!  Tonight our menu includes Roasted Chipotle Shrimp Cocktail\, Chicken in Mole Poblano\, Arros Rojo\, Mexican Street Corn Salad\, and a Mexican Hot Fudge Sundae. \nPrice per couple
URL:https://farmschoolonlosrios.com/event/celebrating-cinco-de-mayo-supper-club/
CATEGORIES:Date Night
END:VEVENT
BEGIN:VEVENT
DTSTART;TZID=UTC:20180427T183000
DTEND;TZID=UTC:20180427T213000
DTSTAMP:20260419T213953
CREATED:20180322T062619Z
LAST-MODIFIED:20180322T062619Z
UID:1064-1524853800-1524864600@farmschoolonlosrios.com
SUMMARY:Private Event
DESCRIPTION:
URL:https://farmschoolonlosrios.com/event/private-event-15/
CATEGORIES:Private Gathering
END:VEVENT
END:VCALENDAR